Workbook

Sheet stand totaal
B1: Periode stand | C1: 1e periode
A2: Per-1 | B2: C1-klasse | C2: 1 | D2: 2 | E2: 3 | F2: 4 | G2: 5 | H2: 6 | I2: 7 | J2: 8 | K2: 9 | L2: 10 | M2: 11 | N2: % car | O2: std
A4: 1 | B4: Ellenkamp 1 | C4: 8 | N4: ='stand per periode uitgewerkt'!T41 -> 100 | O4: ='stand per periode uitgewerkt'!Q41 -> 8 | P4: 46315 | R4: 46363
A5: 2 | B5: B.V.V. '75 1 | C5: 6 | N5: ='stand per periode uitgewerkt'!T14 -> 98.125 | O5: ='stand per periode uitgewerkt'!Q14 -> 6 | P5: 46317
A6: 3 | B6: Driesprong 1 | C6: 6 | N6: ='stand per periode uitgewerkt'!M41 -> 94.821429 | O6: ='stand per periode uitgewerkt'!J41 -> 6 | P6: 46318
A7: 4 | B7: Driehoek 4 | C7: 4 | N7: ='stand per periode uitgewerkt'!F41 -> 92.807018 | O7: ='stand per periode uitgewerkt'!C41 -> 4 | P7: 46317
A8: 5 | B8: Bousema Lochem 13 | C8: 4 | N8: ='stand per periode uitgewerkt'!F14 -> 80.416667 | O8: ='stand per periode uitgewerkt'!C14 -> 4 | P8: 46318
A9: 6 | B9: Ons Huis 1 | C9: 2 | N9: ='stand per periode uitgewerkt'!T68 -> 86.833333 | O9: ='stand per periode uitgewerkt'!Q68 -> 2
A10: 7 | B10: Ivoor Groenlo 1 | C10: 2 | N10: ='stand per periode uitgewerkt'!F68 -> 66.595745 | O10: ='stand per periode uitgewerkt'!C68 -> 2
A11: 8 | B11: Wenters 2 | C11: 0 | N11: ='stand per periode uitgewerkt'!T95 -> 60.517241 | O11: ='stand per periode uitgewerkt'!Q95 -> 0 | P11: 46317 | R11: 46364
A12: 9 | B12: Bousema Lochem 12 | N12: ='stand per periode uitgewerkt'!M14 -> #DIV/0! | O12: ='stand per periode uitgewerkt'!J14 -> 0 | P12: 46315 | R12: 46363
A13: 10 | B13: Kevelder 1 | N13: ='stand per periode uitgewerkt'!M68 -> #DIV/0! | O13: ='stand per periode uitgewerkt'!J68 -> 0 | P13: 46315 | R13: 46364 | S13: 46372
A14: 11 | B14: Wapen van Borculo 1 | N14: ='stand per periode uitgewerkt'!F95 -> #DIV/0! | O14: ='stand per periode uitgewerkt'!C95 -> 0 | P14: 46317 | S14: 46372
A15: 12 | B15: Wenters 1 | N15: ='stand per periode uitgewerkt'!M95 -> #DIV/0! | O15: ='stand per periode uitgewerkt'!J95 -> 0 | P15: 46315
B16: Periode stand | C16: 2e periode
A17: Per-2 | B17: C1-klasse | C17: 12 | D17: 13 | E17: 14 | F17: 15 | G17: 16 | H17: 17 | I17: 18 | J17: 19 | K17: 20 | L17: 21 | M17: 22 | N17: % car | O17: std
A19: 1 | B19: Wenters 1 | N19: ='stand per periode uitgewerkt'!M108 -> #DIV/0! | O19: ='stand per periode uitgewerkt'!J108 -> 0
A20: 2 | B20: Wapen van Borculo 1 | N20: ='stand per periode uitgewerkt'!F108 -> #DIV/0! | O20: ='stand per periode uitgewerkt'!C108 -> 0
A21: 3 | B21: Driehoek 4 | N21: ='stand per periode uitgewerkt'!F54 -> #DIV/0! | O21: ='stand per periode uitgewerkt'!C54 -> 0
A22: 4 | B22: B.V.V. '75 1 | N22: ='stand per periode uitgewerkt'!T27 -> #DIV/0! | O22: ='stand per periode uitgewerkt'!Q27 -> 0
A23: 5 | B23: Wenters 2 | N23: ='stand per periode uitgewerkt'!T108 -> #DIV/0! | O23: ='stand per periode uitgewerkt'!Q108 -> 0
A24: 6 | B24: Bousema Lochem 13 | N24: ='stand per periode uitgewerkt'!F27 -> #DIV/0! | O24: ='stand per periode uitgewerkt'!C27 -> 0
A25: 7 | B25: Ivoor Groenlo 1 | N25: ='stand per periode uitgewerkt'!F81 -> #DIV/0! | O25: ='stand per periode uitgewerkt'!C81 -> 0
A26: 8 | B26: Bousema Lochem 12 | N26: ='stand per periode uitgewerkt'!M27 -> #DIV/0! | O26: ='stand per periode uitgewerkt'!J27 -> 0
A27: 9 | B27: Ons Huis 1 | N27: ='stand per periode uitgewerkt'!T81 -> #DIV/0! | O27: ='stand per periode uitgewerkt'!Q81 -> 0
A28: 10 | B28: Driesprong 1 | N28: ='stand per periode uitgewerkt'!M54 -> #DIV/0! | O28: ='stand per periode uitgewerkt'!J54 -> 0
A29: 11 | B29: Ellenkamp 1 | N29: ='stand per periode uitgewerkt'!T54 -> #DIV/0! | O29: ='stand per periode uitgewerkt'!Q54 -> 0
A30: 12 | B30: Kevelder 1 | N30: ='stand per periode uitgewerkt'!M81 -> #DIV/0! | O30: ='stand per periode uitgewerkt'!J81 -> 0
B32: Ronde 1 t/m ronde 11
B33: Ronde 12 t/m ronde 22
B34: Kampioen
B36: De beide periodewinnaars plaatsen zich voor de gewestelijke tussenronde.
B37: Bij gelijk aantal punten in een periode, bepaalt het behaalde % caramboles, de plaats in de
B38: betreffende periode.
B39: Indien de kampioen een periode heeft gewonnen dan wordt het als 2e geëindigde team in
B40: diezelfde periode, de periodewinnaar. Mocht het als 2e geëindigde team in de 2e periode al
B41: periodewinnaar zijn van de 1e periode dan wordt het als 3e geëindigde team in de
B42: 2e periode de poulewinnaar. Etc.
B43: (2e tabblad is de stand uitgewerkt)

Sheet stand per periode uitgewerkt
B1: Bousema 13 | I1: Bousema 12 | P1: BVV'75 1
A2: ronde | B2: 1e periode | C2: pnt | D2: tcar | E2: gcar | F2: % car | H2: ronde | I2: 1e periode | J2: pnt | K2: tcar | L2: gcar | M2: % car | O2: ronde | P2: 1e periode | Q2: pnt | R2: tcar | S2: gcar | T2: % car
A3: 1 | B3: 46267 | C3: 4 | D3: 480 | E3: 386 | F3: =E3/D3*100 -> 80.416667 | H3: 1 | I3: 46315 | M3: =L3/K3*100 -> #DIV/0! | O3: 1 | P3: 46268 | Q3: 6 | R3: 480 | S3: 471 | T3: =S3/R3*100 -> 98.125
A4: 2 | B4: 46275 | F4: =E4/D4*100 -> #DIV/0! | H4: 2 | I4: 46275 | M4: =L4/K4*100 -> #DIV/0! | O4: 2 | P4: 46275 | T4: =S4/R4*100 -> #DIV/0!
A5: 3 | B5: 46318 | F5: =E5/D5*100 -> #DIV/0! | H5: 3 | I5: 46363 | M5: =L5/K5*100 -> #DIV/0! | O5: 3 | P5: 46317 | T5: =S5/R5*100 -> #DIV/0!
A6: 4 | B6: 46288 | F6: =E6/D6*100 -> #DIV/0! | H6: 4 | I6: 46289 | M6: =L6/K6*100 -> #DIV/0! | O6: 4 | P6: 46289 | T6: =S6/R6*100 -> #DIV/0!
A7: 5 | B7: 46296 | F7: =E7/D7*100 -> #DIV/0! | H7: 5 | I7: 46294 | M7: =L7/K7*100 -> #DIV/0! | O7: 5 | P7: 46296 | T7: =S7/R7*100 -> #DIV/0!
A8: 6 | B8: 46302 | F8: =E8/D8*100 -> #DIV/0! | H8: 6 | I8: 46303 | M8: =L8/K8*100 -> #DIV/0! | O8: 6 | P8: 46301 | T8: =S8/R8*100 -> #DIV/0!
A9: 7 | B9: 46309 | F9: =E9/D9*100 -> #DIV/0! | H9: 7 | I9: 46309 | M9: =L9/K9*100 -> #DIV/0! | O9: 7 | P9: 46311 | T9: =S9/R9*100 -> #DIV/0!
A10: 8 | B10: 46323 | F10: =E10/D10*100 -> #DIV/0! | H10: 8 | I10: 46324 | M10: =L10/K10*100 -> #DIV/0! | O10: 8 | P10: 46324 | T10: =S10/R10*100 -> #DIV/0!
A11: 9 | B11: 46329 | F11: =E11/D11*100 -> #DIV/0! | H11: 9 | I11: 46331 | M11: =L11/K11*100 -> #DIV/0! | O11: 9 | P11: 46330 | T11: =S11/R11*100 -> #DIV/0!
A12: 10 | B12: 46337 | F12: =E12/D12*100 -> #DIV/0! | H12: 10 | I12: 46338 | M12: =L12/K12*100 -> #DIV/0! | O12: 10 | P12: 46338 | T12: =S12/R12*100 -> #DIV/0!
A13: 11 | B13: 46345 | F13: =E13/D13*100 -> #DIV/0! | H13: 11 | I13: 46345 | M13: =L13/K13*100 -> #DIV/0! | O13: 11 | P13: 46343 | T13: =S13/R13*100 -> #DIV/0!
B14: totaal | C14: =SUM(C3:C13) -> 4 | D14: =SUM(D3:D13) -> 480 | E14: =SUM(E3:E13) -> 386 | F14: =E14/D14*100 -> 80.416667 | I14: totaal | J14: =J3+J5+J6+J7+J8+J9+J10+J11+J12+J13 -> 0 | K14: =SUM(K3:K13) -> 0 | L14: =SUM(L3:L13) -> 0 | M14: =L14/K14*100 -> #DIV/0! | P14: totaal | Q14: =SUM(Q3:Q13) -> 6 | R14: =SUM(R3:R13) -> 480 | S14: =SUM(S3:S13) -> 471 | T14: =S14/R14*100 -> 98.125
A15: ronde | B15: 2e periode | C15: pnt | D15: tcar | E15: gcar | F15: % car | H15: ronde | I15: 2e periode | J15: pnt | K15: tcar | L15: gcar | M15: % car | O15: ronde | P15: 2e periode | Q15: pnt | R15: tcar | S15: gcar | T15: % car
A16: 12 | B16: 46353 | F16: =E16/D16*100 -> #DIV/0! | H16: 12 | I16: 46352 | M16: =L16/K16*100 -> #DIV/0! | O16: 12 | P16: 46351 | T16: =S16/R16*100 -> #DIV/0!
A17: 13 | B17: 46358 | F17: =E17/D17*100 -> #DIV/0! | H17: 13 | I17: 46359 | M17: =L17/K17*100 -> #DIV/0! | O17: 13 | P17: 46359 | T17: =S17/R17*100 -> #DIV/0!
A18: 14 | B18: 46028 | F18: =E18/D18*100 -> #DIV/0! | H18: 14 | I18: 46029 | M18: =L18/K18*100 -> #DIV/0! | O18: 14 | P18: 46030 | T18: =S18/R18*100 -> #DIV/0!
A19: 15 | B19: 46034 | F19: =E19/D19*100 -> #DIV/0! | H19: 15 | I19: 46035 | M19: =L19/K19*100 -> #DIV/0! | O19: 15 | P19: 46036 | T19: =S19/R19*100 -> #DIV/0!
A20: 16 | B20: 46042 | F20: =E20/D20*100 -> #DIV/0! | H20: 16 | I20: 46043 | M20: =L20/K20*100 -> #DIV/0! | O20: 16 | P20: 46042 | T20: =S20/R20*100 -> #DIV/0!
A21: 17 | B21: 46047 | F21: =E21/D21*100 -> #DIV/0! | H21: 17 | I21: 46048 | M21: =L21/K21*100 -> #DIV/0! | O21: 17 | P21: 46050 | T21: =S21/R21*100 -> #DIV/0!
A22: 18 | B22: 46056 | F22: =E22/D22*100 -> #DIV/0! | H22: 18 | I22: 46057 | M22: =L22/K22*100 -> #DIV/0! | O22: 18 | P22: 46057 | T22: =S22/R22*100 -> #DIV/0!
A23: 19 | B23: 46069 | F23: =E23/D23*100 -> #DIV/0! | H23: 19 | I23: 46072 | M23: =L23/K23*100 -> #DIV/0! | O23: 19 | P23: 46068 | T23: =S23/R23*100 -> #DIV/0!
A24: 20 | B24: 46077 | F24: =E24/D24*100 -> #DIV/0! | H24: 20 | I24: 46079 | M24: =L24/K24*100 -> #DIV/0! | O24: 20 | P24: 46078 | T24: =S24/R24*100 -> #DIV/0!
A25: 21 | B25: 46084 | F25: =E25/D25*100 -> #DIV/0! | H25: 21 | I25: 46085 | M25: =L25/K25*100 -> #DIV/0! | O25: 21 | P25: 46083 | T25: =S25/R25*100 -> #DIV/0!
A26: 22 | B26: 46091 | F26: =E26/D26*100 -> #DIV/0! | H26: 22 | I26: 46091 | M26: =L26/K26*100 -> #DIV/0! | O26: 22 | P26: 46092 | T26: =S26/R26*100 -> #DIV/0!
B27: totaal | C27: =SUM(C16:C26) -> 0 | D27: =SUM(D16:D26) -> 0 | E27: =SUM(E16:E26) -> 0 | F27: =E27/D27*100 -> #DIV/0! | I27: totaal | J27: =SUM(J16:J26) -> 0 | K27: =SUM(K16:K26) -> 0 | L27: =SUM(L16:L26) -> 0 | M27: =L27/K27*100 -> #DIV/0! | P27: totaal | Q27: =SUM(Q16:Q26) -> 0 | R27: =SUM(R16:R26) -> 0 | S27: =SUM(S16:S26) -> 0 | T27: =S27/R27*100 -> #DIV/0!
B28: Driehoek 4 | I28: Driesprong 1 | P28: Ellenkamp 1
A29: ronde | B29: 1e periode | C29: pnt | D29: tcar | E29: gcar | F29: % car | H29: ronde | I29: 1e periode | J29: pnt | K29: tcar | L29: gcar | M29: % car | O29: ronde | P29: 1e periode | Q29: pnt | R29: tcar | S29: gcar | T29: % car
A30: 1 | B30: 46267 | C30: 4 | D30: 570 | E30: 529 | F30: =E30/D30*100 -> 92.807018 | H30: 1 | I30: 46269 | J30: 6 | K30: 560 | L30: 531 | M30: =L30/K30*100 -> 94.821429 | O30: 1 | P30: 46265 | Q30: 8 | R30: 590 | S30: 590 | T30: =S30/R30*100 -> 100
A31: 2 | B31: 46276 | F31: =E31/D31*100 -> #DIV/0! | H31: 2 | I31: 46273 | M31: =L31/K31*100 -> #DIV/0! | O31: 2 | P31: 46274 | T31: =S31/R31*100 -> #DIV/0!
A32: 3 | B32: 46317 | F32: =E32/D32*100 -> #DIV/0! | H32: 3 | I32: 46318 | M32: =L32/K32*100 -> #DIV/0! | O32: 3 | P32: 46363 | T32: =S32/R32*100 -> #DIV/0!
A33: 4 | B33: 46290 | F33: =E33/D33*100 -> #DIV/0! | H33: 4 | I33: 46287 | M33: =L33/K33*100 -> #DIV/0! | O33: 4 | P33: 46290 | T33: =S33/R33*100 -> #DIV/0!
A34: 5 | B34: 46295 | F34: =E34/D34*100 -> #DIV/0! | H34: 5 | I34: 46297 | M34: =L34/K34*100 -> #DIV/0! | O34: 5 | P34: 46293 | T34: =S34/R34*100 -> #DIV/0!
A35: 6 | B35: 46304 | F35: =E35/D35*100 -> #DIV/0! | H35: 6 | I35: 46302 | M35: =L35/K35*100 -> #DIV/0! | O35: 6 | P35: 46302 | T35: =S35/R35*100 -> #DIV/0!
A36: 7 | B36: 46308 | F36: =E36/D36*100 -> #DIV/0! | H36: 7 | I36: 46311 | M36: =L36/K36*100 -> #DIV/0! | O36: 7 | P36: 46307 | T36: =S36/R36*100 -> #DIV/0!
A37: 8 | B37: 46325 | F37: =E37/D37*100 -> #DIV/0! | H37: 8 | I37: 46324 | M37: =L37/K37*100 -> #DIV/0! | O37: 8 | P37: 46324 | T37: =S37/R37*100 -> #DIV/0!
A38: 9 | B38: 46331 | F38: =E38/D38*100 -> #DIV/0! | H38: 9 | I38: 46332 | M38: =L38/K38*100 -> #DIV/0! | O38: 9 | P38: 46332 | T38: =S38/R38*100 -> #DIV/0!
A39: 10 | B39: 46339 | F39: =E39/D39*100 -> #DIV/0! | H39: 10 | I39: 46339 | M39: =L39/K39*100 -> #DIV/0! | O39: 10 | P39: 46335 | T39: =S39/R39*100 -> #DIV/0!
A40: 11 | B40: 46346 | F40: =E40/D40*100 -> #DIV/0! | H40: 11 | I40: 46346 | M40: =L40/K40*100 -> #DIV/0! | O40: 11 | P40: 46315 | T40: =S40/R40*100 -> #DIV/0!
B41: totaal | C41: =SUM(C30:C40) -> 4 | D41: =SUM(D30:D40) -> 570 | E41: =SUM(E30:E40) -> 529 | F41: =E41/D41*100 -> 92.807018 | I41: totaal | J41: =SUM(J30:J40) -> 6 | K41: =SUM(K30:K40) -> 560 | L41: =SUM(L30:L40) -> 531 | M41: =L41/K41*100 -> 94.821429 | Q41: =SUM(Q30:Q40) -> 8 | R41: =SUM(R30:R40) -> 590 | S41: =SUM(S30:S40) -> 590 | T41: =S41/R41*100 -> 100
A42: ronde | B42: 2e periode | C42: pnt | D42: tcar | E42: gcar | F42: % car | H42: ronde | I42: 2e periode | J42: pnt | K42: tcar | L42: gcar | M42: % car | O42: ronde | P42: 2e periode | Q42: pnt | R42: tcar | S42: gcar | T42: % car
A43: 12 | B43: 46353 | F43: =E43/D43*100 -> #DIV/0! | H43: 12 | I43: 46352 | M43: =L43/K43*100 -> #DIV/0! | O43: 12 | P43: 46350 | T43: =S43/R43*100 -> #DIV/0!
A44: 13 | B44: 46357 | F44: =E44/D44*100 -> #DIV/0! | H44: 13 | I44: 46360 | M44: =L44/K44*100 -> #DIV/0! | O44: 13 | P44: 46356 | T44: =S44/R44*100 -> #DIV/0!
A45: 14 | B45: 46030 | F45: =E45/D45*100 -> #DIV/0! | H45: 14 | I45: 46028 | M45: =L45/K45*100 -> #DIV/0! | O45: 14 | P45: 46029 | T45: =S45/R45*100 -> #DIV/0!
A46: 15 | B46: 46033 | F46: =E46/D46*100 -> #DIV/0! | H46: 15 | I46: 46037 | M46: =L46/K46*100 -> #DIV/0! | O46: 15 | P46: 46033 | T46: =S46/R46*100 -> #DIV/0!
A47: 16 | B47: 46044 | F47: =E47/D47*100 -> #DIV/0! | H47: 16 | I47: 46041 | M47: =L47/K47*100 -> #DIV/0! | O47: 16 | P47: 46043 | T47: =S47/R47*100 -> #DIV/0!
A48: 17 | B48: 46048 | F48: =E48/D48*100 -> #DIV/0! | H48: 17 | I48: 46051 | M48: =L48/K48*100 -> #DIV/0! | O48: 17 | P48: 46047 | T48: =S48/R48*100 -> #DIV/0!
A49: 18 | B49: 46058 | F49: =E49/D49*100 -> #DIV/0! | H49: 18 | I49: 46057 | M49: =L49/K49*100 -> #DIV/0! | O49: 18 | P49: 46055 | T49: =S49/R49*100 -> #DIV/0!
A50: 19 | B50: 46070 | F50: =E50/D50*100 -> #DIV/0! | H50: 19 | I50: 46072 | M50: =L50/K50*100 -> #DIV/0! | O50: 19 | P50: 46068 | T50: =S50/R50*100 -> #DIV/0!
A51: 20 | B51: 46079 | F51: =E51/D51*100 -> #DIV/0! | H51: 20 | I51: 46075 | M51: =L51/K51*100 -> #DIV/0! | O51: 20 | P51: 46075 | T51: =S51/R51*100 -> #DIV/0!
A52: 21 | B52: 46086 | F52: =E52/D52*100 -> #DIV/0! | H52: 21 | I52: 46086 | M52: =L52/K52*100 -> #DIV/0! | O52: 21 | P52: 46084 | T52: =S52/R52*100 -> #DIV/0!
A53: 22 | B53: 46092 | F53: =E53/D53*100 -> #DIV/0! | H53: 22 | I53: 46091 | M53: =L53/K53*100 -> #DIV/0! | O53: 22 | P53: 46089 | T53: =S53/R53*100 -> #DIV/0!
B54: totaal | C54: =SUM(C43:C53) -> 0 | D54: =SUM(D43:D53) -> 0 | E54: =SUM(E43:E53) -> 0 | F54: =E54/D54*100 -> #DIV/0! | I54: totaal | J54: =SUM(J43:J53) -> 0 | K54: =SUM(K43:K53) -> 0 | L54: =SUM(L43:L53) -> 0 | M54: =L54/K54*100 -> #DIV/0! | P54: totaal | Q54: =SUM(Q43:Q53) -> 0 | R54: =SUM(R43:R53) -> 0 | S54: =SUM(S43:S53) -> 0 | T54: =S54/R54*100 -> #DIV/0!
B55: Ivoor Gr. 1 | I55: Kevelder 1 | P55: Ons Huis 1
A56: ronde | B56: 1e periode | C56: pnt | D56: tcar | E56: gcar | F56: % car | H56: ronde | I56: 1e periode | J56: pnt | K56: tcar | L56: gcar | M56: % car | O56: ronde | P56: 1e periode | Q56: pnt | R56: tcar | S56: gcar | T56: % car
A57: 1 | B57: 46268 | C57: 2 | D57: 470 | E57: 313 | F57: =E57/D57*100 -> 66.595745 | H57: 1 | I57: 46372 | M57: =L57/K57*100 -> #DIV/0! | O57: 1 | P57: 46269 | Q57: 2 | R57: 600 | S57: 521 | T57: =S57/R57*100 -> 86.833333
A58: 2 | B58: 46274 | F58: =E58/D58*100 -> #DIV/0! | H58: 2 | I58: 46273 | M58: =L58/K58*100 -> #DIV/0! | O58: 2 | P58: 46275 | T58: =S58/R58*100 -> #DIV/0!
A59: 3 | B59: 46281 | F59: =E59/D59*100 -> #DIV/0! | H59: 3 | I59: 46364 | M59: =L59/K59*100 -> #DIV/0! | O59: 3 | P59: 46280 | T59: =S59/R59*100 -> #DIV/0!
A60: 4 | B60: 46288 | F60: =E60/D60*100 -> #DIV/0! | H60: 4 | I60: 46288 | M60: =L60/K60*100 -> #DIV/0! | O60: 4 | P60: 46289 | T60: =S60/R60*100 -> #DIV/0!
A61: 5 | B61: 46294 | F61: =E61/D61*100 -> #DIV/0! | H61: 5 | I61: 46294 | M61: =L61/K61*100 -> #DIV/0! | O61: 5 | P61: 46293 | T61: =S61/R61*100 -> #DIV/0!
A62: 6 | B62: 46302 | F62: =E62/D62*100 -> #DIV/0! | H62: 6 | I62: 46304 | M62: =L62/K62*100 -> #DIV/0! | O62: 6 | P62: 46303 | T62: =S62/R62*100 -> #DIV/0!
A63: 7 | B63: 46309 | F63: =E63/D63*100 -> #DIV/0! | G63: =F63/E63 -> #DIV/0! | H63: 7 | I63: 46308 | M63: =L63/K63*100 -> #DIV/0! | O63: 7 | P63: 46308 | T63: =S63/R63*100 -> #DIV/0!
A64: 8 | B64: 46325 | F64: =E64/D64*100 -> #DIV/0! | H64: 8 | I64: 46323 | M64: =L64/K64*100 -> #DIV/0! | O64: 8 | P64: 46324 | T64: =S64/R64*100 -> #DIV/0!
A65: 9 | B65: 46330 | F65: =E65/D65*100 -> #DIV/0! | H65: 9 | I65: 46329 | M65: =L65/K65*100 -> #DIV/0! | O65: 9 | P65: 46330 | T65: =S65/R65*100 -> #DIV/0!
A66: 10 | B66: 46337 | F66: =E66/D66*100 -> #DIV/0! | H66: 10 | I66: 46338 | M66: =L66/K66*100 -> #DIV/0! | O66: 10 | P66: 46338 | T66: =S66/R66*100 -> #DIV/0!
A67: 11 | B67: 46344 | F67: =E67/D67*100 -> #DIV/0! | H67: 11 | I67: 46315 | M67: =L67/K67*100 -> #DIV/0! | O67: 11 | P67: 46346 | T67: =S67/R67*100 -> #DIV/0!
B68: totaal | C68: =SUM(C57:C67) -> 2 | D68: =SUM(D57:D67) -> 470 | E68: =SUM(E57:E67) -> 313 | F68: =E68/D68*100 -> 66.595745 | I68: totaal | J68: =SUM(J57:J67) -> 0 | K68: =SUM(K57:K67) -> 0 | L68: =SUM(L57:L67) -> 0 | M68: =L68/K68*100 -> #DIV/0! | P68: totaal | Q68: =SUM(Q57:Q67) -> 2 | R68: =SUM(R57:R67) -> 600 | S68: =SUM(S57:S67) -> 521 | T68: =S68/R68*100 -> 86.833333
A69: ronde | B69: 2e periode | C69: pnt | D69: tcar | E69: gcar | F69: % car | H69: ronde | I69: 2e periode | J69: pnt | K69: tcar | L69: gcar | M69: % car | O69: ronde | P69: 2e periode | Q69: pnt | R69: tcar | S69: gcar | T69: % car
A70: 12 | B70: 46351 | F70: =E70/D70*100 -> #DIV/0! | H70: 12 | I70: 46350 | M70: =L70/K70*100 -> #DIV/0! | O70: 12 | P70: 46352 | T70: =S70/R70*100 -> #DIV/0!
A71: 13 | B71: 46356 | F71: =E71/D71*100 -> #DIV/0! | H71: 13 | I71: 46360 | M71: =L71/K71*100 -> #DIV/0! | O71: 13 | P71: 46358 | T71: =S71/R71*100 -> #DIV/0!
A72: 14 | B72: 46028 | F72: =E72/D72*100 -> #DIV/0! | H72: 14 | I72: 46027 | M72: =L72/K72*100 -> #DIV/0! | O72: 14 | P72: 46029 | T72: =S72/R72*100 -> #DIV/0!
A73: 15 | B73: 46034 | F73: =E73/D73*100 -> #DIV/0! | H73: 15 | I73: 46034 | M73: =L73/K73*100 -> #DIV/0! | O73: 15 | P73: 46036 | T73: =S73/R73*100 -> #DIV/0!
A74: 16 | B74: 46042 | F74: =E74/D74*100 -> #DIV/0! | H74: 16 | I74: 46043 | M74: =L74/K74*100 -> #DIV/0! | O74: 16 | P74: 46043 | T74: =S74/R74*100 -> #DIV/0!
A75: 17 | B75: 46051 | F75: =E75/D75*100 -> #DIV/0! | H75: 17 | I75: 46048 | M75: =L75/K75*100 -> #DIV/0! | O75: 17 | P75: 46049 | T75: =S75/R75*100 -> #DIV/0!
A76: 18 | B76: 46057 | F76: =E76/D76*100 -> #DIV/0! | H76: 18 | I76: 46057 | M76: =L76/K76*100 -> #DIV/0! | O76: 18 | P76: 46057 | T76: =S76/R76*100 -> #DIV/0!
A77: 19 | B77: 46070 | F77: =E77/D77*100 -> #DIV/0! | H77: 19 | I77: 46069 | M77: =L77/K77*100 -> #DIV/0! | O77: 19 | P77: 46069 | T77: =S77/R77*100 -> #DIV/0!
A78: 20 | B78: 46078 | F78: =E78/D78*100 -> #DIV/0! | H78: 20 | I78: 46076 | M78: =L78/K78*100 -> #DIV/0! | O78: 20 | P78: 46078 | T78: =S78/R78*100 -> #DIV/0!
A79: 21 | B79: 46084 | F79: =E79/D79*100 -> #DIV/0! | H79: 21 | I79: 46083 | M79: =L79/K79*100 -> #DIV/0! | O79: 21 | P79: 46085 | T79: =S79/R79*100 -> #DIV/0!
A80: 22 | B80: 46090 | F80: =E80/D80*100 -> #DIV/0! | H80: 22 | I80: 46089 | M80: =L80/K80*100 -> #DIV/0! | O80: 22 | P80: 46092 | T80: =S80/R80*100 -> #DIV/0!
B81: totaal | C81: =SUM(C70:C80) -> 0 | D81: =SUM(D70:D80) -> 0 | E81: =SUM(E70:E80) -> 0 | F81: =E81/D81*100 -> #DIV/0! | I81: totaal | J81: =SUM(J70:J80) -> 0 | K81: =SUM(K70:K80) -> 0 | L81: =SUM(L70:L80) -> 0 | M81: =L81/K81*100 -> #DIV/0! | P81: totaal | Q81: =SUM(Q70:Q80) -> 0 | R81: =SUM(R70:R80) -> 0 | S81: =SUM(S70:S80) -> 0 | T81: =S81/R81*100 -> #DIV/0!
B82: Wap v. B 1 | I82: Wenters 1 | P82: Wenters 2
A83: ronde | B83: 1e periode | C83: pnt | D83: tcar | E83: gcar | F83: % car | H83: ronde | I83: 1e periode | J83: pnt | K83: tcar | L83: gcar | M83: % car | O83: ronde | P83: 1e periode | Q83: pnt | R83: tcar | S83: gcar | T83: % car
A84: 1 | B84: 46372 | F84: =E84/D84*100 -> #DIV/0! | H84: 1 | I84: 46315 | M84: =L84/K84*100 -> #DIV/0! | O84: 1 | P84: 46265 | Q84: 0 | R84: 580 | S84: 351 | T84: =S84/R84*100 -> 60.517241
A85: 2 | B85: 46317 | F85: =E85/D85*100 -> #DIV/0! | H85: 2 | I85: 46276 | M85: =L85/K85*100 -> #DIV/0! | O85: 2 | P85: 46317 | T85: =S85/R85*100 -> #DIV/0!
A86: 3 | B86: 46281 | F86: =E86/D86*100 -> #DIV/0! | H86: 3 | I86: 46280 | M86: =L86/K86*100 -> #DIV/0! | O86: 3 | P86: 46363 | T86: =S86/R86*100 -> #DIV/0!
A87: 4 | B87: 46289 | F87: =E87/D87*100 -> #DIV/0! | H87: 4 | I87: 46288 | M87: =L87/K87*100 -> #DIV/0! | O87: 4 | P87: 46287 | T87: =S87/R87*100 -> #DIV/0!
A88: 5 | B88: 46295 | F88: =E88/D88*100 -> #DIV/0! | H88: 5 | I88: 46297 | M88: =L88/K88*100 -> #DIV/0! | O88: 5 | P88: 46294 | T88: =S88/R88*100 -> #DIV/0!
A89: 6 | B89: 46303 | F89: =E89/D89*100 -> #DIV/0! | H89: 6 | I89: 46301 | M89: =L89/K89*100 -> #DIV/0! | O89: 6 | P89: 46303 | T89: =S89/R89*100 -> #DIV/0!
A90: 7 | B90: 46309 | F90: =E90/D90*100 -> #DIV/0! | H90: 7 | I90: 46307 | M90: =L90/K90*100 -> #DIV/0! | O90: 7 | P90: 46308 | T90: =S90/R90*100 -> #DIV/0!
A91: 8 | B91: 46322 | F91: =E91/D91*100 -> #DIV/0! | H91: 8 | I91: 46322 | M91: =L91/K91*100 -> #DIV/0! | O91: 8 | P91: 46324 | T91: =S91/R91*100 -> #DIV/0!
A92: 9 | B92: 46330 | F92: =E92/D92*100 -> #DIV/0! | H92: 9 | I92: 46329 | M92: =L92/K92*100 -> #DIV/0! | O92: 9 | P92: 46329 | T92: =S92/R92*100 -> #DIV/0!
A93: 10 | B93: 46335 | F93: =E93/D93*100 -> #DIV/0! | H93: 10 | I93: 46336 | M93: =L93/K93*100 -> #DIV/0! | O93: 10 | P93: 46336 | T93: =S93/R93*100 -> #DIV/0!
A94: 11 | B94: 46346 | F94: =E94/D94*100 -> #DIV/0! | H94: 11 | I94: 46344 | M94: =L94/K94*100 -> #DIV/0! | O94: 11 | P94: 46343 | T94: =S94/R94*100 -> #DIV/0!
B95: totaal | C95: =SUM(C84:C94) -> 0 | D95: =SUM(D84:D94) -> 0 | E95: =SUM(E84:E94) -> 0 | F95: =E95/D95*100 -> #DIV/0! | I95: totaal | J95: =SUM(J84:J94) -> 0 | K95: =SUM(K84:K94) -> 0 | L95: =SUM(L84:L94) -> 0 | M95: =L95/K95*100 -> #DIV/0! | P95: totaal | Q95: =SUM(Q84:Q94) -> 0 | R95: =SUM(R84:R94) -> 580 | S95: =SUM(S84:S94) -> 351 | T95: =S95/R95*100 -> 60.517241
A96: ronde | B96: 2e periode | C96: pnt | D96: tcar | E96: gcar | F96: % car | H96: ronde | I96: 2e periode | J96: pnt | K96: tcar | L96: gcar | M96: % car | O96: ronde | P96: 2e periode | Q96: pnt | R96: tcar | S96: gcar | T96: % car
A97: 12 | B97: 46350 | F97: =E97/D97*100 -> #DIV/0! | H97: 12 | I97: 46352 | M97: =L97/K97*100 -> #DIV/0! | O97: 12 | P97: 46350 | T97: =S97/R97*100 -> #DIV/0!
A98: 13 | B98: 46358 | F98: =E98/D98*100 -> #DIV/0! | H98: 13 | I98: 46357 | M98: =L98/K98*100 -> #DIV/0! | O98: 13 | P98: 46358 | T98: =S98/R98*100 -> #DIV/0!
A99: 14 | B99: 46028 | F99: =E99/D99*100 -> #DIV/0! | H99: 14 | I99: 46029 | M99: =L99/K99*100 -> #DIV/0! | O99: 14 | P99: 46027 | T99: =S99/R99*100 -> #DIV/0!
A100: 15 | B100: 46035 | F100: =E100/D100*100 -> #DIV/0! | H100: 15 | I100: 46034 | M100: =L100/K100*100 -> #DIV/0! | O100: 15 | P100: 46037 | T100: =S100/R100*100 -> #DIV/0!
...
