Workbook

Sheet stand totaal
B1: Periode stand | C1: 1e periode
A2: Per-1 | B2: C1-klasse | C2: 1 | D2: 2 | E2: 3 | F2: 4 | G2: 5 | H2: 6 | I2: 7 | J2: 8 | K2: 9 | L2: 10 | M2: 11 | N2: % car | O2: std
A4: 1 | B4: Ellenkamp 1 | C4: 8 | N4: ='stand per periode uitgewerkt'!T41 -> 100 | O4: ='stand per periode uitgewerkt'!Q41 -> 8 | P4: 46315 | R4: 46363
A5: 2 | B5: B.V.V. '75 1 | C5: 6 | N5: ='stand per periode uitgewerkt'!T14 -> 98.125 | O5: ='stand per periode uitgewerkt'!Q14 -> 6 | P5: 46317
A6: 3 | B6: Driesprong 1 | C6: 6 | N6: ='stand per periode uitgewerkt'!M41 -> 94.821429 | O6: ='stand per periode uitgewerkt'!J41 -> 6 | P6: 46318
A7: 4 | B7: Driehoek 4 | C7: 4 | N7: ='stand per periode uitgewerkt'!F41 -> 92.807018 | O7: ='stand per periode uitgewerkt'!C41 -> 4 | P7: 46317
A8: 5 | B8: Bousema Lochem 13 | C8: 4 | N8: ='stand per periode uitgewerkt'!F14 -> 80.416667 | O8: ='stand per periode uitgewerkt'!C14 -> 4 | P8: 46318
A9: 6 | B9: Ons Huis 1 | C9: 2 | N9: ='stand per periode uitgewerkt'!T68 -> 86.833333 | O9: ='stand per periode uitgewerkt'!Q68 -> 2
A10: 7 | B10: Ivoor Groenlo 1 | C10: 2 | N10: ='stand per periode uitgewerkt'!F68 -> 66.595745 | O10: ='stand per periode uitgewerkt'!C68 -> 2
A11: 8 | B11: Wenters 2 | C11: 0 | N11: ='stand per periode uitgewerkt'!T95 -> 60.517241 | O11: ='stand per periode uitgewerkt'!Q95 -> 0 | P11: 46317 | R11: 46364
A12: 9 | B12: Bousema Lochem 12 | N12: ='stand per periode uitgewerkt'!M14 -> #DIV/0! | O12: ='stand per periode uitgewerkt'!J14 -> 0 | P12: 46315 | R12: 46363
A13: 10 | B13: Kevelder 1 | N13: ='stand per periode uitgewerkt'!M68 -> #DIV/0! | O13: ='stand per periode uitgewerkt'!J68 -> 0 | P13: 46315 | R13: 46364 | S13: 46372
A14: 11 | B14: Wapen van Borculo 1 | N14: ='stand per periode uitgewerkt'!F95 -> #DIV/0! | O14: ='stand per periode uitgewerkt'!C95 -> 0 | P14: 46317 | S14: 46372
A15: 12 | B15: Wenters 1 | N15: ='stand per periode uitgewerkt'!M95 -> #DIV/0! | O15: ='stand per periode uitgewerkt'!J95 -> 0 | P15: 46315
B16: Periode stand | C16: 2e periode
A17: Per-2 | B17: C1-klasse | C17: 12 | D17: 13 | E17: 14 | F17: 15 | G17: 16 | H17: 17 | I17: 18 | J17: 19 | K17: 20 | L17: 21 | M17: 22 | N17: % car | O17: std
A19: 1 | B19: Wenters 1 | N19: ='stand per periode uitgewerkt'!M108 -> #DIV/0! | O19: ='stand per periode uitgewerkt'!J108 -> 0
A20: 2 | B20: Wapen van Borculo 1 | N20: ='stand per periode uitgewerkt'!F108 -> #DIV/0! | O20: ='stand per periode uitgewerkt'!C108 -> 0
A21: 3 | B21: Driehoek 4 | N21: ='stand per periode uitgewerkt'!F54 -> #DIV/0! | O21: ='stand per periode uitgewerkt'!C54 -> 0
A22: 4 | B22: B.V.V. '75 1 | N22: ='stand per periode uitgewerkt'!T27 -> #DIV/0! | O22: ='stand per periode uitgewerkt'!Q27 -> 0
A23: 5 | B23: Wenters 2 | N23: ='stand per periode uitgewerkt'!T108 -> #DIV/0! | O23: ='stand per periode uitgewerkt'!Q108 -> 0
A24: 6 | B24: Bousema Lochem 13 | N24: ='stand per periode uitgewerkt'!F27 -> #DIV/0! | O24: ='stand per periode uitgewerkt'!C27 -> 0
A25: 7 | B25: Ivoor Groenlo 1 | N25: ='stand per periode uitgewerkt'!F81 -> #DIV/0! | O25: ='stand per periode uitgewerkt'!C81 -> 0
A26: 8 | B26: Bousema Lochem 12 | N26: ='stand per periode uitgewerkt'!M27 -> #DIV/0! | O26: ='stand per periode uitgewerkt'!J27 -> 0
A27: 9 | B27: Ons Huis 1 | N27: ='stand per periode uitgewerkt'!T81 -> #DIV/0! | O27: ='stand per periode uitgewerkt'!Q81 -> 0
A28: 10 | B28: Driesprong 1 | N28: ='stand per periode uitgewerkt'!M54 -> #DIV/0! | O28: ='stand per periode uitgewerkt'!J54 -> 0
A29: 11 | B29: Ellenkamp 1 | N29: ='stand per periode uitgewerkt'!T54 -> #DIV/0! | O29: ='stand per periode uitgewerkt'!Q54 -> 0
A30: 12 | B30: Kevelder 1 | N30: ='stand per periode uitgewerkt'!M81 -> #DIV/0! | O30: ='stand per periode uitgewerkt'!J81 -> 0
B32: Ronde 1 t/m ronde 11
B33: Ronde 12 t/m ronde 22
B34: Kampioen
B36: De beide periodewinnaars plaatsen zich voor de gewestelijke tussenronde.
B37: Bij gelijk aantal punten in een periode, bepaalt het behaalde % caramboles, de plaats in de
B38: betreffende periode.
B39: Indien de kampioen een periode heeft gewonnen dan wordt het als 2e geëindigde team in
B40: diezelfde periode, de periodewinnaar. Mocht het als 2e geëindigde team in de 2e periode al
B41: periodewinnaar zijn van de 1e periode dan wordt het als 3e geëindigde team in de
B42: 2e periode de poulewinnaar. Etc.
B43: (2e tabblad is de stand uitgewerkt)

Sheet stand per periode uitgewerkt
B1: Bousema 13 | I1: Bousema 12 | P1: BVV'75 1
A2: ronde | B2: 1e periode | C2: pnt | D2: tcar | E2: gcar | F2: % car | H2: ronde | I2: 1e periode | J2: pnt | K2: tcar | L2: gcar | M2: % car | O2: ronde | P2: 1e periode | Q2: pnt | R2: tcar | S2: gcar | T2: % car
A3: 1 | B3: 46267 | C3: 4 | D3: 480 | E3: 386 | F3: =E3/D3*100 -> 80.416667 | H3: 1 | I3: 46315 | M3: =L3/K3*100 -> #DIV/0! | O3: 1 | P3: 46268 | Q3: 6 | R3: 480 | S3: 471 | T3: =S3/R3*100 -> 98.125
A4: 2 | B4: 46275 | F4: =E4/D4*100 -> #DIV/0! | H4: 2 | I4: 46275 | M4: =L4/K4*100 -> #DIV/0! | O4: 2 | P4: 46275 | T4: =S4/R4*100 -> #DIV/0!
A5: 3 | B5: 46318 | F5: =E5/D5*100 -> #DIV/0! | H5: 3 | I5: 46363 | M5: =L5/K5*100 -> #DIV/0! | O5: 3 | P5: 46317 | T5: =S5/R5*100 -> #DIV/0!
A6: 4 | B6: 46288 | F6: =E6/D6*100 -> #DIV/0! | H6: 4 | I6: 46289 | M6: =L6/K6*100 -> #DIV/0! | O6: 4 | P6: 46289 | T6: =S6/R6*100 -> #DIV/0!
A7: 5 | B7: 46296 | F7: =E7/D7*100 -> #DIV/0! | H7: 5 | I7: 46294 | M7: =L7/K7*100 -> #DIV/0! | O7: 5 | P7: 46296 | T7: =S7/R7*100 -> #DIV/0!
A8: 6 | B8: 46302 | F8: =E8/D8*100 -> #DIV/0! | H8: 6 | I8: 46303 | M8: =L8/K8*100 -> #DIV/0! | O8: 6 | P8: 46301 | T8: =S8/R8*100 -> #DIV/0!
A9: 7 | B9: 46309 | F9: =E9/D9*100 -> #DIV/0! | H9: 7 | I9: 46309 | M9: =L9/K9*100 -> #DIV/0! | O9: 7 | P9: 46311 | T9: =S9/R9*100 -> #DIV/0!
A10: 8 | B10: 46323 | F10: =E10/D10*100 -> #DIV/0! | H10: 8 | I10: 46324 | M10: =L10/K10*100 -> #DIV/0! | O10: 8 | P10: 46324 | T10: =S10/R10*100 -> #DIV/0!
A11: 9 | B11: 46329 | F11: =E11/D11*100 -> #DIV/0! | H11: 9 | I11: 46331 | M11: =L11/K11*100 -> #DIV/0! | O11: 9 | P11: 46330 | T11: =S11/R11*100 -> #DIV/0!
A12: 10 | B12: 46337 | F12: =E12/D12*100 -> #DIV/0! | H12: 10 | I12: 46338 | M12: =L12/K12*100 -> #DIV/0! | O12: 10 | P12: 46338 | T12: =S12/R12*100 -> #DIV/0!
A13: 11 | B13: 46345 | F13: =E13/D13*100 -> #DIV/0! | H13: 11 | I13: 46345 | M13: =L13/K13*100 -> #DIV/0! | O13: 11 | P13: 46343 | T13: =S13/R13*100 -> #DIV/0!
B14: totaal | C14: =SUM(C3:C13) -> 4 | D14: =SUM(D3:D13) -> 480 | E14: =SUM(E3:E13) -> 386 | F14: =E14/D14*100 -> 80.416667 | I14: totaal | J14: =J3+J5+J6+J7+J8+J9+J10+J11+J12+J13 -> 0 | K14: =SUM(K3:K13) -> 0 | L14: =SUM(L3:L13) -> 0 | M14: =L14/K14*100 -> #DIV/0! | P14: totaal | Q14: =SUM(Q3:Q13) -> 6 | R14: =SUM(R3:R13) -> 480 | S14: =SUM(S3:S13) -> 471 | T14: =S14/R14*100 -> 98.125
A15: ronde | B15: 2e periode | C15: pnt | D15: tcar | E15: gcar | F15: % car | H15: ronde | I15: 2e periode | J15: pnt | K15: tcar | L15: gcar | M15: % car | O15: ronde | P15: 2e periode | Q15: pnt | R15: tcar | S15: gcar | T15: % car
A16: 12 | B16: 46353 | F16: =E16/D16*100 -> #DIV/0! | H16: 12 | I16: 46352 | M16: =L16/K16*100 -> #DIV/0! | O16: 12 | P16: 46351 | T16: =S16/R16*100 -> #DIV/0!
A17: 13 | B17: 46358 | F17: =E17/D17*100 -> #DIV/0! | H17: 13 | I17: 46359 | M17: =L17/K17*100 -> #DIV/0! | O17: 13 | P17: 46359 | T17: =S17/R17*100 -> #DIV/0!
A18: 14 | B18: 46028 | F18: =E18/D18*100 -> #DIV/0! | H18: 14 | I18: 46029 | M18: =L18/K18*100 -> #DIV/0! | O18: 14 | P18: 46030 | T18: =S18/R18*100 -> #DIV/0!
A19: 15 | B19: 46034 | F19: =E19/D19*100 -> #DIV/0! | H19: 15 | I19: 46035 | M19: =L19/K19*100 -> #DIV/0! | O19: 15 | P19: 46036 | T19: =S19/R19*100 -> #DIV/0!
A20: 16 | B20: 46042 | F20: =E20/D20*100 -> #DIV/0! | H20: 16 | I20: 46043 | M20: =L20/K20*100 -> #DIV/0! | O20: 16 | P20: 46042 | T20: =S20/R20*100 -> #DIV/0!
A21: 17 | B21: 46047 | F21: =E21/D21*100 -> #DIV/0! | H21: 17 | I21: 46048 | M21: =L21/K21*100 -> #DIV/0! | O21: 17 | P21: 46050 | T21: =S21/R21*100 -> #DIV/0!
A22: 18 | B22: 46056 | F22: =E22/D22*100 -> #DIV/0! | H22: 18 | I22: 46057 | M22: =L22/K22*100 -> #DIV/0! | O22: 18 | P22: 46057 | T22: =S22/R22*100 -> #DIV/0!
A23: 19 | B23: 46069 | F23: =E23/D23*100 -> #DIV/0! | H23: 19 | I23: 46072 | M23: =L23/K23*100 -> #DIV/0! | O23: 19 | P23: 46068 | T23: =S23/R23*100 -> #DIV/0!
A24: 20 | B24: 46077 | F24: =E24/D24*100 -> #DIV/0! | H24: 20 | I24: 46079 | M24: =L24/K24*100 -> #DIV/0! | O24: 20 | P24: 46078 | T24: =S24/R24*100 -> #DIV/0!
A25: 21 | B25: 46084 | F25: =E25/D25*100 -> #DIV/0! | H25: 21 | I25: 46085 | M25: =L25/K25*100 -> #DIV/0! | O25: 21 | P25: 46083 | T25: =S25/R25*100 -> #DIV/0!
A26: 22 | B26: 46091 | F26: =E26/D26*100 -> #DIV/0! | H26: 22 | I26: 46091 | M26: =L26/K26*100 -> #DIV/0! | O26: 22 | P26: 46092 | T26: =S26/R26*100 -> #DIV/0!
B27: totaal | C27: =SUM(C16:C26) -> 0 | D27: =SUM(D16:D26) -> 0 | E27: =SUM(E16:E26) -> 0 | F27: =E27/D27*100 -> #DIV/0! | I27: totaal | J27: =SUM(J16:J26) -> 0 | K27: =SUM(K16:K26) -> 0 | L27: =SUM(L16:L26) -> 0 | M27: =L27/K27*100 -> #DIV/0! | P27: totaal | Q27: =SUM(Q16:Q26) -> 0 | R27: =SUM(R16:R26) -> 0 | S27: =SUM(S16:S26) -> 0 | T27: =S27/R27*100 -> #DIV/0!
B28: Driehoek 4 | I28: Driesprong 1 | P28: Ellenkamp 1
A29: ronde | B29: 1e periode | C29: pnt | D29: tcar | E29: gcar | F29: % car | H29: ronde | I29: 1e periode | J29: pnt | K29: tcar | L29: gcar | M29: % car | O29: ronde | P29: 1e periode | Q29: pnt | R29: tcar | S29: gcar | T29: % car
A30: 1 | B30: 46267 | C30: 4 | D30: 570 | E30: 529 | F30: =E30/D30*100 -> 92.807018 | H30: 1 | I30: 46269 | J30: 6 | K30: 560 | L30: 531 | M30: =L30/K30*100 -> 94.821429 | O30: 1 | P30: 46265 | Q30: 8 | R30: 590 | S30: 590 | T30: =S30/R30*100 -> 100
A31: 2 | B31: 46276 | F31: =E31/D31*100 -> #DIV/0! | H31: 2 | I31: 46273 | M31: =L31/K31*100 -> #DIV/0! | O31: 2 | P31: 46274 | T31: =S31/R31*100 -> #DIV/0!
A32: 3 | B32: 46317 | F32: =E32/D32*100 -> #DIV/0! | H32: 3 | I32: 46318 | M32: =L32/K32*100 -> #DIV/0! | O32: 3 | P32: 46363 | T32: =S32/R32*100 -> #DIV/0!
A33: 4 | B33: 46290 | F33: =E33/D33*100 -> #DIV/0! | H33: 4 | I33: 46287 | M33: =L33/K33*100 -> #DIV/0! | O33: 4 | P33: 46290 | T33: =S33/R33*100 -> #DIV/0!
A34: 5 | B34: 46295 | F34: =E34/D34*100 -> #DIV/0! | H34: 5 | I34: 46297 | M34: =L34/K34*100 -> #DIV/0! | O34: 5 | P34: 46293 | T34: =S34/R34*100 -> #DIV/0!
A35: 6 | B35: 46304 | F35: =E35/D35*100 -> #DIV/0! | H35: 6 | I35: 46302 | M35: =L35/K35*100 -> #DIV/0! | O35: 6 | P35: 46302 | T35: =S35/R35*100 -> #DIV/0!
A36: 7 | B36: 46308 | F36: =E36/D36*100 -> #DIV/0! | H36: 7 | I36: 46311 | M36: =L36/K36*100 -> #DIV/0! | O36: 7 | P36: 46307 | T36: =S36/R36*100 -> #DIV/0!
A37: 8 | B37: 46325 | F37: =E37/D37*100 -> #DIV/0! | H37: 8 | I37: 46324 | M37: =L37/K37*100 -> #DIV/0! | O37: 8 | P37: 46324 | T37: =S37/R37*100 -> #DIV/0!
A38: 9 | B38: 46331 | F38: =E38/D38*100 -> #DIV/0! | H38: 9 | I38: 46332 | M38: =L38/K38*100 -> #DIV/0! | O38: 9 | P38: 46332 | T38: =S38/R38*100 -> #DIV/0!
A39: 10 | B39: 46339 | F39: =E39/D39*100 -> #DIV/0! | H39: 10 | I39: 46339 | M39: =L39/K39*100 -> #DIV/0! | O39: 10 | P39: 46335 | T39: =S39/R39*100 -> #DIV/0!
A40: 11 | B40: 46346 | F40: =E40/D40*100 -> #DIV/0! | H40: 11 | I40: 46346 | M40: =L40/K40*100 -> #DIV/0! | O40: 11 | P40: 46315 | T40: =S40/R40*100 -> #DIV/0!
...
