Workbook

Sheet stand  
B1: Periode stand | C1: 1e periode | Q1: Periode stand | R1: 2e periode
A2: Per-1 | B2: B1-klasse | C2: 1 | D2: 2 | E2: 3 | F2: 4 | G2: 5 | H2: 6 | I2: 7 | J2: 8 | K2: 9 | L2: % car | M2: pnt | P2: Per-2 | Q2: B1-klasse | R2: 10 | S2: 11 | T2: 12 | U2: 13 | V2: 14 | W2: 15 | X2: 16 | Y2: 17 | Z2: 18 | AA2: % car | AB2: pnt
A4: 1 | B4: Stuupke 1 | C4: 6 | L4: ='stand per periode uitgewerkt'!M46 -> 100 | M4: ='stand per periode uitgewerkt'!J46 -> 6 | N4: 46317 | P4: 1 | Q4: Stuupke 4 | AA4: ='stand per periode uitgewerkt'!M91 -> #DIV/0! | AB4: ='stand per periode uitgewerkt'!J91 -> 0
A5: 2 | B5: Driesprong 10 | C5: 4 | L5: ='stand per periode uitgewerkt'!M12 -> 98.214286 | M5: ='stand per periode uitgewerkt'!J12 -> 4 | P5: 2 | Q5: Stuupke 3 | AA5: ='stand per periode uitgewerkt'!F91 -> #DIV/0! | AB5: ='stand per periode uitgewerkt'!C91 -> 0
A6: 3 | B6: Bousema 6 | C6: 4 | L6: ='stand per periode uitgewerkt'!F114 -> 94.897959 | M6: ='stand per periode uitgewerkt'!C114 -> 4 | P6: 3 | Q6: Bousema 5 | AA6: ='stand per periode uitgewerkt'!F57 -> #DIV/0! | AB6: ='stand per periode uitgewerkt'!C57 -> 0
A7: 4 | B7: Stuupke 4 | C7: 3 | L7: ='stand per periode uitgewerkt'!M80 -> 98.113208 | M7: ='stand per periode uitgewerkt'!J80 -> 3 | P7: 4 | Q7: Driesprong 11 | AA7: ='stand per periode uitgewerkt'!T23 -> #DIV/0! | AB7: ='stand per periode uitgewerkt'!Q23 -> 0
A8: 5 | B8: Driehoek 2 | C8: 3 | L8: ='stand per periode uitgewerkt'!F12 -> 87.155963 | M8: ='stand per periode uitgewerkt'!C12 -> 3 | N8: 46317 | O8: 10-12 | P8: 5 | Q8: Stuupke 2 | AA8: ='stand per periode uitgewerkt'!T57 -> #DIV/0! | AB8: ='stand per periode uitgewerkt'!Q57 -> 0
A9: 6 | B9: Driesprong 11 | C9: 2 | L9: ='stand per periode uitgewerkt'!T12 -> 88.764045 | M9: ='stand per periode uitgewerkt'!Q12 -> 2 | O9: 10-12 | P9: 6 | Q9: Driesprong 10 | AA9: ='stand per periode uitgewerkt'!M23 -> #DIV/0! | AB9: ='stand per periode uitgewerkt'!J23 -> 0
A10: 7 | B10: Bousema 5 | C10: 2 | L10: ='stand per periode uitgewerkt'!F46 -> 86.138614 | M10: ='stand per periode uitgewerkt'!C46 -> 2 | P10: 7 | Q10: Peppel 1 | AA10: ='stand per periode uitgewerkt'!T91 -> #DIV/0! | AB10: ='stand per periode uitgewerkt'!Q91 -> 0
A11: 8 | B11: Stuupke 3 | C11: 0 | L11: ='stand per periode uitgewerkt'!F80 -> 81.081081 | M11: ='stand per periode uitgewerkt'!C80 -> 0 | P11: 8 | Q11: Stuupke 1 | AA11: ='stand per periode uitgewerkt'!M57 -> #DIV/0! | AB11: ='stand per periode uitgewerkt'!J57 -> 0
A12: 9 | B12: Stuupke 2 | L12: ='stand per periode uitgewerkt'!T46 -> #DIV/0! | M12: ='stand per periode uitgewerkt'!Q46 -> 0 | N12: 46318 | P12: 9 | Q12: Driehoek 2 | AA12: ='stand per periode uitgewerkt'!F23 -> #DIV/0! | AB12: ='stand per periode uitgewerkt'!C23 -> 0
A13: 10 | B13: Peppel 1 | L13: ='stand per periode uitgewerkt'!T80 -> #DIV/0! | M13: ='stand per periode uitgewerkt'!Q80 -> 0 | N13: 46308 | P13: 10 | Q13: Bousema 6 | AA13: ='stand per periode uitgewerkt'!F125 -> #DIV/0! | AB13: ='stand per periode uitgewerkt'!C125 -> 0
B15: Periode stand | C15: 3e periode
A16: Per-3 | B16: B1-klasse | C16: 19 | D16: 20 | E16: 21 | F16: 22 | G16: 23 | H16: 24 | I16: 25 | J16: 26 | K16: 27 | L16: % car | M16: pnt
A18: 1 | B18: Driesprong 10 | L18: ='stand per periode uitgewerkt'!M34 -> #DIV/0! | M18: ='stand per periode uitgewerkt'!J34 -> 0 | N18: 1-4
A19: 2 | B19: Stuupke 2 | L19: ='stand per periode uitgewerkt'!T68 -> #DIV/0! | M19: ='stand per periode uitgewerkt'!Q68 -> 0 | N19: 1-4
A20: 3 | B20: Driehoek 2 | L20: ='stand per periode uitgewerkt'!F34 -> #DIV/0! | M20: ='stand per periode uitgewerkt'!C34 -> 0
A21: 4 | B21: Stuupke 3 | L21: ='stand per periode uitgewerkt'!F102 -> #DIV/0! | M21: ='stand per periode uitgewerkt'!C102 -> 0 | N21: 2-4
A22: 5 | B22: Stuupke 4 | L22: ='stand per periode uitgewerkt'!M102 -> #DIV/0! | M22: ='stand per periode uitgewerkt'!J102 -> 0 | N22: 2-4
A23: 6 | B23: Stuupke 1 | L23: ='stand per periode uitgewerkt'!M68 -> #DIV/0! | M23: ='stand per periode uitgewerkt'!J68 -> 0
A24: 7 | B24: Peppel 1 | L24: ='stand per periode uitgewerkt'!T102 -> #DIV/0! | M24: ='stand per periode uitgewerkt'!Q102 -> 0
A25: 8 | B25: Driesprong 11 | L25: ='stand per periode uitgewerkt'!T34 -> #DIV/0! | M25: ='stand per periode uitgewerkt'!Q34 -> 0
A26: 9 | B26: Bousema 5 | L26: ='stand per periode uitgewerkt'!F68 -> #DIV/0! | M26: ='stand per periode uitgewerkt'!C68 -> 0 | N26: 2-4
A27: 10 | B27: Bousema 6 | L27: ='stand per periode uitgewerkt'!F136 -> #DIV/0! | M27: ='stand per periode uitgewerkt'!C136 -> 0 | N27: 2-4
B29: Ronde 1 t/m 9 | C29: 1e periode
B30: Ronde 10 t/m 18 | C30: 2e periode
B31: Ronde 19 t/m 27 | C31: 3e periode
C32: districtskampioen
B34: De 3 periodewinnaars spelen op 2 mei voor 1 plaats in de gewestelijke tussenronde.
B35: Bij gelijk aantal punten in een periode, bepaalt het behaalde % caramboles, de plaats in de betreffende periode.
B36: Indien de kampioen een periode heeft gewonnen dan wordt het als 2e geëindigde team in diezelfde periode, de periodewinnaar.
B37: Heeft dat team al een periode gewonnen dan komt het als 3e geëindigde team in aanmerking etc.
B38: Indien een team (niet de kampioen) 2 of meer perioden wint, plaatst het als 2e geëindigde team ( niet de kampioen), in de 2e gewonnen periode
B39: van dat team, zich voor de wedstrijden op 2 mei. (etc.)
B40: (2e tabblad is de uitgewerkte stand per periode )

Sheet stand per periode uitgewerkt
B1: Driehoek 2 | I1: Driesprong 10 | P1: Driesprong 11
A2: ronde | B2: 1e periode | C2: pnt | D2: tcar | E2: gcar | F2: % car | H2: ronde | I2: 1e periode | J2: pnt | K2: tcar | L2: gcar | M2: % car | O2: ronde | P2: 1e periode | Q2: pnt | R2: tcar | S2: gcar | T2: % car
A3: 1 | B3: 46268 | C3: 3 | D3: 109 | E3: 95 | F3: =E3/D3*100 -> 87.155963 | H3: 1 | I3: 46268 | J3: 4 | K3: 112 | L3: 110 | M3: =L3/K3*100 -> 98.214286 | O3: 1 | P3: 46268 | Q3: 2 | R3: 89 | S3: 79 | T3: =S3/R3*100 -> 88.764045
A4: 2 | B4: 46275 | F4: =E4/D4*100 -> #DIV/0! | H4: 2 | I4: 46275 | M4: =L4/K4*100 -> #DIV/0! | O4: 2 | P4: 46275 | T4: =S4/R4*100 -> #DIV/0!
A5: 3 | B5: 46366 | F5: =E5/D5*100 -> #DIV/0! | H5: 3 | I5: 46283 | M5: =L5/K5*100 -> #DIV/0! | O5: 3 | P5: 46366 | T5: =S5/R5*100 -> #DIV/0!
A6: 4 | B6: 46317 | F6: =E6/D6*100 -> #DIV/0! | H6: 4 | I6: 46289 | M6: =L6/K6*100 -> #DIV/0! | O6: 4 | P6: 46289 | T6: =S6/R6*100 -> #DIV/0!
A7: 5 | B7: 46297 | F7: =E7/D7*100 -> #DIV/0! | H7: 5 | I7: 46293 | M7: =L7/K7*100 -> #DIV/0! | O7: 5 | P7: 46297 | T7: =S7/R7*100 -> #DIV/0!
A8: 6 | B8: 46303 | F8: =E8/D8*100 -> #DIV/0! | H8: 6 | I8: 46303 | M8: =L8/K8*100 -> #DIV/0! | O8: 6 | P8: 46303 | T8: =S8/R8*100 -> #DIV/0!
A9: 7 | B9: 46307 | F9: =E9/D9*100 -> #DIV/0! | H9: 7 | I9: 46311 | M9: =L9/K9*100 -> #DIV/0! | O9: 7 | P9: 46311 | T9: =S9/R9*100 -> #DIV/0!
A10: 8 | B10: 46324 | F10: =E10/D10*100 -> #DIV/0! | H10: 8 | I10: 46324 | M10: =L10/K10*100 -> #DIV/0! | O10: 8 | P10: 46324 | T10: =S10/R10*100 -> #DIV/0!
A11: 9 | B11: 46332 | F11: =E11/D11*100 -> #DIV/0! | H11: 9 | I11: 46332 | M11: =L11/K11*100 -> #DIV/0! | O11: 9 | P11: 46328 | T11: =S11/R11*100 -> #DIV/0!
B12: totaal | C12: =SUM(C3:C11) -> 3 | D12: =SUM(D3:D11) -> 109 | E12: =SUM(E3:E11) -> 95 | F12: =E12/D12*100 -> 87.155963 | I12: totaal | J12: =SUM(J3:J11) -> 4 | K12: =SUM(K3:K11) -> 112 | L12: =SUM(L3:L11) -> 110 | M12: =L12/K12*100 -> 98.214286 | P12: totaal | Q12: =SUM(Q3:Q11) -> 2 | R12: =SUM(R3:R11) -> 89 | S12: =SUM(S3:S11) -> 79 | T12: =S12/R12*100 -> 88.764045
A13: ronde | B13: 2e periode | C13: pnt | D13: tcar | E13: gcar | F13: % car | H13: ronde | I13: 2e periode | J13: pnt | K13: tcar | L13: gcar | M13: % car | O13: ronde | P13: 2e periode | Q13: pnt | R13: tcar | S13: gcar | T13: % car
A14: 10 | B14: 46339 | F14: =E14/D14*100 -> #DIV/0! | H14: 10 | I14: 46338 | M14: =L14/K14*100 -> #DIV/0! | O14: 10 | P14: 46338 | T14: =S14/R14*100 -> #DIV/0!
A15: 11 | B15: 46345 | F15: =E15/D15*100 -> #DIV/0! | H15: 11 | I15: 46345 | M15: =L15/K15*100 -> #DIV/0! | O15: 11 | P15: 46342 | T15: =S15/R15*100 -> #DIV/0!
A16: 12 | B16: 46352 | F16: =E16/D16*100 -> #DIV/0! | H16: 12 | I16: 46352 | M16: =L16/K16*100 -> #DIV/0! | O16: 12 | P16: 46352 | T16: =S16/R16*100 -> #DIV/0!
A17: 13 | B17: 46360 | F17: =E17/D17*100 -> #DIV/0! | H17: 13 | I17: 46360 | M17: =L17/K17*100 -> #DIV/0! | O17: 13 | P17: 46360 | T17: =S17/R17*100 -> #DIV/0!
A18: 14 | B18: 46029 | F18: =E18/D18*100 -> #DIV/0! | H18: 14 | I18: 46029 | M18: =L18/K18*100 -> #DIV/0! | O18: 14 | P18: 46029 | T18: =S18/R18*100 -> #DIV/0!
A19: 15 | B19: 46033 | F19: =E19/D19*100 -> #DIV/0! | H19: 15 | I19: 46033 | M19: =L19/K19*100 -> #DIV/0! | O19: 15 | P19: 46037 | T19: =S19/R19*100 -> #DIV/0!
A20: 16 | B20: 46043 | F20: =E20/D20*100 -> #DIV/0! | H20: 16 | I20: 46043 | M20: =L20/K20*100 -> #DIV/0! | O20: 16 | P20: 46043 | T20: =S20/R20*100 -> #DIV/0!
A21: 17 | B21: 46051 | F21: =E21/D21*100 -> #DIV/0! | H21: 17 | I21: 46051 | M21: =L21/K21*100 -> #DIV/0! | O21: 17 | P21: 46051 | T21: =S21/R21*100 -> #DIV/0!
A22: 18 | B22: 46057 | F22: =E22/D22*100 -> #DIV/0! | H22: 18 | I22: 46057 | M22: =L22/K22*100 -> #DIV/0! | O22: 18 | P22: 46057 | T22: =S22/R22*100 -> #DIV/0!
B23: totaal | C23: =SUM(C14:C22) -> 0 | D23: =SUM(D14:D22) -> 0 | E23: =SUM(E14:E22) -> 0 | F23: =E23/D23*100 -> #DIV/0! | I23: totaal | J23: =SUM(J14:J22) -> 0 | K23: =SUM(K14:K22) -> 0 | L23: =SUM(L14:L22) -> 0 | M23: =L23/K23*100 -> #DIV/0! | P23: totaal | Q23: =SUM(Q14:Q22) -> 0 | R23: =SUM(R14:R22) -> 0 | S23: =SUM(S14:S22) -> 0 | T23: =S23/R23*100 -> #DIV/0!
A24: ronde | B24: 3e periode | C24: pnt | D24: tcar | E24: gcar | F24: % car | H24: ronde | I24: 3e periode | J24: pnt | K24: tcar | L24: gcar | M24: % car | O24: ronde | P24: 3e periode | Q24: pnt | R24: tcar | S24: gcar | T24: % car
A25: 19 | B25: 46071 | F25: =E25/D25*100 -> #DIV/0! | H25: 19 | I25: 46071 | M25: =L25/K25*100 -> #DIV/0! | O25: 19 | P25: 46071 | T25: =S25/R25*100 -> #DIV/0!
A26: 20 | B26: 46078 | F26: =E26/D26*100 -> #DIV/0! | H26: 20 | I26: 46078 | M26: =L26/K26*100 -> #DIV/0! | O26: 20 | P26: 46078 | T26: =S26/R26*100 -> #DIV/0!
A27: 21 | B27: 46085 | F27: =E27/D27*100 -> #DIV/0! | H27: 21 | I27: 46086 | M27: =L27/K27*100 -> #DIV/0! | O27: 21 | P27: 46085 | T27: =S27/R27*100 -> #DIV/0!
A28: 22 | B28: 46092 | F28: =E28/D28*100 -> #DIV/0! | H28: 22 | I28: 46113 | M28: =L28/K28*100 -> #DIV/0! | O28: 22 | P28: 46092 | T28: =S28/R28*100 -> #DIV/0!
A29: 23 | B29: 46100 | F29: =E29/D29*100 -> #DIV/0! | H29: 23 | I29: 46096 | M29: =L29/K29*100 -> #DIV/0! | O29: 23 | P29: 46100 | T29: =S29/R29*100 -> #DIV/0!
A30: 24 | B30: 46106 | F30: =E30/D30*100 -> #DIV/0! | H30: 24 | I30: 46106 | M30: =L30/K30*100 -> #DIV/0! | O30: 24 | P30: 46106 | T30: =S30/R30*100 -> #DIV/0!
A31: 25 | B31: 46117 | F31: =E31/D31*100 -> #DIV/0! | H31: 25 | I31: 46121 | M31: =L31/K31*100 -> #DIV/0! | O31: 25 | P31: 46121 | T31: =S31/R31*100 -> #DIV/0!
A32: 26 | B32: 46127 | F32: =E32/D32*100 -> #DIV/0! | H32: 26 | I32: 46127 | M32: =L32/K32*100 -> #DIV/0! | O32: 26 | P32: 46127 | T32: =S32/R32*100 -> #DIV/0!
A33: 27 | B33: 46135 | F33: =E33/D33*100 -> #DIV/0! | H33: 27 | I33: 46135 | M33: =L33/K33*100 -> #DIV/0! | O33: 27 | P33: 46131 | T33: =S33/R33*100 -> #DIV/0!
B34: totaal | C34: =SUM(C25:C33) -> 0 | D34: =SUM(D25:D33) -> 0 | E34: =SUM(E25:E33) -> 0 | F34: =E34/D34*100 -> #DIV/0! | I34: totaal | J34: =SUM(J25:J33) -> 0 | K34: =SUM(K25:K33) -> 0 | L34: =SUM(L25:L33) -> 0 | M34: =L34/K34*100 -> #DIV/0! | P34: totaal | Q34: =SUM(Q25:Q33) -> 0 | R34: =SUM(R25:R33) -> 0 | S34: =SUM(S25:S33) -> 0 | T34: =S34/R34*100 -> #DIV/0!
B35: Bousema 5 | I35: Stuupke 1 | P35: Stuupke 2
A36: ronde | B36: 1e periode | C36: pnt | D36: tcar | E36: gcar | F36: % car | H36: ronde | I36: 1e periode | J36: pnt | K36: tcar | L36: gcar | M36: % car | O36: ronde | P36: 1e periode | Q36: pnt | R36: tcar | S36: gcar | T36: % car
A37: 1 | B37: 46265 | C37: 2 | D37: 101 | E37: 87 | F37: =E37/D37*100 -> 86.138614 | H37: 1 | I37: 46269 | J37: 6 | K37: 121 | L37: 121 | M37: =L37/K37*100 -> 100 | O37: 1 | P37: 46318 | T37: =S37/R37*100 -> #DIV/0!
A38: 2 | B38: 46276 | F38: =E38/D38*100 -> #DIV/0! | H38: 2 | I38: 46276 | M38: =L38/K38*100 -> #DIV/0! | O38: 2 | P38: 46276 | T38: =S38/R38*100 -> #DIV/0!
A39: 3 | B39: 46279 | F39: =E39/D39*100 -> #DIV/0! | H39: 3 | I39: 46283 | M39: =L39/K39*100 -> #DIV/0! | O39: 3 | P39: 46283 | T39: =S39/R39*100 -> #DIV/0!
A40: 4 | B40: 46290 | F40: =E40/D40*100 -> #DIV/0! | H40: 4 | I40: 46317 | M40: =L40/K40*100 -> #DIV/0! | N40: 46289 | O40: 4 | P40: 46289 | T40: =S40/R40*100 -> #DIV/0!
...
