{"text_format":"1","workbook":"xlsx","n_sheets":2,"sheets":["Invoerblad","Uitslagformulier"],"not_rendered":{"charts":0,"images":1,"macros":0,"external_links":0,"defined_names":0,"comments":0,"pivot_tables":0},"unopened":[],"bounds":{"document_bytes":16777216,"sheet_cells":100000,"rows_first":2000,"rows_last":500,"rows_between":2000,"halvings":0,"cell_chars":16384,"cell_head_chars":4096},"cells_cut":0,"cells_raw":0,"read":"whole","date_system":"1900"}

{"sheet":"Invoerblad","index":0,"n_rows":56,"n_cols":35,"rows_kept":56,"cut":false,"hidden":false,"merged":[[43,8,43,9],[44,8,44,9],[30,8,30,9],[31,8,31,9],[29,19,29,21],[22,8,22,9],[24,8,24,9],[41,8,41,9],[38,8,38,9],[37,8,37,9],[35,8,35,9],[34,8,34,9],[33,8,33,9],[25,8,25,9],[40,8,40,9],[27,8,27,9],[28,8,28,9],[6,5,6,10],[21,8,21,9],[0,19,0,21],[10,19,10,21],[20,19,20,21],[1,5,1,8],[2,5,2,8],[3,5,3,8],[4,5,4,8],[20,8,20,9],[8,1,9,1],[8,0,9,0],[6,0,6,4],[1,3,1,4],[2,3,2,4],[3,3,3,4],[4,3,4,4],[9,2,9,4]]}
[null,null," ",null,null,null,null,null,null,null,null,null,null,null,null,null,null,null,null,"aantal partijen gespeeld"]
[null,null,null,"Voorronde PK:",null,null,null,null,null,null,null,null,null,null,null,null,null,1,{"$f":"IF(D22>0,1,FALSE)","v":1},{"$f":"IF(D28>0,1,FALSE)","v":1},{"$f":"IF(D35>0,1,FALSE)","v":1},{"$f":"IF(D41>0,1,FALSE)","v":1},{"$f":"SUM(S2:V2)","v":4},{"$f":"PRODUCT(J12,W2)","v":0}]
[null,null,null,"Data:",null,null,null,null,null,null,null,null,null,null,null,null,null,2,{"$f":"IF(L22>0,1,FALSE)","v":1},{"$f":"IF(L28>0,1,FALSE)","v":1},{"$f":"IF(L35>0,1,FALSE)","v":1},{"$f":"IF(L41>0,1,FALSE)","v":1},4,{"$f":"PRODUCT(J12,W3)","v":0}]
[null,null,null,"Locatie:",null,null,null,null,null,null,null,null,null,null,null,null,null,3,{"$f":"IF(D25>0,1,FALSE)","v":1},{"$f":"IF(D31>0,1,FALSE)","v":1},{"$f":"IF(D38>0,1,FALSE)","v":1},{"$f":"IF(D44>0,1,FALSE)","v":1},4,{"$f":"PRODUCT(J12,W4)","v":0}]
[null,null,null,"Wedstrijdleider:",null,null,null,null,null,null,null,null,null,null,null,null,null,4,{"$f":"IF(L25>0,1,FALSE)","v":1},{"$f":"IF(L31>0,1,FALSE)","v":1},{"$f":"IF(L38>0,1,FALSE)","v":1},{"$f":"IF(L42>0,1,FALSE)","v":1},4,{"$f":"PRODUCT(J12,W5)","v":0}]
[null,null,null,null,null,null,null,null,null,null,null,null,null,null,null,null,null,5,{"$f":"IF(L26>0,1,FALSE)","v":1},{"$f":"IF(D32>0,1,FALSE)","v":1},{"$f":"IF(L36>0,1,FALSE)","v":1},{"$f":"IF(D42>0,1,FALSE)","v":1},4,{"$f":"PRODUCT(J12,W6)","v":0}]
["NAMEN INVULLEN VOLGORDE UITNODIGING",null,null,null,null,"UITSLUITEND DE GELE VLAKKEN INVULLEN !",null,null,null,null,null,null,null,null,null,null,null,6,{"$f":"IF(D26>0,1,FALSE)","v":1},{"$f":"IF(L29>0,1,FALSE)","v":1},{"$f":"IF(D36>0,1,FALSE)","v":1},{"$f":"IF(L44>0,1,FALSE)","v":1},4,{"$f":"PRODUCT(J12,W7)","v":0}]
[null,null,null,null,null,null,null,null,null,null,null,null,null,null,null,null,null,7,{"$f":"IF(L23>0,1,FALSE)","v":1},{"$f":"IF(D29>0,1,FALSE)","v":1},{"$f":"IF(L39>0,1,FALSE)","v":1},{"$f":"IF(D45>0,1,FALSE)","v":1},{"$f":"SUM(S8:V8)","v":4},{"$f":"PRODUCT(J12,W8)","v":0}]
["Bondsnr","Naam",null,null,null,null,null,null,null,null,null,null,null,null,null,null,null,8,{"$f":"IF(D23>0,1,FALSE)","v":1},{"$f":"IF(L32>0,1,FALSE)","v":1},{"$f":"IF(D39>0,1,FALSE)","v":1},{"$f":"IF(L45>0,1,FALSE)","v":1},{"$f":"SUM(S9:V9)","v":4},{"$f":"PRODUCT(J12,W9)","v":0}]
[null,null,"Vereniging",null,null,"Moy.","O/NO"]
[null,null,null,null,null,null,null,null,"Partijlengte en moy. grens",null,null,null,null,null,null,null,null,null,null,"partij moyenne"]
[null,null,null,null,null,null,null,null,"Te maken",0,null,null,null,null,null,null,null,1,{"$f":"IF(G22>0,F22,0)","v":0},{"$f":"IF(G28>0,F28,0)","v":0},{"$f":"IF(G35>0,F35,0)","v":0},{"$f":"IF(G41>0,F41,0)","v":0},{"$f":"MAX(S12:V12)","v":0}]
[null,null,null,null,null,null,null,null,null,null,null,null,null,null,null,null,null,2,{"$f":"IF(O22>0,N22,0)","v":0},{"$f":"IF(O28>0,N28,0)","v":0},{"$f":"IF(O35>0,N35,0)","v":0},{"$f":"IF(O41>0,N41,0)","v":0},{"$f":"MAX(S13:V13)","v":0}]
[null,null,null,null,null,null,null,null,"Moy. Gr."," ","tot"," ",null,null,null,null,null,3,{"$f":"IF(G25>0,F25,0)","v":0},{"$f":"IF(G31>0,F31,0)","v":0},{"$f":"IF(G38>0,F38,0)","v":0},{"$f":"IF(G44>0,F44,0)","v":0},0]
[null,null,null,null,null,null,null,null,null,null,null,null,null,null,null,null,null,4,{"$f":"IF(O25>0,N25,0)","v":0},{"$f":"IF(O31>0,N31,0)","v":0},{"$f":"IF(O38>0,N38,0)","v":0},{"$f":"IF(O42>0,N42,0)","v":0},0]
[null,null,null,null,null,null,null,null,null,null,null,null,null,null,null,null,null,5,{"$f":"IF(O26>0,N26,0)","v":0},{"$f":"IF(G32>0,F32,0)","v":0},{"$f":"IF(O36>0,N36,0)","v":0},{"$f":"IF(G42>0,F42,0)","v":0},0]
[null,null,null,null,null,null,null,null,null,null,null,null,null,null,null,null,null,6,{"$f":"IF(O29>0,N29,0)","v":0},{"$f":"IF(O29>0,N29,0)","v":0},{"$f":"IF(G36>0,F36,0)","v":0},{"$f":"IF(O44>0,N44,0)","v":0},0]
[null,null,null,null,null,null,null,null,null,null,null,null,null,null,null,null,null,7,{"$f":"IF(O23>0,N23,0)","v":0},{"$f":"IF(G29>0,F29,0)","v":0},{"$f":"IF(O39>0,N39,0)","v":0},{"$f":"IF(G45>0,F45,0)","v":0},0]
[null," ",null,null,null,null,null,null,null,null,null,null,null,null,null,null,null,8,{"$f":"IF(G23>0,F23,0)","v":0},{"$f":"IF(O32>0,N32,0)","v":0},{"$f":"IF(G39>0,F39,0)","v":0},{"$f":"IF(O44>0,N44,0)","v":0},0]
["Partijen:",null,null,null,null,null,null,null,null,null,null,null,null,null,null,null,null,null,null,null,null,null,null,null,null,null,null,null,null,null,null,1,"-",8]
[null,"Naam","Car.","Brt.","HS","Moy.","Pnt.",null,"Naam",null,"Car.","Brt.","HS","Moy.","Pnt.",null,null,null,null,"partijen gewonnen",null,null,null,null,null,null,null,null,null,null,null,2,"-",7]
[1,{"$f":"B11","v":0}," "," ","  ",{"$f":"ROUNDDOWN(C22/D22,3)","v":{"$error":"#VALUE!"}},{"$f":"AA22","v":0},2,{"$f":"B12","v":0},null," "," ",null,{"$f":"ROUNDDOWN(K22/L22,3)","v":{"$error":"#VALUE!"}},{"$f":"AD22","v":0},null,null,1,{"$f":"IF(G22>1,1,0)","v":0},{"$f":"IF(G28>1,1,0)","v":0},{"$f":"IF(G35>1,1,0)","v":0},{"$f":"IF(G41>1,1,0)","v":0},{"$f":"SUM(S22:V22)","v":0},null,{"$f":"IF(C22=J12,1,0)","v":0},{"$f":"IF(C23<J12,1,0)","v":0},{"$f":"SUM(Y22:Z22)","v":0},{"$f":"IF(K22=J12,1,0)","v":0},{"$f":"IF(K23<J12,1,0)","v":0},{"$f":"SUM(AB22:AC22)","v":0},null,3,"-",6]
[8,{"$f":"B18","v":0}," ",{"$f":"D22","v":" "}," ",{"$error":"#VALUE!"},{"$f":"AA23","v":0},7,{"$f":"B17","v":0},null," ",{"$f":"L22","v":" "},null,{"$error":"#VALUE!"},{"$f":"AD23","v":0},null,null,2,{"$f":"IF(O22>1,1,0)","v":0},{"$f":"IF(O28>1,1,0)","v":0},{"$f":"IF(O35>1,1,0)","v":0},{"$f":"IF(O41>1,1,0)","v":0},{"$f":"SUM(S23:V23)","v":0},null,{"$f":"IF(C23=J12,1,0)","v":0},{"$f":"IF(C22<J12,1,0)","v":0},{"$f":"SUM(Y23:Z23)","v":0},{"$f":"IF(K23=J12,1,0)","v":0},{"$f":"IF(K22<J12,1,0)","v":0},{"$f":"SUM(AB23:AC23)","v":0},null,4,"-",5]
[null,null,null,null,null,null,null,null,null,null,null," ",null,null,null,null,null,3,{"$f":"IF(G25>1,1,0)","v":0},{"$f":"IF(G31>1,1,0)","v":0},{"$f":"IF(G38>1,1,0)","v":0},{"$f":"IF(G38>1,1,0)","v":0},0,null,null,null,null,null,null,null,null,1,"-",7]
[3,{"$f":"B13","v":0}," "," "," ",{"$f":"ROUNDDOWN(C25/D25,3)","v":{"$error":"#VALUE!"}},{"$f":"AA25","v":0},4,{"$f":"B14","v":0},null," "," ",null,{"$f":"ROUNDDOWN(K25/L25,3)","v":{"$error":"#VALUE!"}},{"$f":"AD25","v":0},null,null,4,{"$f":"IF(O25>1,1,0)","v":0},{"$f":"IF(O31>1,1,0)","v":0},{"$f":"IF(O38>1,1,0)","v":0},{"$f":"IF(O42>1,1,0)","v":0},0,null,{"$f":"IF(C25=J12,1,0)","v":0},{"$f":"IF(C26<J12,1,0)","v":0},0,{"$f":"IF(K25=J12,1,0)","v":0},{"$f":"IF(K26<J12,1,0)","v":0},0,null,2,"-",6]
[6,{"$f":"B16","v":0}," ",{"$f":"D25","v":" "}," ",{"$error":"#VALUE!"},{"$f":"AA26","v":0},5,{"$f":"B15","v":0},null," ",{"$f":"L25","v":" "},null,{"$error":"#VALUE!"},{"$f":"AD26","v":0},null,null,5,{"$f":"IF(O26>1,1,0)","v":0},{"$f":"IF(G32>1,1,0)","v":0},{"$f":"IF(O36>1,1,0)","v":0},{"$f":"IF(G42>1,1,0)","v":0},0,null,{"$f":"IF(C26=J12,1,0)","v":0},{"$f":"IF(C25<J12,1,0)","v":0},0,{"$f":"IF(K26=J12,1,0)","v":0},{"$f":"IF(K25<J12,1,0)","v":0},0,null,3,"-",5]
[null,null,null,null,null,null,null,null,null,null,null,null,null,null,null,null,null,6,{"$f":"IF(G26>1,1,0)","v":0},{"$f":"IF(O29>1,1,0)","v":0},{"$f":"IF(G36>1,1,0)","v":0},{"$f":"IF(O44>1,1,0)","v":0},0,null,null,null,null,null,null,null,null,4,"-",8]
[1,{"$f":"B11","v":0}," "," "," ",{"$f":"ROUNDDOWN(C28/D28,3)","v":{"$error":"#VALUE!"}},{"$f":"AA28","v":0},2,{"$f":"B12","v":0},null," "," ",null,{"$f":"ROUNDDOWN(K28/L28,3)","v":{"$error":"#VALUE!"}},{"$f":"AD28","v":0},null,null,7,{"$f":"IF(O23>1,1,0)","v":0},{"$f":"IF(G29>1,1,0)","v":0},{"$f":"IF(O39>1,1,0)","v":0},{"$f":"IF(G45>1,1,0)","v":0},0,null,{"$f":"IF(C28=J12,1,0)","v":0},{"$f":"IF(C29<J12,1,0)","v":0},0,{"$f":"IF(K28=J12,1,0)","v":0},{"$f":"IF(K29<J12,1,0)","v":0},0,null,1,"-",6]
[7,{"$f":"B17","v":0}," ",{"$f":"D28","v":" "}," ",{"$error":"#VALUE!"},{"$f":"AA29","v":0},6,{"$f":"B16","v":0},null," ",{"$f":"L28","v":" "},null,{"$error":"#VALUE!"},{"$f":"AD29","v":0},null,null,8,{"$f":"IF(G23>1,1,0)","v":0},{"$f":"IF(O32>1,1,0)","v":0},{"$f":"IF(G39>1,1,0)","v":0},{"$f":"IF(O45>1,1,0)","v":0},0,null,{"$f":"IF(C29=J12,1,0)","v":0},{"$f":"IF(C28<J12,1,0)","v":0},0,{"$f":"IF(K29=J12,1,0)","v":0},{"$f":"IF(K28<J12,1,0)","v":0},0,null,2,"-",5]
[null,null,null,null,null,null,null,null,null,null,null,null,null,null,null,null,null,null,null,"partijen gelijk",null,null,null,null,null,null,null,null,null,null,null,3,"-",8]
[3,{"$f":"B13","v":0}," "," "," ",{"$f":"ROUNDDOWN(C31/D31,3)","v":{"$error":"#VALUE!"}},{"$f":"AA31","v":0},4,{"$f":"B14","v":0},null," "," ",null,{"$f":"ROUNDDOWN(K31/L31,3)","v":{"$error":"#VALUE!"}},{"$f":"AD31","v":0},null,null,null,null,null,null,null,null,null,{"$f":"IF(C31=J12,1,0)","v":0},{"$f":"IF(C32<J12,1,0)","v":0},0,{"$f":"IF(K31=J12,1,0)","v":0},{"$f":"IF(K32<J12,1,0)","v":0},{"$f":"SUM(AB31:AC31)","v":0},null,4,"-",7," "]
[5,{"$f":"B15","v":0}," ",{"$f":"D31","v":" "}," ",{"$error":"#VALUE!"},{"$f":"AA32","v":0},8,{"$f":"B18","v":0},null," ",{"$f":"L31","v":" "},null,{"$error":"#VALUE!"},{"$f":"AD32","v":0},null,null,1,{"$f":"IF(G22=1,1,0)","v":0},{"$f":"IF(G28=1,1,0)","v":0},{"$f":"IF(G35=1,1,0)","v":0},{"$f":"IF(G41=1,1,0)","v":0},{"$f":"SUM(S32:V32)","v":0},null,{"$f":"IF(C32=J12,1,0)","v":0},{"$f":"IF(C31<J12,1,0)","v":0},0,{"$f":"IF(K32=J12,1,0)","v":0},{"$f":"IF(K31<J12,1,0)","v":0},0,null,1,"-",5," "]
[null,null,null,null,null,null,null,null,null,null,null,null,null,null,null,null,null,2,{"$f":"IF(O22=1,1,0)","v":0},{"$f":"IF(O28=1,1,0)","v":0},{"$f":"IF(O35=1,1,0)","v":0},{"$f":"IF(O41=1,1,0)","v":0},0,null,null,null,null,null,null,null,null,2,"-",4]
[null,"Naam","Car.","Brt.","HS","Moy.","Pnt.",null,"Naam",null,"Car.","Brt.","HS","Moy.","Pnt.",null,null,3,{"$f":"IF(G25=1,1,0)","v":0},{"$f":"IF(G31=1,1,0)","v":0},{"$f":"IF(G38=1,1,0)","v":0},{"$f":"IF(G44=1,1,0)","v":0},0,null,null,null,null,null,null,null,null,3,"-",7]
[1,{"$f":"B11","v":0}," "," "," ",{"$f":"ROUNDDOWN(C35/D35,3)","v":{"$error":"#VALUE!"}},{"$f":"AA35","v":0},2,{"$f":"B12","v":0},null," "," ",null,{"$f":"ROUNDDOWN(K35/L35,3)","v":{"$error":"#VALUE!"}},{"$f":"AD35","v":0},null,null,4,{"$f":"IF(O25=1,1,0)","v":0},{"$f":"IF(O31=1,1,0)","v":0},{"$f":"IF(O38=1,1,0)","v":0},{"$f":"IF(O42=1,1,0)","v":0},0,null,{"$f":"IF(C35=J12,1,0)","v":0},{"$f":"IF(C36<J12,1,0)","v":0},{"$f":"SUM(Y35:Z35)","v":0},{"$f":"IF(K35=J12,1,0)","v":0},{"$f":"IF(K36<J12,1,0)","v":0},0,null,6,"-",8]
[6,{"$f":"B16","v":0}," ",{"$f":"D35","v":" "}," ",{"$error":"#VALUE!"},{"$f":"AA36","v":0},5,{"$f":"B15","v":0},null," ",{"$f":"L35","v":" "},null,{"$error":"#VALUE!"},{"$f":"AD36","v":0},null,null,5,{"$f":"IF(O26=1,1,0)","v":0},{"$f":"IF(G32=1,1,0)","v":0},{"$f":"IF(O36=1,1,0)","v":0},{"$f":"IF(G42=1,1,0)","v":0},0,null,{"$f":"IF(C36=J12,1,0)","v":0},{"$f":"IF(C35<J12,1,0)","v":0},0,{"$f":"IF(K36=J12,1,0)","v":0},{"$f":"IF(K35<J12,1,0)","v":0},0]
[null,null,null,null,null,null,null,null,null,null,null,null,null,null,null,null,null,6,{"$f":"IF(G26=1,1,0)","v":0},{"$f":"IF(O29=1,1,0)","v":0},{"$f":"IF(G36=1,1,0)","v":0},{"$f":"IF(O44=1,1,0)","v":0},0]
[3,{"$f":"B13","v":0}," "," "," ",{"$f":"ROUNDDOWN(C38/D38,3)","v":{"$error":"#VALUE!"}},{"$f":"AA38","v":0},4,{"$f":"B14","v":0},null," "," ",null,{"$f":"ROUNDDOWN(K38/L38,3)","v":{"$error":"#VALUE!"}},{"$f":"AD38","v":0},null,null,7,{"$f":"IF(O23=1,1,0)","v":0},{"$f":"IF(G29=1,1,0)","v":0},{"$f":"IF(O39=1,1,0)","v":0},{"$f":"IF(G45=1,1,0)","v":0},0,null,{"$f":"IF(C38=J12,1,0)","v":0},{"$f":"IF(C39<J12,1,0)","v":0},0,{"$f":"IF(K38=J12,1,0)","v":0},{"$f":"IF(K39<J12,1,0)","v":0},0]
[8,{"$f":"B18","v":0}," ",{"$f":"D38","v":" "}," ",{"$error":"#VALUE!"},{"$f":"AA39","v":0},7,{"$f":"B17","v":0},null," ",{"$f":"L38","v":" "},null,{"$error":"#VALUE!"},{"$f":"AD39","v":0},null,null,8,{"$f":"IF(G23=1,1,0)","v":0},{"$f":"IF(O32=1,1,0)","v":0},{"$f":"IF(G39=1,1,0)","v":0},{"$f":"IF(O45=1,1,0)","v":0},0,null,{"$f":"IF(C39=J12,1,0)","v":0},{"$f":"IF(C38<J12,1,0)","v":0},0,{"$f":"IF(K39=J12,1,0)","v":0},{"$f":"IF(K38<J12,1,0)","v":0},0]
[null,null,null,null,null,null,null,null,null,null,null,null,null,null,null,null,null,null,null,null,null,null," "]
[1,{"$f":"B11","v":0}," "," "," ",{"$f":"ROUNDDOWN(C41/D41,3)","v":{"$error":"#VALUE!"}},{"$f":"AA41","v":0},2,{"$f":"B12","v":0},null," "," ",null,{"$f":"ROUNDDOWN(K41/L41,3)","v":{"$error":"#VALUE!"}},{"$f":"AD41","v":0},null,null,null,null,null,null,null,null,null,{"$f":"IF(C41=J12,1,0)","v":0},{"$f":"IF(C42<J12,1,0)","v":0},0,{"$f":"IF(K41=J12,1,0)","v":0},{"$f":"IF(K42<J12,1,0)","v":0},0]
[5,{"$f":"B15","v":0}," ",{"$f":"D41","v":" "}," ",{"$error":"#VALUE!"},{"$f":"AA42","v":0},4,{"$f":"B14","v":0},null," ",{"$f":"L41","v":" "},null,{"$error":"#VALUE!"},{"$f":"AD42","v":0},null,null,null,null,null,null,null,null,null,{"$f":"IF(C42=J12,1,0)","v":0},{"$f":"IF(C41<J12,1,0)","v":0},0,{"$f":"IF(K42=J12,1,0)","v":0},{"$f":"IF(K41<J12,1,0)","v":0},0]
[]
[3,{"$f":"B13","v":0}," "," "," ",{"$f":"ROUNDDOWN(C44/D44,3)","v":{"$error":"#VALUE!"}},{"$f":"AA44","v":0},6,{"$f":"B16","v":0},null," "," ",null,{"$f":"ROUNDDOWN(K44/L44,3)","v":{"$error":"#VALUE!"}},{"$f":"AD44","v":0},null,null,null,null,null,null,null,null,null,{"$f":"IF(C44=J12,1,0)","v":0},{"$f":"IF(C45<J12,1,0)","v":0},0,{"$f":"IF(K44=J12,1,0)","v":0},{"$f":"IF(K45<J12,1,0)","v":0},{"$f":"SUM(AB44:AC44)","v":0}]
[7,{"$f":"B17","v":0}," ",{"$f":"D44","v":" "}," ",{"$error":"#VALUE!"},{"$f":"AA45","v":0},8,{"$f":"B18","v":0},null," ",{"$f":"L44","v":" "},null,{"$error":"#VALUE!"},{"$f":"AD45","v":0},null,null,null,null,null,null,null,null,null,{"$f":"IF(C45=J12,1,0)","v":0},{"$f":"IF(C44<J12,1,0)","v":0},0,{"$f":"IF(K45=J12,1,0)","v":0},{"$f":"IF(K44<J12,1,0)","v":0},0]
[null,null,null,null," "]
["Stand"]
[null,null,"Car.","Brt.","HS","Moy.","Pnt."]
[null,{"$f":"B11","v":0},{"$f":"SUM(C22,C28,C35,C41)","v":0},{"$f":"SUM(D22,D28,D35,D41)","v":0},{"$f":"MAX(E22,E28,E35,E41)","v":0},{"$f":"ROUNDDOWN(C49/D49,3)","v":{"$error":"#DIV/0!"}},{"$f":"SUM(G22,G28,G35,G41)","v":0}]
[null,{"$f":"B12","v":0},{"$f":"SUM(K22,K28,K35,K41)","v":0},{"$f":"SUM(L22,L28,L35,L41)","v":0},{"$f":"MAX(M22,M28,M35,M41)","v":0},{"$f":"ROUNDDOWN(C50/D50,3)","v":{"$error":"#DIV/0!"}},{"$f":"SUM(O22,O28,O35,O41)","v":0}]
[null,0,{"$f":"SUM(C25,C31,C38,C44)","v":0},{"$f":"SUM(D25,D31,D38,D44)","v":0},{"$f":"MAX(E25,E31,E38,E44)","v":0},{"$error":"#DIV/0!"},{"$f":"SUM(G25,G31,G38,G44)","v":0}]
[null,0,{"$f":"SUM(K25,K31,K38,K42)","v":0},{"$f":"SUM(L25,L31,L38,L42)","v":0},{"$f":"MAX(M25,M31,M38,M42)","v":0},{"$error":"#DIV/0!"},{"$f":"SUM(O25,O31,O38,O42)","v":0}]
[null,0,{"$f":"SUM(K26,C32,K36,C42)","v":0},{"$f":"SUM(L26,D32,L36,D42)","v":0},{"$f":"MAX(M26,E32,M36,E42)","v":0},{"$error":"#DIV/0!"},{"$f":"SUM(O26,G32,O36,G42)","v":0}]
[null,0,{"$f":"SUM(C26,K29,C36,K44)","v":0},{"$f":"SUM(D26,L29,D36,L44)","v":0},{"$f":"MAX(E26,M29,E36,M44)","v":0},{"$error":"#DIV/0!"},{"$f":"SUM(G26,O29,G36,O44)","v":0}]
[null,0,{"$f":"SUM(K23,C29,K39,C45)","v":0},{"$f":"SUM(L23,D29,L39,D45)","v":0},{"$f":"MAX(M23,E29,M39,E45)","v":0},{"$error":"#DIV/0!"},{"$f":"SUM(O23,G29,O39,G45)","v":0}]
[null,0,{"$f":"SUM(C23,K32,C39,K45)","v":0},{"$f":"SUM(D23,L32,D39,L45)","v":0},{"$f":"MAX(E23,M32,E39,M45)","v":0},{"$f":"ROUNDDOWN(C56/D56,3)","v":{"$error":"#DIV/0!"}},{"$f":"SUM(G23,O32,G39,O45)","v":0}]

{"sheet":"Uitslagformulier","index":1,"n_rows":98,"n_cols":11,"rows_kept":98,"cut":false,"hidden":false,"merged":[[32,7,32,8],[33,7,33,8],[34,7,34,8],[31,7,31,8],[29,5,29,8],[1,1,1,4],[1,5,1,9],[13,7,13,9],[14,7,14,9],[14,3,14,6],[13,3,13,6],[24,9,24,10],[25,9,29,10],[23,0,23,3],[23,5,23,8],[30,0,30,3],[30,5,30,8],[26,0,26,3],[27,0,27,3],[28,0,28,3],[29,0,29,3],[24,0,24,3],[24,5,24,8],[26,5,26,8],[27,5,27,8],[28,5,28,8]]}
[]
[null,"Uitslagformulier voorronden ",null,null,null,{"$f":"Invoerblad!F2","v":0}]
[]
[null,"Bondsnr.","Naam","Gew.","Remise","Carb.","Brt.","HS.","Pnt.","Moyenne","% moy."]
[null,null,null," "," "]
[1,{"$f":"Invoerblad!A11","v":0},{"$f":"Invoerblad!B11","v":0},{"$f":"Invoerblad!W22","v":0},{"$f":"Invoerblad!Y32","v":0},{"$f":"Invoerblad!C49","v":0},{"$f":"Invoerblad!D49","v":0},{"$f":"Invoerblad!E49","v":0},{"$f":"Invoerblad!G49","v":0},{"$f":"Invoerblad!F49","v":{"$error":"#DIV/0!"}},{"$f":"Invoerblad!#REF!/100","v":{"$error":"#REF!"}}]
[2,{"$f":"Invoerblad!A12","v":0},{"$f":"Invoerblad!B12","v":0},{"$f":"Invoerblad!W23","v":0},{"$f":"Invoerblad!W33","v":0},{"$f":"Invoerblad!C50","v":0},{"$f":"Invoerblad!D50","v":0},{"$f":"Invoerblad!E50","v":0},{"$f":"Invoerblad!G50","v":0},{"$f":"Invoerblad!F50","v":{"$error":"#DIV/0!"}},{"$f":"Invoerblad!#REF!/100","v":{"$error":"#REF!"}}]
[3,{"$f":"Invoerblad!A13","v":0},{"$f":"Invoerblad!B13","v":0},{"$f":"Invoerblad!W24","v":0},{"$f":"Invoerblad!W34","v":0},{"$f":"Invoerblad!C51","v":0},{"$f":"Invoerblad!D51","v":0},{"$f":"Invoerblad!E51","v":0},{"$f":"Invoerblad!G51","v":0},{"$f":"Invoerblad!F51","v":{"$error":"#DIV/0!"}},{"$f":"Invoerblad!#REF!/100","v":{"$error":"#REF!"}}]
[4,{"$f":"Invoerblad!A14","v":0},{"$f":"Invoerblad!B14","v":0},{"$f":"Invoerblad!W25","v":0},{"$f":"Invoerblad!W35","v":0},{"$f":"Invoerblad!C52","v":0},{"$f":"Invoerblad!D52","v":0},{"$f":"Invoerblad!E52","v":0},{"$f":"Invoerblad!G52","v":0},{"$f":"Invoerblad!F52","v":{"$error":"#DIV/0!"}},{"$f":"Invoerblad!#REF!/100","v":{"$error":"#REF!"}}]
[5,{"$f":"Invoerblad!A15","v":0},{"$f":"Invoerblad!B15","v":0},{"$f":"Invoerblad!W26","v":0},{"$f":"Invoerblad!W36","v":0},{"$f":"Invoerblad!C53","v":0},{"$f":"Invoerblad!D53","v":0},{"$f":"Invoerblad!E53","v":0},{"$f":"Invoerblad!G53","v":0},{"$f":"Invoerblad!F53","v":{"$error":"#DIV/0!"}},{"$f":"Invoerblad!#REF!/100","v":{"$error":"#REF!"}}]
[6,{"$f":"Invoerblad!A16","v":0},{"$f":"Invoerblad!B16","v":0},{"$f":"Invoerblad!W27","v":0},{"$f":"Invoerblad!W37","v":0},{"$f":"Invoerblad!C54","v":0},{"$f":"Invoerblad!D54","v":0},{"$f":"Invoerblad!E54","v":0},{"$f":"Invoerblad!G54","v":0},{"$f":"Invoerblad!F54","v":{"$error":"#DIV/0!"}},{"$f":"Invoerblad!#REF!/100","v":{"$error":"#REF!"}}]
[7,{"$f":"Invoerblad!A17","v":0},{"$f":"Invoerblad!B17","v":0},{"$f":"Invoerblad!W28","v":0},{"$f":"Invoerblad!W38","v":0},{"$f":"Invoerblad!C55","v":0},{"$f":"Invoerblad!D55","v":0},{"$f":"Invoerblad!E55","v":0},{"$f":"Invoerblad!G55","v":0},{"$f":"Invoerblad!F55","v":{"$error":"#DIV/0!"}},{"$f":"Invoerblad!#REF!/100","v":{"$error":"#REF!"}}]
[]
[null,null,null,"Naam locatie",null,null,null,"Datum"]
[null,null,null,{"$f":"Invoerblad!F4","v":0},null,null,null,{"$f":"TODAY()","v":"2023-11-14"}]
[]
["DIT FORMULIER DUIDELIJK INGEVULD EN VOORZIEN VAN DE HANDTEKENING "]
[]
["VAN EEN LID VAN DE ORGANISERENDE VERENIGING           BINNEN 3 DAGEN "]
[]
["NA AFLOOP VAN DE VOORWEDSTRIJDEN TOEZENDEN OF MAILEN AAN:  "]
[]
["﻿ "]
["Met vriendelijke groet"]
["Wedstrijdleider PK  Libre en Bandstoten",null,null,null,null,null,null,null,null,"handtekening:"]
[null,null,null,null,null,null,null,null,null,{"$f":"Invoerblad!F5","v":0}]
["Johan Jansink"]
["Veemarkt 11"]
["7121 AH  Aalten"]
["Tel: 0543-472292 / 06-40263789"]
["E-mail: j.jansink2016@gmail.com"]
[]
[]
[]
[]
[]
[]
[]
[]
[]
[]
[]
[]
[]
[]
[]
[]
[]
[]
[]
[]
[]
[]
[]
[]
[]
[]
[]
[]
[]
[]
[]
[]
[]
[]
[]
[]
[]
[]
[]
[]
[]
[]
[]
[]
[]
[]
[]
[]
[]
[]
[]
[]
[]
[]
[]
[]
[]
[]
[]
[]
[]
[]
[]
[]
[]
[]
[null,"made by Marco Ubbink"]