{"text_format":"1","workbook":"xlsx","n_sheets":2,"sheets":["Invoerblad","Uitslagformulier"],"not_rendered":{"charts":0,"images":1,"macros":0,"external_links":0,"defined_names":0,"comments":0,"pivot_tables":0},"unopened":[],"bounds":{"document_bytes":16777216,"sheet_cells":100000,"rows_first":2000,"rows_last":500,"rows_between":2000,"halvings":0,"cell_chars":16384,"cell_head_chars":4096},"cells_cut":0,"cells_raw":0,"read":"whole","date_system":"1900"}

{"sheet":"Invoerblad","index":0,"n_rows":54,"n_cols":43,"rows_kept":54,"cut":false,"hidden":false,"merged":[[6,0,6,4],[1,3,1,4],[2,3,2,4],[3,3,3,4],[4,3,4,4],[6,5,6,10],[20,8,20,9],[0,20,0,22],[10,19,10,21],[19,20,19,22],[1,5,1,8],[2,5,2,8],[3,5,3,8],[4,5,4,8],[19,8,19,9],[28,20,28,22],[21,8,21,9],[23,8,23,9],[40,8,40,9],[37,8,37,9],[36,8,36,9],[34,8,34,9],[33,8,33,9],[32,8,32,9],[24,8,24,9],[39,8,39,9],[26,8,26,9],[27,8,27,9]]}
[null,null," ",null,null,null,null,null,null,null,null,null,null,null,null,null,null,null,null,null,"aantal partijen gespeeld",null,null,null,null,null,null,null,null,null,null,null,null,null,null,null,null,null,null,null,null,null," "]
[null,null,null,"Voorronde PK:",null,null,null,null,null,null,null,null,null,null,null,null,null,null,1,{"$f":"IF(D21>0,1,FALSE)","v":1},{"$f":"IF(L24>0,1,FALSE)","v":1},{"$f":"IF(D37>0,1,FALSE)","v":1},{"$f":"IF(D37>0,1,FALSE)","v":1},{"$f":"SUM(T2:W2)","v":4},{"$f":"PRODUCT(I11,X2)","v":0}]
[null,null,null,"Data:",null,null,null,null,null,null,null,null,null,null,null,null,null,null,2,{"$f":"IF(L21>0,1,FALSE)","v":1},{"$f":"IF(D27>0,1,FALSE)","v":1},{"$f":"IF(L34>0,1,FALSE)","v":1},{"$f":"IF(L40>0,1,FALSE)","v":1},4,{"$f":"PRODUCT(I11,X3)","v":0}]
[null,null,null,"Locatie:",null,null,null,null,null,null,null,null,null,null,null,null,null,null,3,{"$f":"IF(D24>0,1,FALSE)","v":1},{"$f":"IF(L27>0,1,FALSE)","v":1},{"$f":"IF(L37>0,1,FALSE)","v":1},{"$f":"IF(D44>0,1,FALSE)","v":1},4,{"$f":"PRODUCT(I11,X4)","v":0}]
[null,null,null,"Wedstrijdleider:",null,null,null,null,null,null,null,null,null,null,null,null,null,null,4,{"$f":"IF(L25>0,1,FALSE)","v":1},{"$f":"IF(D30>0,1,FALSE)","v":1},{"$f":"IF(L35>0,1,FALSE)","v":1},{"$f":"IF(D40>0,1,FALSE)","v":1},4,{"$f":"PRODUCT(I11,X5)","v":0}]
[null,null,null,null,null,null,null,null,null,null,null,null,null,null,null,null,null,null,5,{"$f":"IF(L22>0,1,FALSE)","v":1},{"$f":"IF(L28>0,1,FALSE)","v":1},{"$f":"IF(D34>0,1,FALSE)","v":1},{"$f":"IF(D38>0,1,FALSE)","v":1},4,{"$f":"PRODUCT(I11,X6)","v":0}]
["NAMEN INVULLEN VOLGORDE UITNODIGING",null,null,null,null,"UITSLUITEND DE GELE VLAKKEN INVULLEN !",null,null,null,null,null,null,null,null,null,null,null,null,6,{"$f":"IF(D22>0,1,FALSE)","v":1},{"$f":"IF(D28>0,1,FALSE)","v":1},{"$f":"IF(L38>0,1,FALSE)","v":1},{"$f":"IF(D41>0,1,FALSE)","v":1},4,{"$f":"PRODUCT(I11,X7)","v":0}]
[null,null,null,null,null,null,null,null,null,null,null,null,null,null,null,null,null,null,7,{"$f":"IF(D25>0,1,FALSE)","v":1},{"$f":"IF(D31>0,1,FALSE)","v":1},{"$f":"IF(D35>0,1,FALSE)","v":1},{"$f":"IF(L41>0,1,FALSE)","v":1},{"$f":"SUM(T8:W8)","v":4},{"$f":"PRODUCT(I11,X8)","v":0}]
["Bondsnr","Naam","Vereniging",null,null,"Moy.","O/NO"]
[null,null,null,null,null,null,null,"Partijlengte en moy. grens"]
[null,null,null,null,null,null,null,"Te maken",0,null,null,null,null,null,null,null,null,null,null,"partij moyenne"]
[null,null,null,null,null,null,null,null,null,null,null,null,null,null,null,null,null,1,{"$f":"IF(G21>0,F21,0)","v":0},{"$f":"IF(G27>0,F27,0)","v":0},{"$f":"IF(G34>0,F34,0)","v":0},{"$f":"IF(O40>0,N40,0)","v":0},{"$f":"MAX(S12:V12)","v":0}]
[null,null,null,null,null,null,null,"Moy. Gr.",null,"tot",null,null,null,null,null,null,null,2,{"$f":"IF(O21>0,N21,0)","v":0},{"$f":"IF(O27>0,N27,0)","v":0},{"$f":"IF(O34>0,N34,0)","v":0},{"$f":"IF(O41>0,N41,0)","v":0},{"$f":"MAX(S13:V13)","v":0}]
[null,null,null,null,null,null,null,null,null,null,null,null,null,null,null,null,null,3,{"$f":"IF(G24>0,F24,0)","v":0},{"$f":"IF(G30>0,F30,0)","v":0},{"$f":"IF(O35>0,N35,0)","v":0},{"$f":"IF(O37>0,N37,0)","v":0},0]
[null,null,null,null,null,null,null,null,null,null,null,null,null,null,null,null,null,4,{"$f":"IF(O24>0,N24,0)","v":0},{"$f":"IF(G31>0,F31,0)","v":0},{"$f":"IF(G37>0,F37,0)","v":0},{"$f":"IF(G43>0,F43,0)","v":0},0]
[null," ",null,null,null,null,null,null,null,null,null,null,null,null,null,null,null,5,{"$f":"IF(O22>0,N22,0)","v":0},{"$f":"IF(O25>0,N25,0)","v":0},{"$f":"IF(G35>0,F35,0)","v":0},{"$f":"IF(O38>0,N38,0)","v":0},0]
[null," ",null,null,null,null,null,null,null,null,null,null,null,null,null,null,null,6,{"$f":"IF(G25>0,F25,0)","v":0},{"$f":"IF(G28>0,F28,0)","v":0},{"$f":"IF(G40>0,F40,0)","v":0},{"$f":"IF(G44>0,F44,0)","v":0},0]
[null,null,null,null,null,null,null,null,null,null,null,null,null,null,null,null,null,7,{"$f":"IF(G22>0,F22,0)","v":0},{"$f":"IF(O28>0,N28,0)","v":0},{"$f":"IF(G38>0,F38,0)","v":0},{"$f":"IF(G41>0,F41,0)","v":0},0]
["Partijen:",null,null,null,null,null,null,null,null,null,null,null,null,null,null,null,null,null,null,null,null,null,null,null,null,null,null,null,null,null,null,null,null,null,1,"-",7]
[null,"Naam","Car.","Brt.","HS","Moy.","Pnt.",null,"Naam",null,"Car.","Brt.","HS","Moy.","Pnt.",null,null,null,null,null,"partijen gewonnen",null,null,null,null,null,null,null,null,null,null,null,null,null,2,"-",5]
[null,{"$f":"B11","v":0}," "," "," ",{"$f":"ROUNDDOWN(C21/D21,3)","v":{"$error":"#VALUE!"}},{"$f":"AB21","v":0},null,{"$f":"B12","v":0},null," "," ",null,{"$f":"ROUNDDOWN(K21/L21,3)","v":{"$error":"#VALUE!"}},{"$f":"AE21","v":0},null,null,null,1,{"$f":"IF(G21>1,1,0)","v":0},{"$f":"IF(G27>1,1,0)","v":0},{"$f":"IF(G34>1,1,0)","v":0},{"$f":"IF(O40>1,1,0)","v":0},{"$f":"SUM(T21:W21)","v":0},null,{"$f":"IF(C21=I11,1,0)","v":0},{"$f":"IF(C22<I11,1,0)","v":0},{"$f":"SUM(Z21:AA21)","v":0},{"$f":"IF(K21=I11,1,0)","v":0},{"$f":"IF(K22<I11,1,0)","v":0},{"$f":"SUM(AC21:AD21)","v":0},null,null,null,3,"-",6]
[null,{"$f":"B17","v":" "}," ",{"$f":"D21","v":" "}," ",{"$error":"#VALUE!"},{"$f":"AB22","v":0},null,{"$f":"B15","v":0},null," ",{"$f":"L21","v":" "},null,{"$error":"#VALUE!"},{"$f":"AE22","v":0},null,null,null,2,{"$f":"IF(O21>1,1,0)","v":0},{"$f":"IF(O27>1,1,0)","v":0},{"$f":"IF(O34>1,1,0)","v":0},{"$f":"IF(O41>1,1,0)","v":0},{"$f":"SUM(T22:W22)","v":0},null,{"$f":"IF(C22=I11,1,0)","v":0},{"$f":"IF(C21<I11,1,0)","v":0},{"$f":"SUM(Z22:AA22)","v":0},{"$f":"IF(K22=I11,1,0)","v":0},{"$f":"IF(K21<I11,1,0)","v":0},{"$f":"SUM(AC22:AD22)","v":0},null,null,null,4,"-",5]
[null,null,null,null,null,null,null,null,null,null,null,null,null,null,null,null,null,null,3,{"$f":"IF(G24>1,1,0)","v":0},{"$f":"IF(G30>1,1,0)","v":0},{"$f":"IF(O35>1,1,0)","v":0},{"$f":"IF(O37>1,1,0)","v":0},0,null,null,null,null,null,null,null,null,null,null,1,"-",6]
[null,{"$f":"B13","v":0}," "," "," ",{"$f":"ROUNDDOWN(C24/D24,3)","v":{"$error":"#VALUE!"}},{"$f":"AB24","v":0},null,{"$f":"B14","v":0},null," "," ",null,{"$f":"ROUNDDOWN(K24/L24,3)","v":{"$error":"#VALUE!"}},{"$f":"AE24","v":0},null,null,null,4,{"$f":"IF(O24>1,1,0)","v":0},{"$f":"IF(G31>1,1,0)","v":0},{"$f":"IF(G37>1,1,0)","v":0},{"$f":"IF(G43>1,1,0)","v":0},0,null,{"$f":"IF(C24=I11,1,0)","v":0},{"$f":"IF(C25<I11,1,0)","v":0},0,{"$f":"IF(K24=I11,1,0)","v":0},{"$f":"IF(K25<I11,1,0)","v":0},0,null,null,null,2,"-",7]
[null,{"$f":"B16","v":" "}," ",{"$f":"D24","v":" "}," ",{"$error":"#VALUE!"},{"$f":"AB25","v":0},null,{"$f":"B15","v":0},null," ",{"$f":"L24","v":" "},null,{"$error":"#VALUE!"},{"$f":"AE25","v":0},null,null,null,5,{"$f":"IF(O22>1,1,0)","v":0},{"$f":"IF(O25>1,1,0)","v":0},{"$f":"IF(G35>1,1,0)","v":0},{"$f":"IF(O38>1,1,0)","v":0},0,null,{"$f":"IF(C25=I11,1,0)","v":0},{"$f":"IF(C24<I11,1,0)","v":0},0,{"$f":"IF(K25=I11,1,0)","v":0},{"$f":"IF(K24<I11,1,0)","v":0},0,null,null,null,3,"-",4]
[null,null,null,null,null,null,null,null,null,null,null,null,null,null,null,null,null,null,6,{"$f":"IF(G25>1,1,0)","v":0},{"$f":"IF(G28>1,1,0)","v":0},{"$f":"IF(G40>1,1,0)","v":0},{"$f":"IF(G44>1,1,0)","v":0},0,null,null,null,null,null,null,null,null,null,null,1,"-",5]
[null,{"$f":"B11","v":0}," "," "," ",{"$f":"ROUNDDOWN(C27/D27,3)","v":{"$error":"#VALUE!"}},{"$f":"AB27","v":0},null,{"$f":"B12","v":0},null," "," ",null,{"$f":"ROUNDDOWN(K27/L27,3)","v":{"$error":"#VALUE!"}},{"$f":"AE27","v":0},null,null,null,7,{"$f":"IF(G22>1,1,0)","v":0},{"$f":"IF(O28>1,1,0)","v":0},{"$f":"IF(G38>1,1,0)","v":0},{"$f":"IF(O41>1,1,0)","v":0},0,null,{"$f":"IF(C27=I11,1,0)","v":0},{"$f":"IF(C28<I11,1,0)","v":0},0,{"$f":"IF(K27=I11,1,0)","v":0},{"$f":"IF(K28<I11,1,0)","v":0},0,null,null,null,2,"-",3]
[null,{"$f":"B16","v":" "}," ",{"$f":"D27","v":" "}," ",{"$error":"#VALUE!"},{"$f":"AB28","v":0},null,{"$f":"B17","v":" "},null," ",{"$f":"L27","v":" "},null,{"$error":"#VALUE!"},{"$f":"AE28","v":0},null,null,null,null,null,null,null,null,null,null,{"$f":"IF(C28=I11,1,0)","v":0},{"$f":"IF(C27<I11,1,0)","v":0},0,{"$f":"IF(K28=I11,1,0)","v":0},{"$f":"IF(K27<I11,1,0)","v":0},0,null,null,null,4,"-",7]
[null,null,null,null,null,null,null,null,null,null,null,null,null,null,null,null,null,null,null,null,"partijen gelijk",null,null,null,null,null,null,null,null,null,null,null,null,null,3,"-",5]
[null,{"$f":"B13","v":0}," "," ",null,{"$f":"ROUNDDOWN(C30/D30,3)","v":{"$error":"#VALUE!"}},{"$f":"AB30","v":0},null,null,null,null,null,null,null,null,null,null,null,null,null,null,null,null,null,null,{"$f":"IF(C30=I11,1,0)","v":0},{"$f":"IF(C31<I11,1,0)","v":0},0,null,null,null,null,null,null,6,"-",7]
[null,{"$f":"B14","v":0}," ",{"$f":"D30","v":" "},null,{"$error":"#VALUE!"},{"$f":"AB31","v":0},null,null,null,null,null,null,null,null,null,null,null,1,{"$f":"IF(G21=1,1,0)","v":0},{"$f":"IF(G27=1,1,0)","v":0},{"$f":"IF(G34=1,1,0)","v":0},{"$f":"IF(O40=1,1,0)","v":0},{"$f":"SUM(T31:W31)","v":0},null,{"$f":"IF(C31=I11,1,0)","v":0},{"$f":"IF(C30<I11,1,0)","v":0},0,null,null,null,null,null,null,1,"-",2]
[null,null,null,null,null,null,null,null,null,null,null,null,null,null,null,null,null,null,2,{"$f":"IF(O21=1,1,0)","v":0},{"$f":"IF(O27=1,1,0)","v":0},{"$f":"IF(O34=1,1,0)","v":0},{"$f":"IF(O41=1,1,0)","v":0},0,null,null,null,null,null,null,null,null,null,null,4,"-",6]
[null,"Naam","Car.","Brt.","HS","Moy.","Pnt.",null,"Naam",null,"Car.","Brt.","HS","Moy.","Pnt.",null,null,null,3,{"$f":"IF(G24=1,1,0)","v":0},{"$f":"IF(G30=1,1,0)","v":0},{"$f":"IF(O35=1,1,0)","v":0},{"$f":"IF(O37=1,1,0)","v":0},0]
[null,{"$f":"B11","v":0}," "," ",null,{"$f":"ROUNDDOWN(C34/D34,3)","v":{"$error":"#VALUE!"}},{"$f":"AB34","v":0},null,{"$f":"B12","v":0},null," "," ",null,{"$f":"ROUNDDOWN(K34/L34,3)","v":{"$error":"#VALUE!"}},{"$f":"AE34","v":0},null,null,null,4,{"$f":"IF(O24=1,1,0)","v":0},{"$f":"IF(G31=1,1,0)","v":0},{"$f":"IF(G37=1,1,0)","v":0},{"$f":"IF(G43=1,1,0)","v":0},0,null,{"$f":"IF(C34=I11,1,0)","v":0},{"$f":"IF(C35<I11,1,0)","v":0},{"$f":"SUM(Z34:AA34)","v":0},{"$f":"IF(K34=I11,1,0)","v":0},{"$f":"IF(K35<I11,1,0)","v":0},0,null,null,null,1,3,4]
[null,{"$f":"B15","v":0}," ",{"$f":"D34","v":" "},null,{"$error":"#VALUE!"},{"$f":"AB35","v":0},null,{"$f":"B13","v":0},null," ",{"$f":"L34","v":" "},null,{"$error":"#VALUE!"},{"$f":"AE35","v":0},null,null,null,5,{"$f":"IF(O22=1,1,0)","v":0},{"$f":"IF(O25=1,1,0)","v":0},{"$f":"IF(G35=1,1,0)","v":0},{"$f":"IF(O38=1,1,0)","v":0},0,null,{"$f":"IF(C35=I11,1,0)","v":0},{"$f":"IF(C34<I11,1,0)","v":0},0,{"$f":"IF(K35=I11,1,0)","v":0},{"$f":"IF(K34<I11,1,0)","v":0},0,null,null,null,2,4,6]
[null,null,null,null,null,null,null,null,null,null,null,null,null,null,null,null,null,null,6,{"$f":"IF(G25=1,1,0)","v":0},{"$f":"IF(G28=1,1,0)","v":0},{"$f":"IF(G40=1,1,0)","v":0},{"$f":"IF(G44=1,1,0)","v":0},0,null,null,null,null,null,null,null,null,null,null,3,1,7]
[null,{"$f":"B14","v":0}," "," ",null,{"$f":"ROUNDDOWN(C37/D37,3)","v":{"$error":"#VALUE!"}},{"$f":"AB37","v":0},null,{"$f":"B13","v":0},null," "," ",null,{"$f":"ROUNDDOWN(K37/L37,3)","v":{"$error":"#VALUE!"}},{"$f":"AE37","v":0},null,null,null,7,{"$f":"IF(G22=1,1,0)","v":0},{"$f":"IF(O28=1,1,0)","v":0},{"$f":"IF(G38=1,1,0)","v":0},{"$f":"IF(G41=1,1,0)","v":0},0,null,{"$f":"IF(C37=I11,1,0)","v":0},{"$f":"IF(C38<I11,1,0)","v":0},0,{"$f":"IF(K37=I11,1,0)","v":0},{"$f":"IF(K38<I11,1,0)","v":0},0,null,null,null,4,1,2]
[null,{"$f":"B17","v":" "}," ",{"$f":"D37","v":" "},null,{"$error":"#VALUE!"},{"$f":"AB38","v":0},null,{"$f":"B15","v":0},null," ",{"$f":"L37","v":" "},null,{"$error":"#VALUE!"},{"$f":"AE38","v":0},null,null,null,null,null,null,null,null,null,null,{"$f":"IF(C38=I11,1,0)","v":0},{"$f":"IF(C37<I11,1,0)","v":0},0,{"$f":"IF(K38=I11,1,0)","v":0},{"$f":"IF(K37<I11,1,0)","v":0},0,null,null,null,5,6,7]
[null,null,null,null,null,null,null,null,null,null,null,null,null,null,null,null,null,null,null,null,null,null,null,null,null,null,null,null,null,null,null,null,null,null,6,2,5]
[null,{"$f":"B16","v":" "}," "," ",null,{"$f":"ROUNDDOWN(C40/D40,3)","v":{"$error":"#VALUE!"}},{"$f":"AB40","v":0},null,{"$f":"B11","v":0},null," "," ",null,{"$f":"ROUNDDOWN(K40/L40,3)","v":{"$error":"#VALUE!"}},{"$f":"AE40","v":0},null,null,null,null,null,null,null,null,null,null,{"$f":"IF(C40=I11,1,0)","v":0},{"$f":"IF(C41<I11,1,0)","v":0},0,{"$f":"IF(K40=I11,1,0)","v":0},{"$f":"IF(K41<I11,1,0)","v":0},0,null,null,null,7,3,5]
[null,{"$f":"B17","v":" "}," ",{"$f":"D40","v":" "},null,{"$error":"#VALUE!"},{"$f":"AB41","v":0},null,{"$f":"B12","v":0},null," ",{"$f":"L40","v":" "},null,{"$error":"#VALUE!"},{"$f":"AE41","v":0},null,null,null,null,null,null,null,null,null,null,{"$f":"IF(C41=I11,1,0)","v":0},{"$f":"IF(C40<I11,1,0)","v":0},0,{"$f":"IF(K41=I11,1,0)","v":0},{"$f":"IF(K40<I11,1,0)","v":0},0]
[]
[null,{"$f":"B14","v":0}," "," "," ",{"$f":"ROUNDDOWN(C43/D43,3)","v":{"$error":"#VALUE!"}},{"$f":"AB43","v":0},null,null,null,null,null,null,null,null,null,null,null,null,null,null,null,null,null,null,{"$f":"IF(C43=I11,1,0)","v":0},{"$f":"IF(C44<I11,1,0)","v":0},0]
[null,{"$f":"B16","v":" "}," ",{"$f":"D43","v":" "}," ",{"$error":"#VALUE!"},{"$f":"AB44","v":0},null,null,null,null,null,null,null,null,null,null,null,null,null,null,null,null,null,null,{"$f":"IF(C44=I11,1,0)","v":0},{"$f":"IF(C43<I11,1,0)","v":0},0]
[null,null,null,null," "]
["Stand"]
[null,null,"Car.","Brt.","HS","Moy.","Pnt."]
[null,{"$f":"B11","v":0},{"$f":"SUM(C21,C27,C34,K40)","v":0},{"$f":"SUM(D21,D27,D34,L40)","v":0},{"$f":"MAX(E21,E27,E34,M40)","v":0},{"$f":"ROUNDDOWN(C48/D48,3)","v":{"$error":"#DIV/0!"}},{"$f":"SUM(G21,G27,G34,O40)","v":0}]
[null,0,{"$f":"SUM(K21,K27,K34,K41)","v":0},{"$f":"SUM(L21,L27,L34,L41)","v":0},{"$f":"MAX(M21,M27,M34,M41)","v":0},{"$f":"ROUNDDOWN(C49/D49,3)","v":{"$error":"#DIV/0!"}},{"$f":"SUM(O21,O27,O34,O41)","v":0}]
[null,0,{"$f":"SUM(C24,C30,K35,K37)","v":0},{"$f":"SUM(D24,D30,L35,L37)","v":0},{"$f":"MAX(E24,E30,M35,M37)","v":0},{"$error":"#DIV/0!"},{"$f":"SUM(G24,G30,O35,O37)","v":0}]
[null,0,{"$f":"SUM(K24,C31,C37,C43)","v":0},{"$f":"SUM(L24,D31,D37,D43)","v":0},{"$f":"MAX(M24,E31,E37,E43)","v":0},{"$error":"#DIV/0!"},{"$f":"SUM(O24,G31,G37,G43)","v":0}]
[null,0,{"$f":"SUM(K22,K25,C35,K38)","v":0},{"$f":"SUM(L22,L25,D35,L38)","v":0},{"$f":"MAX(M22,M25,E35,M38)","v":0},{"$error":"#DIV/0!"},{"$f":"SUM(O22,O25,G35,O38)","v":0}]
[null," ",{"$f":"SUM(C25,C28,C40,C44)","v":0},{"$f":"SUM(D25,D28,D40,D44)","v":0},{"$f":"MAX(E25,E28,E40,E44)","v":0},{"$error":"#DIV/0!"},{"$f":"SUM(G25,G28,G40,G44)","v":0}]
[null," ",{"$f":"SUM(C22,K28,C38,C41)","v":0},{"$f":"SUM(D22,L28,D38,D41)","v":0},{"$f":"MAX(E22,M28,E38,E41)","v":0},{"$error":"#DIV/0!"},{"$f":"SUM(G22,O28,G38,G41)","v":0}]

{"sheet":"Uitslagformulier","index":1,"n_rows":98,"n_cols":11,"rows_kept":98,"cut":false,"hidden":false,"merged":[[24,9,24,11],[25,9,29,11],[23,0,23,3],[23,5,23,8],[30,0,30,3],[30,5,30,8],[26,0,26,3],[27,0,27,3],[28,0,28,3],[29,0,29,3],[24,0,24,3],[24,5,24,8],[26,5,26,8],[27,5,27,8],[28,5,28,8],[1,1,1,4],[1,5,1,9],[13,7,13,9],[14,7,14,9],[14,3,14,6],[13,3,13,6],[32,7,32,8],[33,7,33,8],[34,7,34,8],[31,7,31,8],[29,5,29,8]]}
[]
[null,"Uitslagformulier voorronden ",null,null,null,{"$f":"Invoerblad!F2","v":0}]
[]
[null,"Bondsnr.","Naam","Gew.","Remise","Carb.","Brt.","HS.","Pnt.","Moyenne","P.moy."]
[null,null,null," "," "]
[1,{"$f":"Invoerblad!A11","v":0},{"$f":"Invoerblad!B11","v":0},{"$f":"Invoerblad!X21","v":0},{"$f":"Invoerblad!X31","v":0},{"$f":"Invoerblad!C48","v":0},{"$f":"Invoerblad!D48","v":0},{"$f":"Invoerblad!E48","v":0},{"$f":"Invoerblad!G48","v":0},{"$f":"Invoerblad!F48","v":{"$error":"#DIV/0!"}},{"$f":"Invoerblad!H48","v":0}]
[2,{"$f":"Invoerblad!A12","v":0},{"$f":"Invoerblad!B12","v":0},{"$f":"Invoerblad!X22","v":0},{"$f":"Invoerblad!X32","v":0},{"$f":"Invoerblad!C49","v":0},{"$f":"Invoerblad!D49","v":0},{"$f":"Invoerblad!E49","v":0},{"$f":"Invoerblad!G49","v":0},{"$f":"Invoerblad!F49","v":{"$error":"#DIV/0!"}},{"$f":"Invoerblad!H49","v":0}]
[3,{"$f":"Invoerblad!A13","v":0},{"$f":"Invoerblad!B13","v":0},{"$f":"Invoerblad!X23","v":0},{"$f":"Invoerblad!X33","v":0},{"$f":"Invoerblad!C50","v":0},{"$f":"Invoerblad!D50","v":0},{"$f":"Invoerblad!E50","v":0},{"$f":"Invoerblad!G50","v":0},{"$f":"Invoerblad!F50","v":{"$error":"#DIV/0!"}},{"$f":"Invoerblad!H50","v":0}]
[4,{"$f":"Invoerblad!A14","v":0},{"$f":"Invoerblad!B14","v":0},{"$f":"Invoerblad!X24","v":0},{"$f":"Invoerblad!X34","v":0},{"$f":"Invoerblad!C51","v":0},{"$f":"Invoerblad!D51","v":0},{"$f":"Invoerblad!E51","v":0},{"$f":"Invoerblad!G51","v":0},{"$f":"Invoerblad!F51","v":{"$error":"#DIV/0!"}},{"$f":"Invoerblad!H51","v":0}]
[5,{"$f":"Invoerblad!A15","v":0},{"$f":"Invoerblad!B15","v":0},{"$f":"Invoerblad!X25","v":0},{"$f":"Invoerblad!X35","v":0},{"$f":"Invoerblad!C52","v":0},{"$f":"Invoerblad!D52","v":0},{"$f":"Invoerblad!E52","v":0},{"$f":"Invoerblad!G52","v":0},{"$f":"Invoerblad!F52","v":{"$error":"#DIV/0!"}},{"$f":"Invoerblad!H52","v":0}]
[6,{"$f":"Invoerblad!A16","v":0},{"$f":"Invoerblad!B16","v":" "},{"$f":"Invoerblad!X26","v":0},{"$f":"Invoerblad!X36","v":0},{"$f":"Invoerblad!C53","v":0},{"$f":"Invoerblad!D53","v":0},{"$f":"Invoerblad!E53","v":0},{"$f":"Invoerblad!G53","v":0},{"$f":"Invoerblad!F53","v":{"$error":"#DIV/0!"}},{"$f":"Invoerblad!H53","v":0}]
[7,{"$f":"Invoerblad!A17","v":0},{"$f":"Invoerblad!B17","v":" "},{"$f":"Invoerblad!X27","v":0},{"$f":"Invoerblad!X37","v":0},{"$f":"Invoerblad!C54","v":0},{"$f":"Invoerblad!D54","v":0},{"$f":"Invoerblad!E54","v":0},{"$f":"Invoerblad!G54","v":0},{"$f":"Invoerblad!F54","v":{"$error":"#DIV/0!"}},{"$f":"Invoerblad!H54","v":0}]
[]
[null,null,null,"Naam locatie",null,null,null,"Datum"]
[null,null,null,{"$f":"Invoerblad!F4","v":0},null,null,null,{"$f":"TODAY()","v":"2023-11-14"}]
[]
["DIT FORMULIER DUIDELIJK INGEVULD EN VOORZIEN VAN DE HANDTEKENING "]
[]
["VAN EEN LID VAN DE ORGANISERENDE VERENIGING           BINNEN 3 DAGEN "]
[]
["NA AFLOOP VAN DE VOORWEDSTRIJDEN TOEZENDEN OF MAILEN AAN:  "]
[]
["﻿ "]
["Met vriendelijke groet"]
["Wedstrijdleider PK  Libre en Bandstoten",null,null,null,null,null,null,null,null,"handtekening:"]
[null,null,null,null,null,null,null,null,null,{"$f":"Invoerblad!F5","v":0}]
["Johan Jansink"]
["Veemarkt 11"]
["7121 AH  Aalten"]
["Tel: 0543-472292 / 06-40263789"]
["E-mail: j.jansink2016@gmail.com"]
[]
[]
[]
[]
[]
[]
[]
[]
[]
[]
[]
[]
[]
[]
[]
[]
[]
[]
[]
[]
[]
[]
[]
[]
[]
[]
[]
[]
[]
[]
[]
[]
[]
[]
[]
[]
[]
[]
[]
[]
[]
[]
[]
[]
[]
[]
[]
[]
[]
[]
[]
[]
[]
[]
[]
[]
[]
[]
[]
[]
[]
[]
[]
[]
[]
[]
[null,"made by Marco Ubbink"]