{"text_format":"1","workbook":"xlsx","n_sheets":2,"sheets":["Invoerblad","Uitslagformulier"],"not_rendered":{"charts":0,"images":1,"macros":0,"external_links":0,"defined_names":0,"comments":0,"pivot_tables":0},"unopened":[],"bounds":{"document_bytes":16777216,"sheet_cells":100000,"rows_first":2000,"rows_last":500,"rows_between":2000,"halvings":0,"cell_chars":16384,"cell_head_chars":4096},"cells_cut":0,"cells_raw":0,"read":"whole","date_system":"1900"}

{"sheet":"Invoerblad","index":0,"n_rows":100,"n_cols":42,"rows_kept":100,"cut":false,"hidden":false,"merged":[[18,32,18,34],[35,32,35,34],[8,2,9,2],[8,1,9,1],[6,1,6,5],[20,9,20,10],[8,3,9,4],[20,8,21,8],[28,20,28,22],[21,9,21,10],[23,9,23,10],[32,9,32,10],[24,9,24,10],[26,9,26,10],[27,9,27,10],[20,1,21,1],[1,4,1,5],[2,4,2,5],[3,4,3,5],[4,4,4,5],[6,6,6,11],[34,9,34,10],[33,9,33,10],[39,9,39,10],[0,20,0,22],[10,20,10,22],[19,20,19,22],[1,6,1,9],[2,6,2,9],[3,6,3,9],[4,6,4,9],[19,9,19,10],[45,10,45,12],[26,1,27,1],[23,1,24,1],[42,1,43,1],[39,1,40,1],[36,1,37,1],[33,1,34,1],[29,1,30,1],[39,8,40,8],[36,8,37,8],[33,8,34,8],[26,8,27,8],[23,8,24,8],[40,9,40,10],[37,9,37,10],[36,9,36,10]]}
[null,null,null," ",null,null,null,null,null,null,null,null,null,null,null,null,null,null,null,null,"aantal partijen gespeeld",null,null,null,null,null,null,null,null,null,null,null,null,null,null,null,null,null,null,null,null," "]
[null,null,null,null,"Voorronde PK:",null,null,null,null,null,null,null,null,null,null,null,null,null,1,{"$f":"IF(E21>0,1,FALSE)","v":false},{"$f":"IF(M24>0,1,FALSE)","v":1},{"$f":"IF(E37>0,1,FALSE)","v":1},{"$f":"IF(E37>0,1,FALSE)","v":1},{"$f":"SUM(T2:W2)","v":3},{"$f":"PRODUCT(F11,X2)","v":3}]
[null,null,null,null,"Data:",null,null,null,null,null,null,null,null,null,null,null,null,null,2,{"$f":"IF(M21>0,1,FALSE)","v":1},{"$f":"IF(E27>0,1,FALSE)","v":1},{"$f":"IF(M34>0,1,FALSE)","v":1},{"$f":"IF(M40>0,1,FALSE)","v":1},4,{"$f":"PRODUCT(F12,X3)","v":4}]
[null,null,null,null,"Locatie:",null,null,null,null,null,null,null,null,null,null,null,null,null,3,{"$f":"IF(E24>0,1,FALSE)","v":1},{"$f":"IF(M27>0,1,FALSE)","v":1},{"$f":"IF(M37>0,1,FALSE)","v":1},{"$f":"IF(E44>0,1,FALSE)","v":1},4,4]
[null,null,null,null,"Wedstrijdleider:",null,null,null,null,null,null,null,null,null,null,null,null,null,4,{"$f":"IF(M25>0,1,FALSE)","v":1},{"$f":"IF(E30>0,1,FALSE)","v":1},{"$f":"IF(M35>0,1,FALSE)","v":1},{"$f":"IF(E40>0,1,FALSE)","v":1},4,4]
[null,null,null,null,null,null,null,null,null,null,null,null,null,null,null,null,null,null,5,{"$f":"IF(M22>0,1,FALSE)","v":1},{"$f":"IF(M28>0,1,FALSE)","v":1},{"$f":"IF(E34>0,1,FALSE)","v":1},{"$f":"IF(E38>0,1,FALSE)","v":1},4,4]
[null,"NAMEN INVULLEN VOLGORDE UITNODIGING",null,null,null,null,"UITSLUITEND DE GELE VLAKKEN INVULLEN !",null,null,null,null,null,null,null,null,null,null,null,6,{"$f":"IF(E22>0,1,FALSE)","v":false},{"$f":"IF(E28>0,1,FALSE)","v":1},{"$f":"IF(M38>0,1,FALSE)","v":1},{"$f":"IF(E41>0,1,FALSE)","v":1},3,3]
[null,null,null,null,null,null,null,null,null,null,null,null,null,null,null,null,null,null,7,{"$f":"IF(E25>0,1,FALSE)","v":1},{"$f":"IF(E31>0,1,FALSE)","v":1},{"$f":"IF(E35>0,1,FALSE)","v":1},{"$f":"IF(M41>0,1,FALSE)","v":1},{"$f":"SUM(T8:W8)","v":4},4]
[null,"Bondsnr","Naam","Vereniging",null,"te maken","aanvangs","Officieel"]
[null,null,null,null,null,"car.","moy.","Moyenne"]
[1," "," ",null,null,null,null,null,null,null,null,null,null,null,null,null,null,null,null,null,"partij moyenne"]
[2," "," ",null,null,null,null,null,null,null,null,null,null,null,null,null,null,null,1,{"$f":"IF(H21>0,G21,0)","v":0},{"$f":"IF(H27>0,G27,0)","v":0},{"$f":"IF(H34>0,G34,0)","v":0},{"$f":"IF(P40>0,O40,0)","v":0},{"$f":"G48/G11","v":{"$error":"#DIV/0!"}}]
[3," "," ",null,null,null,null,null,null,null,null,null,null,null,null,null,null,null,2,{"$f":"IF(P21>0,O21,0)","v":0},{"$f":"IF(P27>0,O27,0)","v":0},{"$f":"IF(P34>0,O34,0)","v":0},{"$f":"IF(P40>0,O40,0)","v":0},{"$f":"G49/G12","v":{"$error":"#DIV/0!"}}]
[4," "," ",null,null,null,null,null,null,null,null,null,null,null,null,null,null,null,3,{"$f":"IF(H24>0,G24,0)","v":0},{"$f":"IF(H30>0,G30,0)","v":0},{"$f":"IF(P35>0,O35,0)","v":0},{"$f":"IF(P41>0,O41,0)","v":0},{"$f":"G50/G13","v":{"$error":"#DIV/0!"}}]
[5," "," ",null,null,null,null,null,null,null,null,null,null,null,null,null,null,null,4,{"$f":"IF(P24>0,O24,0)","v":0},{"$f":"IF(H31>0,G31,0)","v":0},{"$f":"IF(H37>0,G37,0)","v":0},{"$f":"IF(H43>0,G43,0)","v":0},{"$error":"#DIV/0!"}]
[6," "," ",null,null,null,null,null,null,null,null,null,null,null,null,null,null,null,5,{"$f":"IF(P22>0,O22,0)","v":0},{"$f":"IF(P25>0,O25,0)","v":0},{"$f":"IF(H35>0,G35,0)","v":0},{"$f":"IF(P38>0,O38,0)","v":0},{"$error":"#DIV/0!"}]
[7," "," ",null,null,null,null,null,null,null,null,null,null,null,null,null,null,null,6,{"$f":"IF(H25>0,G25,0)","v":0},{"$f":"IF(H28>0,G28,0)","v":0},{"$f":"IF(H40>0,G40,0)","v":0},{"$f":"IF(H44>0,G44,0)","v":0},{"$f":"G53/G16","v":{"$error":"#DIV/0!"}}]
[null,null,null,null,null,null,null,null,null,null,null,null,null,null,null,null,null,null,7,{"$f":"IF(H22>0,G22,0)","v":0},{"$f":"IF(P28>0,O28,0)","v":0},{"$f":"IF(H38>0,G38,0)","v":0},{"$f":"IF(H41>0,G41,0)","v":0},{"$error":"#DIV/0!"}]
[null,"Partijen:",null,null,null,null,null,null,null,null,null,null,null,null,null,null,null,null,null,null,null,null,null,null,null,null,null,null,null,null,null,null,"Speelrooster"]
[null,null,"Naam","Car.","Brt.","HS","Moy.","Pnt.",null,"Naam",null,"Car.","Brt.","HS","Moy.","Pnt.",null,null,null,null,"partijen gewonnen"]
[null,1,{"$f":"C11","v":" "}," ",null," ",{"$f":"ROUNDDOWN(D21/E21,3)","v":{"$error":"#VALUE!"}},{"$f":"AB21","v":0},2,{"$f":"C12","v":" "},null," "," ",null,{"$f":"ROUNDDOWN(L21/M21,3)","v":{"$error":"#VALUE!"}},{"$f":"AE21","v":0},null,null,1,{"$f":"IF(H21>1,1,0)","v":0},{"$f":"IF(H27>1,1,0)","v":0},{"$f":"IF(H34>1,1,0)","v":0},{"$f":"IF(P40>1,1,0)","v":0},{"$f":"SUM(T21:W21)","v":0},null,{"$f":"IF(D21=F11,1,0)","v":0},{"$f":"IF(D22<F17,1,0)","v":0},{"$f":"SUM(Z21:AA21)","v":0},{"$f":"IF(L21=F12,1,0)","v":0},{"$f":"IF(L22<F15,1,0)","v":0},{"$f":"SUM(AC21:AD21)","v":0},null,1,"-",7]
[null,null,{"$f":"C17","v":" "}," ",{"$f":"E21","v":0}," ",{"$error":"#VALUE!"},{"$f":"AB22","v":0},null,{"$f":"C15","v":" "},null," ",{"$f":"M21","v":" "},null,{"$error":"#VALUE!"},{"$f":"AE22","v":0},null,null,2,{"$f":"IF(P21>1,1,0)","v":0},{"$f":"IF(P27>1,1,0)","v":0},{"$f":"IF(P34>1,1,0)","v":0},{"$f":"IF(P41>1,1,0)","v":0},0,null,{"$f":"IF(D22=F17,1,0)","v":0},{"$f":"IF(D21<F11,1,0)","v":0},{"$f":"SUM(Z22:AA22)","v":0},{"$f":"IF(L22=F15,1,0)","v":0},{"$f":"IF(L21<F12,1,0)","v":0},{"$f":"SUM(AC22:AD22)","v":0},null,2,"-",5]
[null,null,null,null,null,null,null,null,null,null,null,null,null,null,null,null,null,null,3,{"$f":"IF(H24>1,1,0)","v":0},{"$f":"IF(H30>1,1,0)","v":0},{"$f":"IF(P35>1,1,0)","v":0},{"$f":"IF(P37>1,1,0)","v":0},0,null,null,null,null,null,null,null,null,3,"-",6]
[null,3,{"$f":"C13","v":" "}," "," "," ",{"$f":"ROUNDDOWN(D24/E24,3)","v":{"$error":"#VALUE!"}},0,4,{"$f":"C14","v":" "},null," "," ",null,{"$f":"ROUNDDOWN(L24/M24,3)","v":{"$error":"#VALUE!"}},0,null,null,4,{"$f":"IF(P24>1,1,0)","v":0},{"$f":"IF(H31>1,1,0)","v":0},{"$f":"IF(H37>1,1,0)","v":0},{"$f":"IF(H43>1,1,0)","v":0},0,null,{"$f":"IF(D24=F13,1,0)","v":0},{"$f":"IF(D25<F16,1,0)","v":0},0,{"$f":"IF(L24=F14,1,0)","v":0},{"$f":"IF(L25<F15,1,0)","v":0},0,null,4,"-",5]
[null,null,{"$f":"C16","v":" "}," ",{"$f":"E24","v":" "}," ",{"$error":"#VALUE!"},0,null,{"$f":"C15","v":" "},null," ",{"$f":"M24","v":" "},null,{"$error":"#VALUE!"},0,null,null,5,{"$f":"IF(P22>1,1,0)","v":0},{"$f":"IF(P25>1,1,0)","v":0},{"$f":"IF(H35>1,1,0)","v":0},{"$f":"IF(P38>1,1,0)","v":0},0,null,{"$f":"IF(D25=F16,1,0)","v":0},{"$f":"IF(D24<F13,1,0)","v":0},0,{"$f":"IF(L25=F15,1,0)","v":0},{"$f":"IF(L24<F14,1,0)","v":0},0,null,1,"-",6]
[null,null,null,null,null,null,null,null,null,null,null,null,null,null,null,null,null,null,6,{"$f":"IF(H25>1,1,0)","v":0},{"$f":"IF(H28>1,1,0)","v":0},{"$f":"IF(H40>1,1,0)","v":0},{"$f":"IF(H44>1,1,0)","v":0},0,null,null,null,null,null,null,null,null,2,"-",7]
[null,5,{"$f":"C11","v":" "}," "," "," ",{"$f":"ROUNDDOWN(D27/E27,3)","v":{"$error":"#VALUE!"}},0,6,{"$f":"C12","v":" "},null," "," ",null,{"$f":"ROUNDDOWN(L27/M27,3)","v":{"$error":"#VALUE!"}},0,null,null,7,{"$f":"IF(H22>1,1,0)","v":0},{"$f":"IF(P28>1,1,0)","v":0},{"$f":"IF(H38>1,1,0)","v":0},{"$f":"IF(P41>1,1,0)","v":0},0,null,{"$f":"IF(D27=F11,1,0)","v":0},{"$f":"IF(D28<F16,1,0)","v":0},0,{"$f":"IF(L27=F12,1,0)","v":0},{"$f":"IF(L28<F17,1,0)","v":0},0,null,3,"-",4]
[null,null,{"$f":"C16","v":" "}," ",{"$f":"E27","v":" "}," ",{"$error":"#VALUE!"},0,null,{"$f":"C17","v":" "},null," ",{"$f":"M27","v":" "},null,{"$error":"#VALUE!"},0,null,null,null,null,null,null,null,null,null,{"$f":"IF(D28=F16,1,0)","v":0},{"$f":"IF(D27<F11,1,0)","v":0},0,{"$f":"IF(L28=F17,1,0)","v":0},{"$f":"IF(L27<F12,1,0)","v":0},0,null,1,"-",5]
[null,null,null,null,null,null,null,null,null,null,null,null,null,null,null,null,null,null,null,null,"partijen gelijk",null,null,null,null,null,null,null,null,null,null,null,2,"-",3]
[null,7,{"$f":"C13","v":" "}," "," ",null,{"$f":"ROUNDDOWN(D30/E30,3)","v":{"$error":"#VALUE!"}},0,null,null,null,null,null,null,null,null,null,null,null,null,null,null,null,null,null,{"$f":"IF(D30=F13,1,0)","v":0},{"$f":"IF(D31<F14,1,0)","v":0},0,null,null,null,null,4,"-",7]
[null,null,{"$f":"C14","v":" "}," ",{"$f":"E30","v":" "},null,{"$error":"#VALUE!"},0,null,null,null,null,null,null,null," ",null,null,1,{"$f":"IF(H21=1,1,0)","v":0},{"$f":"IF(H27=1,1,0)","v":0},{"$f":"IF(H34=1,1,0)","v":0},{"$f":"IF(P40=1,1,0)","v":0},{"$f":"SUM(T31:W31)","v":0},null,{"$f":"IF(D31=F14,1,0)","v":0},{"$f":"IF(D30<F13,1,0)","v":0},0,null,null,null,null,3,"-",5]
[null,null,null,null,null,null,null,null,null,null,null,null,null,null,null,null,null,null,2,{"$f":"IF(P21=1,1,0)","v":0},{"$f":"IF(P27=1,1,0)","v":0},{"$f":"IF(P34=1,1,0)","v":0},{"$f":"IF(P41=1,1,0)","v":0},0,null,null,null,null,null,null,null,null,6,"-",7]
[null,null,"Naam","Car.","Brt.","HS","Moy.","Pnt",null,"Naam",null,"Car.","Brt.","HS","Moy.","Pnt.",null,null,3,{"$f":"IF(H24=1,1,0)","v":0},{"$f":"IF(H30=1,1,0)","v":0},{"$f":"IF(P35=1,1,0)","v":0},{"$f":"IF(P37=1,1,0)","v":0},0,null,null,null,null,null,null,null,null,1,"-",2]
[null,8,{"$f":"C11","v":" "}," "," ",null,{"$f":"ROUNDDOWN(D34/E34,3)","v":{"$error":"#VALUE!"}},0,9,{"$f":"C12","v":" "},null," "," ",null,{"$f":"ROUNDDOWN(L34/M34,3)","v":{"$error":"#VALUE!"}},0,null,null,4,{"$f":"IF(P24=1,1,0)","v":0},{"$f":"IF(H31=1,1,0)","v":0},{"$f":"IF(H37=1,1,0)","v":0},{"$f":"IF(H43=1,1,0)","v":0},0,null,{"$f":"IF(D34=F11,1,0)","v":0},{"$f":"IF(D35<F15,1,0)","v":0},0,{"$f":"IF(L34=F12,1,0)","v":0},{"$f":"IF(L35<F13,1,0)","v":0},0,null,4,"-",6]
[null,null,{"$f":"C15","v":" "}," ",{"$f":"E34","v":" "},null,{"$error":"#VALUE!"},0,null,{"$f":"C13","v":" "},null," ",{"$f":"M34","v":" "},null,{"$error":"#VALUE!"},0,null,null,5,{"$f":"IF(P22=1,1,0)","v":0},{"$f":"IF(P25=1,1,0)","v":0},{"$f":"IF(H35=1,1,0)","v":0},{"$f":"IF(P38=1,1,0)","v":0},0,null,{"$f":"IF(D35=F15,1,0)","v":0},{"$f":"IF(D34<F11,1,0)","v":0},0,{"$f":"IF(L35=F13,1,0)","v":0},{"$f":"IF(L34<F12,1,0)","v":0},0]
[null,null,null,null,null,null,null,null,null,null,null,null,null,null,null,null,null,null,6,{"$f":"IF(H25=1,1,0)","v":0},{"$f":"IF(H28=1,1,0)","v":0},{"$f":"IF(H40=1,1,0)","v":0},{"$f":"IF(H44=1,1,0)","v":0},0,null,null,null,null,null,null,null,null,"Spelen niet tegen elkaar"]
[null,10,{"$f":"C14","v":" "}," "," ",null,{"$f":"ROUNDDOWN(D37/E37,3)","v":{"$error":"#VALUE!"}},0,11,{"$f":"C13","v":" "},null," "," ",null,{"$f":"ROUNDDOWN(L37/M37,3)","v":{"$error":"#VALUE!"}},0,null,null,7,{"$f":"IF(H22=1,1,0)","v":0},{"$f":"IF(P28=1,1,0)","v":0},{"$f":"IF(H38=1,1,0)","v":0},{"$f":"IF(H41=1,1,0)","v":0},0,null,{"$f":"IF(D37=F14,1,0)","v":0},{"$f":"IF(D38<F17,1,0)","v":0},0,{"$f":"IF(L37=F13,1,0)","v":0},{"$f":"IF(L38<F15,1,0)","v":0},0,null,1,3,4]
[null,null,{"$f":"C17","v":" "}," ",{"$f":"E37","v":" "},null,{"$error":"#VALUE!"},0,null,{"$f":"C15","v":" "},null," ",{"$f":"M37","v":" "},null,{"$error":"#VALUE!"},0,null,null,null,null,null,null,null,null,null,{"$f":"IF(D38=F17,1,0)","v":0},{"$f":"IF(D37<F14,1,0)","v":0},0,{"$f":"IF(L38=F15,1,0)","v":0},{"$f":"IF(L37<F13,1,0)","v":0},0,null,2,4,6]
[null,null,null,null,null,null,null,null,null,null,null,null,null,null,null,null,null,null,null,null,null,null,null,null,null,null,null,null,null,null,null,null,3,1,7]
[null,12,{"$f":"C16","v":" "}," "," ",null,{"$f":"ROUNDDOWN(D40/E40,3)","v":{"$error":"#VALUE!"}},0,13,{"$f":"C11","v":" "},null," "," ",null,{"$f":"ROUNDDOWN(L40/M40,3)","v":{"$error":"#VALUE!"}},0,null,null,null,null,null,null,null,null,null,{"$f":"IF(D40=F16,1,0)","v":0},{"$f":"IF(D41<F17,1,0)","v":0},0,{"$f":"IF(L40=F11,1,0)","v":0},{"$f":"IF(L41<F12,1,0)","v":0},0,null,4,1,2]
[null,null,{"$f":"C17","v":" "}," ",{"$f":"E40","v":" "},null,{"$error":"#VALUE!"},0,null,{"$f":"C12","v":" "},null," ",{"$f":"M40","v":" "},null,{"$error":"#VALUE!"},0,null,null,null,null,null,null,null,null,null,{"$f":"IF(D41=F17,1,0)","v":0},{"$f":"IF(D40<F16,1,0)","v":0},0,{"$f":"IF(L41=F12,1,0)","v":0},{"$f":"IF(L40<F11,1,0)","v":0},0,null,5,6,7]
[null,null,null,null,null,null,null,null,null,null,null,null,null,null,null,null,null,null,null,null,null,null,null,null,null,null,null,null,null,null,null,null,6,2,5]
[null,14,{"$f":"C14","v":" "}," "," "," ",{"$f":"ROUNDDOWN(D43/E43,3)","v":{"$error":"#VALUE!"}},0,null,null,null,null,null,null,null,null,null,null,null,null,null,null,null,null,null,{"$f":"IF(D43=F14,1,0)","v":0},{"$f":"IF(D44<F16,1,0)","v":0},0,null,null,null,null,7,1,6]
[null,null,{"$f":"C16","v":" "}," ",{"$f":"E43","v":" "}," ",{"$error":"#VALUE!"},0,null,null,null,null,null,null,null,null,null,null,null,null,null,null,null,null,null,{"$f":"IF(D44=F16,1,0)","v":0},{"$f":"IF(D43<F14,1,0)","v":0},0]
[null,null,null,null,null," "]
[null,"Stand",null,null,null,null,null,null,null,null,"Plaatsing ",null,null,"Rangking"]
[null,null,null,"Car.","Brt.","HS","Moy.","Pnt.","% moy.","% carb.","Mp.","% moy.","% carb."]
[null,null,{"$f":"C11","v":" "},{"$f":"SUM(D21,D27,D34,L40)","v":0},{"$f":"SUM(E21,E27,E34,M40)","v":0},{"$f":"MAX(F21,F27,F34,N40)","v":0},{"$f":"ROUNDDOWN(D48/E48,3)","v":{"$error":"#DIV/0!"}},{"$f":"SUM(H21,H27,H34,P40)","v":0},{"$f":"IF(OR(ISBLANK(D48),ISBLANK(E48)),\"-\",IF(AND(H11=\"NEE\",G48/G11>1),100,ROUNDDOWN(G48/G11%,2)))","v":{"$error":"#DIV/0!"}},{"$f":"D48/Y2","v":0}," "," "," ",{"$f":"SUM(K48:M48)","v":0}]
[null,null," ",{"$f":"SUM(L21,L27,L34,L41)","v":0},{"$f":"SUM(M21,M27,M34,M41)","v":0},{"$f":"MAX(N21,N27,N34,N41)","v":0},{"$error":"#DIV/0!"},{"$f":"SUM(P21,P27,P34,P41)","v":0},{"$f":"IF(OR(ISBLANK(D49),ISBLANK(E49)),\"-\",IF(AND(H12=\"NEE\",G49/G12>1),100,ROUNDDOWN(G49/G12%,2)))","v":{"$error":"#DIV/0!"}},{"$f":"D49/Y3","v":0}," "," "," ",{"$f":"SUM(K49:M49)","v":0}]
[null,null," ",{"$f":"SUM(D24,D30,L35,L37)","v":0},{"$f":"SUM(E24,E30,M35,M37)","v":0},{"$f":"MAX(F24,F30,N35,N37)","v":0},{"$error":"#DIV/0!"},{"$f":"SUM(H24,H30,P35,P37)","v":0},{"$f":"IF(OR(ISBLANK(D50),ISBLANK(E50)),\"-\",IF(AND(H13=\"NEE\",G50/G13>1),100,ROUNDDOWN(G50/G13%,2)))","v":{"$error":"#DIV/0!"}},0," "," "," ",0]
[null,null," ",{"$f":"SUM(L24,D31,D37,D43)","v":0},{"$f":"SUM(M24,E31,E37,E43)","v":0},{"$f":"MAX(N24,F31,F37,F43)","v":0},{"$error":"#DIV/0!"},{"$f":"SUM(P24,H31,H37,H43)","v":0},{"$f":"IF(OR(ISBLANK(D51),ISBLANK(E51)),\"-\",IF(AND(H14=\"NEE\",G51/G14>1),100,ROUNDDOWN(G51/G14%,2)))","v":{"$error":"#DIV/0!"}},0," "," "," ",0]
[null,null," ",{"$f":"SUM(L22,L25,D35,L38)","v":0},{"$f":"SUM(M22,M25,E35,M38)","v":0},{"$f":"MAX(N22,N25,F35,N38)","v":0},{"$error":"#DIV/0!"},{"$f":"SUM(P22,P25,H35,P38)","v":0},{"$f":"IF(OR(ISBLANK(D52),ISBLANK(E52)),\"-\",IF(AND(H15=\"NEE\",G52/G15>1),100,ROUNDDOWN(G52/G15%,2)))","v":{"$error":"#DIV/0!"}},0," "," "," ",0]
[null,null," ",{"$f":"SUM(D25,D28,D40,D44)","v":0},{"$f":"SUM(E25,E28,E40,E44)","v":0},{"$f":"MAX(F25,F28,F40,F44)","v":0},{"$error":"#DIV/0!"},{"$f":"SUM(H25,H28,H40,H44)","v":0},{"$f":"IF(OR(ISBLANK(D53),ISBLANK(E53)),\"-\",IF(AND(H16=\"NEE\",G53/G16>1),100,ROUNDDOWN(G53/G16%,2)))","v":{"$error":"#DIV/0!"}},0," "," "," ",0]
[null,null," ",{"$f":"SUM(D22,L28,D38,D41)","v":0},{"$f":"SUM(E22,M28,E38,E41)","v":0},{"$f":"MAX(F22,N28,F38,F41)","v":0},{"$error":"#DIV/0!"},{"$f":"SUM(H22,P28,H38,H41)","v":0},{"$error":"#DIV/0!"},0," "," "," ",0]
[]
[]
[]
[]
[]
[]
[]
[]
[]
[]
[]
[]
[]
[]
[]
[]
[]
[]
[]
[]
[]
[]
[]
[]
[]
[]
[]
[]
[]
[]
[]
[]
[]
[]
[]
[]
[]
[]
[]
[]
[]
[]
[]
[]
[]
[null,null,null,null,null," "]

{"sheet":"Uitslagformulier","index":1,"n_rows":97,"n_cols":15,"rows_kept":97,"cut":false,"hidden":false,"merged":[[22,0,22,3],[22,5,22,8],[29,0,29,3],[29,5,29,8],[25,0,25,3],[26,0,26,3],[27,0,27,3],[28,0,28,3],[23,0,23,3],[23,5,23,8],[25,5,25,8],[26,5,26,8],[27,5,27,8],[1,1,1,4],[1,5,1,9],[12,7,12,9],[13,7,13,9],[13,3,13,6],[12,3,12,6],[2,11,2,13],[31,7,31,8],[32,7,32,8],[33,7,33,8],[30,7,30,8],[28,5,28,8],[23,9,23,10],[24,9,28,10]]}
[]
[null,"Uitslagformulier voorronden ",null,null,null,{"$f":"Invoerblad!G2","v":0}]
[null,null,null,null,null,null,null,null,null,null,null,"Plaatsing ",null,null,"Rangking"]
[null,"Bondsnr.","Naam","Gew.","Remise","Carb.","Brt.","HS.","Pnt.","Moyenne","% moy.","Mp.","% moy.","% carb."]
[1,{"$f":"Invoerblad!B11","v":" "},{"$f":"Invoerblad!C11","v":" "},{"$f":"Invoerblad!X21","v":0},{"$f":"Invoerblad!X31","v":0},{"$f":"Invoerblad!D48","v":0},{"$f":"Invoerblad!E48","v":0},{"$f":"Invoerblad!F48","v":0},{"$f":"Invoerblad!H48","v":0},{"$f":"Invoerblad!G48","v":{"$error":"#DIV/0!"}},{"$f":"Invoerblad!I48/100","v":{"$error":"#DIV/0!"}},{"$f":"Invoerblad!K48","v":" "},{"$f":"Invoerblad!L48","v":" "},{"$f":"Invoerblad!M48","v":" "},{"$f":"SUM(L5:N5)","v":0}]
[2,{"$f":"Invoerblad!B12","v":" "},{"$f":"Invoerblad!C12","v":" "},{"$f":"Invoerblad!X22","v":0},{"$f":"Invoerblad!X32","v":0},{"$f":"Invoerblad!D49","v":0},{"$f":"Invoerblad!E49","v":0},{"$f":"Invoerblad!F49","v":0},{"$f":"Invoerblad!H49","v":0},{"$f":"Invoerblad!G49","v":{"$error":"#DIV/0!"}},{"$f":"Invoerblad!I49/100","v":{"$error":"#DIV/0!"}},{"$f":"Invoerblad!K49","v":" "},{"$f":"Invoerblad!L49","v":" "},{"$f":"Invoerblad!M49","v":" "},{"$f":"SUM(L6:N6)","v":0}]
[3,{"$f":"Invoerblad!B13","v":" "},{"$f":"Invoerblad!C13","v":" "},{"$f":"Invoerblad!X23","v":0},{"$f":"Invoerblad!X33","v":0},{"$f":"Invoerblad!D50","v":0},{"$f":"Invoerblad!E50","v":0},{"$f":"Invoerblad!F50","v":0},{"$f":"Invoerblad!H50","v":0},{"$f":"Invoerblad!G50","v":{"$error":"#DIV/0!"}},{"$f":"Invoerblad!I50/100","v":{"$error":"#DIV/0!"}},{"$f":"Invoerblad!K50","v":" "},{"$f":"Invoerblad!L50","v":" "},{"$f":"Invoerblad!M50","v":" "},0]
[4,{"$f":"Invoerblad!B14","v":" "},{"$f":"Invoerblad!C14","v":" "},{"$f":"Invoerblad!X24","v":0},{"$f":"Invoerblad!X34","v":0},{"$f":"Invoerblad!D51","v":0},{"$f":"Invoerblad!E51","v":0},{"$f":"Invoerblad!F51","v":0},{"$f":"Invoerblad!H51","v":0},{"$f":"Invoerblad!G51","v":{"$error":"#DIV/0!"}},{"$f":"Invoerblad!I51/100","v":{"$error":"#DIV/0!"}},{"$f":"Invoerblad!K51","v":" "},{"$f":"Invoerblad!L51","v":" "},{"$f":"Invoerblad!M51","v":" "},0]
[5,{"$f":"Invoerblad!B15","v":" "},{"$f":"Invoerblad!C15","v":" "},{"$f":"Invoerblad!X25","v":0},{"$f":"Invoerblad!X35","v":0},{"$f":"Invoerblad!D52","v":0},{"$f":"Invoerblad!E52","v":0},{"$f":"Invoerblad!F52","v":0},{"$f":"Invoerblad!H52","v":0},{"$f":"Invoerblad!G52","v":{"$error":"#DIV/0!"}},{"$f":"Invoerblad!I52/100","v":{"$error":"#DIV/0!"}},{"$f":"Invoerblad!K52","v":" "},{"$f":"Invoerblad!L52","v":" "},{"$f":"Invoerblad!M52","v":" "},0]
[6,{"$f":"Invoerblad!B16","v":" "},{"$f":"Invoerblad!C16","v":" "},{"$f":"Invoerblad!X26","v":0},{"$f":"Invoerblad!X36","v":0},{"$f":"Invoerblad!D53","v":0},{"$f":"Invoerblad!E53","v":0},{"$f":"Invoerblad!F53","v":0},{"$f":"Invoerblad!H53","v":0},{"$f":"Invoerblad!G53","v":{"$error":"#DIV/0!"}},{"$f":"Invoerblad!I53/100","v":{"$error":"#DIV/0!"}},{"$f":"Invoerblad!K53","v":" "},{"$f":"Invoerblad!L53","v":" "},{"$f":"Invoerblad!M53","v":" "},0]
[7,{"$f":"Invoerblad!B17","v":" "},{"$f":"Invoerblad!C17","v":" "},{"$f":"Invoerblad!X27","v":0},{"$f":"Invoerblad!X37","v":0},{"$f":"Invoerblad!D54","v":0},{"$f":"Invoerblad!E54","v":0},{"$f":"Invoerblad!F54","v":0},{"$f":"Invoerblad!H54","v":0},{"$f":"Invoerblad!G54","v":{"$error":"#DIV/0!"}},{"$f":"Invoerblad!I54/100","v":{"$error":"#DIV/0!"}},{"$f":"Invoerblad!K54","v":" "},{"$f":"Invoerblad!L54","v":" "},{"$f":"Invoerblad!M54","v":" "},0]
[]
[null,null,null,"Naam locatie",null,null,null,"Datum"]
[null,null,null,{"$f":"Invoerblad!G4","v":0},null,null,null,{"$f":"TODAY()","v":"2023-11-14"}]
[]
["DIT FORMULIER DUIDELIJK INGEVULD EN VOORZIEN VAN DE HANDTEKENING "]
[]
["VAN EEN LID VAN DE ORGANISERENDE VERENIGING           BINNEN 3 DAGEN "]
[]
["NA AFLOOP VAN DE VOORWEDSTRIJDEN TOEZENDEN OF MAILEN AAN:  "]
[]
["﻿ "]
["Met vriendelijke groet"]
["Wedstrijdleider PK ",null,null,null,null,null,null,null,null,"handtekening:"]
[null,null,null,null,null,null,null,null,null,{"$f":"Invoerblad!G5","v":0}]
["Johan Jansink"]
["Veemarkt 11"]
["7121 AH  Aalten"]
["Tel: 0543-472292 / 06-40263789"]
["E-mail: j.jansink2016@gmail.com"]
[]
[]
[]
[]
[]
[]
[]
[]
[]
[]
[]
[]
[]
[]
[]
[]
[]
[]
[]
[]
[]
[]
[]
[]
[]
[]
[]
[]
[]
[]
[]
[]
[]
[]
[]
[]
[]
[]
[]
[]
[]
[]
[]
[]
[]
[]
[]
[]
[]
[]
[]
[]
[]
[]
[]
[]
[]
[]
[]
[]
[]
[]
[]
[]
[]
[]
[null,"made by Marco Ubbink"]