{"text_format":"1","workbook":"xlsx","n_sheets":2,"sheets":["Invoerblad","Uitslagformulier"],"not_rendered":{"charts":0,"images":1,"macros":0,"external_links":0,"defined_names":0,"comments":0,"pivot_tables":0},"unopened":[],"bounds":{"document_bytes":16777216,"sheet_cells":100000,"rows_first":2000,"rows_last":500,"rows_between":2000,"halvings":0,"cell_chars":16384,"cell_head_chars":4096},"cells_cut":0,"cells_raw":0,"read":"whole","date_system":"1900"}

{"sheet":"Invoerblad","index":0,"n_rows":100,"n_cols":53,"rows_kept":100,"cut":false,"hidden":false,"merged":[[7,8,7,14],[41,2,41,4],[42,2,42,4],[43,2,43,4],[24,1,24,2],[36,9,36,10],[32,9,32,10],[35,9,35,10],[25,9,25,10],[26,9,26,10],[34,1,34,2],[25,1,25,2],[9,2,9,3],[12,12,12,13],[39,2,39,4],[28,1,28,2],[29,1,29,2],[44,2,44,4],[7,1,7,7],[33,1,33,2],[23,1,23,2],[19,1,19,2],[20,1,20,2],[21,1,21,2],[22,1,22,2],[26,1,26,2],[27,1,27,2],[45,2,45,4],[40,2,40,4],[35,1,35,2],[36,1,36,2],[30,1,30,2],[31,1,31,2],[32,1,32,2],[1,9,1,13],[2,9,2,13],[3,9,3,13],[4,9,4,13],[6,4,6,10],[1,6,1,8],[2,6,2,8],[3,6,3,8],[4,6,4,8],[34,21,34,23],[33,9,33,10],[30,9,30,10],[29,9,29,10],[9,21,9,23],[18,21,18,23],[26,21,26,23],[19,9,19,10],[20,9,20,10],[22,9,22,10],[23,9,23,10],[9,9,9,12]]}
[null,null,null,null,null,null,null,null,null,null,null,null,null,null,null,null,null,null,null,null,null,null,null,null,null,null,null,null,null,null,null,null,null,null,null,null,null,null,null,null,null,null,null,null,null,null,null,null,null,null," "]
[null,null,null,null,null,null,"Voorronde PK:"]
[null,null,null,null,null,null,"Data:"]
[null,null,null,null,null,null,"Locatie:",null,null,null,null,null,null,null,null,null,null,null,null,null,null,null,null,null,null,null,null,null,null,null,null,null,null,null,null,null,null,null,null,null,null,null,null,null,null,null,null,null,null,null,null,null,"HJ22"]
[null,null,null,null,null,null,"Wedstrijdleider:"]
[]
[]
[null,"NAMEN INVULLEN VOLGORDE UITNODIGING",null,null,null,null,null,null,"UITSLUITEND DE GELE VLAKKEN INVULLEN !"]
[null,null,null,null,null,null,null,null,null,null,null,null,null,null,null,null,null,null,null,null,null,null,null,null,null,null,null,null,null,null,null,null,null,null,1,"-",2]
[null,"Bondsnr","Naam",null,"Vereniging",null,null,"Moy.","O/NO","Partijlengte en moy. grens",null,null,null,null,null,null,null,null,null,null,null,"aantal partijen gespeeld",null,null,null,null,null,null,null,null,null,null,null,null,3,"-",4]
[1,null,null,null,null,null,null,null,null,"Te maken",null,null,"              ",null,null,null,null,null,null,1,{"$f":"IF(E20>0,1,FALSE)","v":1},{"$f":"IF(M23>0,1,FALSE)","v":1},{"$f":"IF(E30>0,1,FALSE)","v":1},{"$f":"IF(E36>0,1,FALSE)","v":1},{"$f":"SUM(U11:X11)","v":4},{"$f":"PRODUCT(K11,Y11)","v":4},null,null,null,null,null,null,null,null,5,"-",6]
[2,null,null,null,null,null,null,null,null,null,null,null,null,null,null,null,null,null,null,2,{"$f":"IF(E21>0,1,FALSE)","v":1},{"$f":"IF(E26>0,1,FALSE)","v":1},{"$f":"IF(M30>0,1,FALSE)","v":1},{"$f":"IF(M36>0,1,FALSE)","v":1},4,{"$f":"PRODUCT(K11,Y12)","v":4},null,null,null,null,null,null,null,null,1,"-",3]
[3,null,null,null,null,null,null,null,null,"Moy. Gr.",null,"tot",null,null,null,null,null,null,null,3,{"$f":"IF(M20>0,1,FALSE)","v":1},{"$f":"IF(M24>0,1,FALSE)","v":1},{"$f":"IF(M31>0,1,FALSE)","v":1},{"$f":"IF(M33>0,1,FALSE)","v":1},4,{"$f":"PRODUCT(K11,Y13)","v":4},null,null,null,null,null,null,null,null,2,"-",5]
[4,null,null,null,null,null,null,null,null,null,null,null,null,null,null,null,null,null,null,4,{"$f":"IF(M21>0,1,FALSE)","v":1},{"$f":"IF(M26>0,1,FALSE)","v":1},{"$f":"IF(E33>0,1,FALSE)","v":1},{"$f":"IF(M37>0,1,FALSE)","v":1},4,{"$f":"PRODUCT(K11,Y14)","v":4},null,null,null,null,null,null,null,null,4,"-",6]
[5,null,null,null,null,null,null,null,null,null,null,null,null,null,null,null,null,null,null,5,{"$f":"IF(E23>0,1,FALSE)","v":1},{"$f":"IF(E27>0,1,FALSE)","v":1},{"$f":"IF(E34>0,1,FALSE)","v":1},{"$f":"IF(E37>0,1,FALSE)","v":1},4,{"$f":"PRODUCT(K11,Y15)","v":4},null,null,null,null,null,null,null,null,1,"-",6]
[6,null,null,null,null,null,null,null,null,null,null,null,null,null,null,null,null,null,null,6,{"$f":"IF(E24>0,1,FALSE)","v":1},{"$f":"IF(M27>0,1,FALSE)","v":1},{"$f":"IF(E31>0,1,FALSE)","v":1},{"$f":"IF(M34>0,1,FALSE)","v":1},4,{"$f":"PRODUCT(K11,Y16)","v":4},null,null,null,null,null,null,null,null,2,"-",3]
[null,null,null,null,null,null,null,null,null,null,null,null,null,null,null,null,null,null,null,null,null,null,null,null,null,null,null,null,null,null,null,null,null,null,4,"-",5]
[null,null,"Partijen:",null,null,null,null,null,null,null,null,null,null,null,null,null,null,null,null,null,null,null,null,null,null,null,null,null,null,null,null,null,null,null,3,"-",6]
[null,null,"Naam","Car.","Brt.","HS","Moy.","Pnt.",null,"Naam",null,"Car.","Brt.","HS","Moy.","Pnt.",null,null,null,null,null,"partij moyenne",null,null,null,null,null,null,null,null,null,null,null,null,1,"-",5]
[null,{"$f":"C11","v":0},null," "," "," ",{"$f":"D20/E20","v":{"$error":"#VALUE!"}},{"$f":"AC20","v":0},null,{"$f":"C13","v":0},null," "," "," ",{"$f":"L20/M20","v":{"$error":"#VALUE!"}},{"$f":"AF20","v":0},null,null,null,1,{"$f":"IF(H20>0,G20,0)","v":0},{"$f":"IF(P23>0,O23,0)","v":0},{"$f":"IF(H30>0,G30,0)","v":0},{"$f":"IF(H36>0,G36,0)","v":0},{"$f":"MAX(U20:X20)","v":0},null,{"$f":"IF(D20=K11,1,0)","v":0},{"$f":"IF(D20>D21,1,0)","v":0},{"$f":"SUM(AA20:AB20)","v":0},{"$f":"IF(L20=K11,1,0)","v":0},{"$f":"IF(L20>L21,1,0)","v":0},{"$f":"SUM(AD20:AE20)","v":0},null,null,2,"-",4]
[null,{"$f":"C12","v":0},null," ",{"$f":"E20","v":" "}," ",{"$f":"D21/E21","v":{"$error":"#VALUE!"}},{"$f":"AC21","v":0},null,{"$f":"C14","v":0},null," ",{"$f":"M20","v":" "}," ",{"$f":"L21/M21","v":{"$error":"#VALUE!"}},{"$f":"AF21","v":0},null,null,null,2,{"$f":"IF(H21>0,G21,0)","v":0},{"$f":"IF(H26>0,G26,0)","v":0},{"$f":"IF(P30>0,O30,0)","v":0},{"$f":"IF(P36>0,O36,0)","v":0},{"$f":"MAX(U21:X21)","v":0},null,{"$f":"IF(D21=K11,1,0)","v":0},{"$f":"IF(D21>D20,1,0)","v":0},{"$f":"SUM(AA21:AB21)","v":0},{"$f":"IF(L21=K11,1,0)","v":0},{"$f":"IF(L21>L20,1,0)","v":0},{"$f":"SUM(AD21:AE21)","v":0}]
[null,null,null,null," "," ",null,null,null,null,null,null,null,null,null,null,null,null,null,3,{"$f":"IF(P20>0,O20,0)","v":0},{"$f":"IF(P24>0,O24,0)","v":0},{"$f":"IF(P31>0,O31,0)","v":0},{"$f":"IF(P33>0,O33,0)","v":0},0]
[null,{"$f":"C15","v":0},null," "," "," ",{"$f":"D23/E23","v":{"$error":"#VALUE!"}},{"$f":"AC23","v":0},null,{"$f":"C11","v":0},null," "," "," ",{"$f":"L23/M23","v":{"$error":"#VALUE!"}},{"$f":"AF23","v":0},null,null,null,4,{"$f":"IF(P21>0,O21,0)","v":0},{"$f":"IF(P26>0,O26,0)","v":0},{"$f":"IF(H33>0,G33,0)","v":0},{"$f":"IF(P37>0,O37,0)","v":0},0,null,{"$f":"IF(D23=K11,1,0)","v":0},{"$f":"IF(D23>D24,1,0)","v":0},0,{"$f":"IF(L23=K11,1,0)","v":0},{"$f":"IF(L23>L24,1,0)","v":0},0]
[null,{"$f":"C16","v":0},null," ",{"$f":"E23","v":" "}," ",{"$f":"D24/E24","v":{"$error":"#VALUE!"}},{"$f":"AC24","v":0},null,{"$f":"C13","v":0},null," ",{"$f":"M23","v":" "}," ",{"$f":"L24/M24","v":{"$error":"#VALUE!"}},{"$f":"AF24","v":0},null,null,null,5,{"$f":"IF(H23>0,G23,0)","v":0},{"$f":"IF(H27>0,G27,0)","v":0},{"$f":"IF(H34>0,G34,0)","v":0},{"$f":"IF(H37>0,G37,0)","v":0},0,null,{"$f":"IF(D24=K11,1,0)","v":0},{"$f":"IF(D24>D23,1,0)","v":0},0,{"$f":"IF(L24=K11,1,0)","v":0},{"$f":"IF(L24>L23,1,0)","v":0},0]
[null,null,null,null,null,null,null,null,null,null,null,null,null,null,null,null,null,null,null,6,{"$f":"IF(H24>0,G24,0)","v":0},{"$f":"IF(P27>0,O27,0)","v":0},{"$f":"IF(H31>0,G31,0)","v":0},{"$f":"IF(P34>0,O34,0)","v":0},0]
[null,{"$f":"C12","v":0},null," "," "," ",{"$f":"D26/E26","v":{"$error":"#VALUE!"}},{"$f":"AC26","v":0},null,{"$f":"C14","v":0},null," "," "," ",{"$f":"L26/M26","v":{"$error":"#VALUE!"}},{"$f":"AF26","v":0},null,null,null,null,null,null,null,null,null,null,{"$f":"IF(D26=K11,1,0)","v":0},{"$f":"IF(D26>D27,1,0)","v":0},0,{"$f":"IF(L26=K11,1,0)","v":0},{"$f":"IF(L26>L27,1,0)","v":0},0]
[null,{"$f":"C15","v":0},null," ",{"$f":"E26","v":" "}," ",{"$f":"D27/E27","v":{"$error":"#VALUE!"}},{"$f":"AC27","v":0},null,{"$f":"C16","v":0},null," ",{"$f":"M26","v":" "}," ",{"$f":"L27/M27","v":{"$error":"#VALUE!"}},{"$f":"AF27","v":0},null,null,null,null,null,"partijen gewonnen",null,null,null,null,{"$f":"IF(D27=K11,1,0)","v":0},{"$f":"IF(D27>D26,1,0)","v":0},0,{"$f":"IF(L27=K11,1,0)","v":0},{"$f":"IF(L27>L26,1,0)","v":0},0]
[null,null,null,null,null,null,null,null,null,null,null,null,null,null,null,null,null,null,null,1,{"$f":"IF(H20>1,1,0)","v":0},{"$f":"IF(P23>1,1,0)","v":0},{"$f":"IF(H30>1,1,0)","v":0},{"$f":"IF(H36>1,1,0)","v":0},{"$f":"SUM(U28:X28)","v":0}]
[null,null,null,"Car.","Brt.","HS","Moy.","Pnt.",null,null,null,"Car.","Brt.","HS","Moy.","Pnt.",null,null,null,2,{"$f":"IF(H21>1,1,0)","v":0},{"$f":"IF(H26>1,1,0)","v":0},{"$f":"IF(P30>1,1,0)","v":0},{"$f":"IF(P36>1,1,0)","v":0},0]
[null,{"$f":"C11","v":0},null," "," "," ",{"$f":"D30/E30","v":{"$error":"#VALUE!"}},{"$f":"AC30","v":0},null,{"$f":"C12","v":0},null," "," "," ",{"$f":"ROUNDDOWN(L30/M30,3)","v":{"$error":"#VALUE!"}},{"$f":"AF30","v":0},null,null,null,3,{"$f":"IF(P20>1,1,0)","v":0},{"$f":"IF(P24>1,1,0)","v":0},{"$f":"IF(P31>1,1,0)","v":0},{"$f":"IF(P33>1,1,0)","v":0},0,null,{"$f":"IF(D30=K11,1,0)","v":0},{"$f":"IF(D30>D31,1,0)","v":0},0,{"$f":"IF(L30=K11,1,0)","v":0},{"$f":"IF(L30>L31,1,0)","v":0},0]
[null,{"$f":"C16","v":0},null," ",{"$f":"E30","v":" "}," ",{"$f":"D31/E31","v":{"$error":"#VALUE!"}},{"$f":"AC31","v":0},null,{"$f":"C13","v":0},null," ",{"$f":"M30","v":" "}," ",{"$f":"ROUNDDOWN(L31/M31,3)","v":{"$error":"#VALUE!"}},{"$f":"AF31","v":0},null,null,null,4,{"$f":"IF(P21>1,1,0)","v":0},{"$f":"IF(P26>1,1,0)","v":0},{"$f":"IF(H33>1,1,0)","v":0},{"$f":"IF(P37>1,1,0)","v":0},0,null,{"$f":"IF(D31=K11,1,0)","v":0},{"$f":"IF(D31>D30,1,0)","v":0},0,{"$f":"IF(L31=K11,1,0)","v":0},{"$f":"IF(L31>L30,1,0)","v":0},0]
[null,null,null,null,null,null,null,null,null,null,null,null,null,null,null,null,null,null,null,5,{"$f":"IF(H23>1,1,0)","v":0},{"$f":"IF(H27>1,1,0)","v":0},{"$f":"IF(H34>1,1,0)","v":0},{"$f":"IF(H37>1,1,0)","v":0},0]
[null,{"$f":"C14","v":0},null," "," "," ",{"$f":"D33/E33","v":{"$error":"#VALUE!"}},{"$f":"AC33","v":0},null,{"$f":"C13","v":0},null," "," "," ",{"$f":"ROUNDDOWN(L33/M33,3)","v":{"$error":"#VALUE!"}},{"$f":"AF33","v":0},null,null,null,6,{"$f":"IF(H24>1,1,0)","v":0},{"$f":"IF(P27>1,1,0)","v":0},{"$f":"IF(H31>1,1,0)","v":0},{"$f":"IF(P34>1,1,0)","v":0},0,null,{"$f":"IF(D33=K11,1,0)","v":0},{"$f":"IF(D33>D34,1,0)","v":0},0,{"$f":"IF(L33=K11,1,0)","v":0},{"$f":"IF(L33>L34,1,0)","v":0},0]
[null,{"$f":"C15","v":0},null," ",{"$f":"E33","v":" "}," ",{"$f":"D34/E34","v":{"$error":"#VALUE!"}},{"$f":"AC34","v":0},null,{"$f":"C16","v":0},null," ",{"$f":"M33","v":" "}," ",{"$f":"ROUNDDOWN(L34/M34,3)","v":{"$error":"#VALUE!"}},{"$f":"AF34","v":0},null,null,null,null,null,null,null,null,null,null,{"$f":"IF(D34=K11,1,0)","v":0},{"$f":"IF(D34>D33,1,0)","v":0},0,{"$f":"IF(L34=K11,1,0)","v":0},{"$f":"IF(L34>L33,1,0)","v":0},0]
[null,null,null,null,null,null,null,null,null,null,null,null,null,null,null,null,null,null,null,null,null,"partijen gelijk"]
[null,{"$f":"C11","v":0},null," "," "," ",{"$f":"D36/E36","v":{"$error":"#VALUE!"}},{"$f":"AC36","v":0},null,{"$f":"C12","v":0},null," "," "," ",{"$f":"ROUNDDOWN(L36/M36,3)","v":{"$error":"#VALUE!"}},{"$f":"AF36","v":0},null,null,null,1,{"$f":"IF(H20=1,1,0)","v":0},{"$f":"IF(P23=1,1,0)","v":0},{"$f":"IF(H30=1,1,0)","v":0},{"$f":"IF(H36=1,1,0)","v":0},{"$f":"SUM(U36:X36)","v":0},null,{"$f":"IF(D36=K11,1,0)","v":0},{"$f":"IF(D36>D37,1,0)","v":0},0,{"$f":"IF(L36=K11,1,0)","v":0},{"$f":"IF(L36>L37,1,0)","v":0},0]
[null,{"$f":"C15","v":0},null," ",{"$f":"E36","v":" "}," ",{"$f":"D37/E37","v":{"$error":"#VALUE!"}},{"$f":"AC37","v":0},null,{"$f":"C14","v":0},null," ",{"$f":"M36","v":" "}," ",{"$f":"ROUNDDOWN(L37/M37,3)","v":{"$error":"#VALUE!"}},{"$f":"AF37","v":0},null,null,null,2,{"$f":"IF(H10=1,1,0)","v":0},{"$f":"IF(H26=1,1,0)","v":0},{"$f":"IF(P30=1,1,0)","v":0},{"$f":"IF(P36=1,1,0)","v":0},0,null,{"$f":"IF(D37=K11,1,0)","v":0},{"$f":"IF(D37>D36,1,0)","v":0},0,{"$f":"IF(L37=K11,1,0)","v":0},{"$f":"IF(L37>L36,1,0)","v":0},0]
[null,null,null,null,null,null,null,null,null,null,null,null,null,null,null,null,null,null,null,3,{"$f":"IF(P20=1,1,0)","v":0},{"$f":"IF(P24=1,1,0)","v":0},{"$f":"IF(P31=1,1,0)","v":0},{"$f":"IF(P33=1,1,0)","v":0},0]
[null,null,null,null,null,null,null,null,null,null,null,null,null,null,null,null,null,null,null,4,{"$f":"IF(P21=1,1,0)","v":0},{"$f":"IF(P26=1,1,0)","v":0},{"$f":"IF(H33=1,1,0)","v":0},{"$f":"IF(P37=1,1,0)","v":0},0]
[null,"Stand","Naam",null,null,"Car.","Brt.","HS","Moy.","Pnt.",null,null,null,null,null,null,null,null,null,5,{"$f":"IF(H23=1,1,0)","v":0},{"$f":"IF(H27=1,1,0)","v":0},{"$f":"IF(H34=1,1,0)","v":0},{"$f":"IF(H37=1,1,0)","v":0},0]
[null,null,{"$f":"C11","v":0},null,null,{"$f":"SUM(D20,L23,D30,D36)","v":0},{"$f":"SUM(E20,M23,E30,E36)","v":0},{"$f":"MAX(F20,N23,F30,F36)","v":0},{"$f":"F41/G41-0.0005","v":{"$error":"#DIV/0!"}},{"$f":"SUM(H20,P23,H30,H36)","v":0},null,null,null,null,null,null,null,null,null,6,{"$f":"IF(H24=1,1,0)","v":0},{"$f":"IF(P27=1,1,0)","v":0},{"$f":"IF(H31=1,1,0)","v":0},{"$f":"IF(P34=1,1,0)","v":0},0]
[null,null,0,null,null,{"$f":"SUM(D21,D26,L30,L36)","v":0},{"$f":"SUM(E21,E26,M30,M36)","v":0},{"$f":"MAX(F21,F26,N30,N36)","v":0},{"$f":"F42/G42-0.0005","v":{"$error":"#DIV/0!"}},{"$f":"SUM(H21,H26,P30,P36)","v":0}]
[null,null,0,null,null,{"$f":"SUM(L20,L24,L31,L33)","v":0},{"$f":"SUM(M20,M24,M31,M33)","v":0},{"$f":"MAX(N20,N24,N31,N33)","v":0},{"$error":"#DIV/0!"},{"$f":"SUM(P20,P24,P31,P33)","v":0}]
[null,null,0,null,null,{"$f":"SUM(L21,L26,D33,L37)","v":0},{"$f":"SUM(M21,M26,E33,M37)","v":0},{"$f":"MAX(N21,N26,F33,N37)","v":0},{"$error":"#DIV/0!"},{"$f":"SUM(P21,P26,H33,P37)","v":0}]
[null,null,0,null,null,{"$f":"SUM(D23,D27,D34,D37)","v":0},{"$f":"SUM(E23,E27,E34,E37)","v":0},{"$f":"MAX(F23,F27,F34,F37)","v":0},{"$error":"#DIV/0!"},{"$f":"SUM(H23,H27,H34,H37)","v":0}]
[null,null,0,null,null,{"$f":"SUM(D24,L27,D31,L34)","v":0},{"$f":"SUM(E24,M27,E31,M34)","v":0},{"$f":"MAX(F24,N27,F31,N34)","v":0},{"$error":"#DIV/0!"},{"$f":"SUM(H24,P27,H31,P34)","v":0}]
[]
[]
[]
[]
[]
[]
[]
[]
[]
[]
[]
[]
[]
[]
[]
[]
[]
[]
[]
[]
[]
[]
[]
[]
[]
[]
[]
[]
[]
[]
[]
[]
[]
[]
[]
[]
[]
[]
[]
[]
[]
[]
[]
[]
[]
[]
[]
[]
[]
[]
[]
[]
[]
[null,null," "," "]

{"sheet":"Uitslagformulier","index":1,"n_rows":97,"n_cols":10,"rows_kept":97,"cut":false,"hidden":false,"merged":[[34,7,34,8],[35,7,35,8],[36,7,36,8],[30,7,30,8],[31,7,31,8],[32,7,32,8],[33,7,33,8],[22,0,22,3],[22,4,22,6],[23,0,23,3],[23,4,23,6],[24,0,24,3],[24,4,24,6],[18,0,18,9],[19,0,19,9],[21,0,21,3],[1,1,1,4],[1,5,1,9],[21,4,21,6],[12,7,12,9],[13,7,13,9],[15,0,15,9],[16,0,16,8],[17,0,17,9],[12,3,12,6],[13,3,13,6],[26,0,26,3],[26,4,26,6],[27,0,27,3],[27,4,27,6],[23,7,23,9],[24,7,27,9],[25,0,25,3],[25,4,25,6]]}
[]
[null,"Uitslagformulier voorronden ",null,null,null,{"$f":"Invoerblad!J2","v":0}]
[]
[null,"Bondsnr.","Naam","Gew.","Remise","Carb.","Brt.","HS.","Pnt.","Moyenne"]
[null,null,null," "," "]
[1,{"$f":"Invoerblad!B11","v":0},{"$f":"Invoerblad!C11","v":0},{"$f":"Invoerblad!Y28","v":0},{"$f":"Invoerblad!Y36","v":0},{"$f":"Invoerblad!F41","v":0},{"$f":"Invoerblad!G41","v":0},{"$f":"Invoerblad!H41","v":0},{"$f":"Invoerblad!J41","v":0},{"$f":"Invoerblad!I41","v":{"$error":"#DIV/0!"}}]
[2,{"$f":"Invoerblad!B12","v":0},{"$f":"Invoerblad!C12","v":0},{"$f":"Invoerblad!Y29","v":0},{"$f":"Invoerblad!Y37","v":0},{"$f":"Invoerblad!F42","v":0},{"$f":"Invoerblad!G42","v":0},{"$f":"Invoerblad!H42","v":0},{"$f":"Invoerblad!J42","v":0},{"$f":"Invoerblad!I42","v":{"$error":"#DIV/0!"}}]
[3,{"$f":"Invoerblad!B13","v":0},{"$f":"Invoerblad!C13","v":0},{"$f":"Invoerblad!Y30","v":0},{"$f":"Invoerblad!Y38","v":0},{"$f":"Invoerblad!F43","v":0},{"$f":"Invoerblad!G43","v":0},{"$f":"Invoerblad!H43","v":0},{"$f":"Invoerblad!J43","v":0},{"$f":"Invoerblad!I43","v":{"$error":"#DIV/0!"}}]
[4,{"$f":"Invoerblad!B14","v":0},{"$f":"Invoerblad!C14","v":0},{"$f":"Invoerblad!Y31","v":0},{"$f":"Invoerblad!Y39","v":0},{"$f":"Invoerblad!F44","v":0},{"$f":"Invoerblad!G44","v":0},{"$f":"Invoerblad!H44","v":0},{"$f":"Invoerblad!J44","v":0},{"$f":"Invoerblad!I44","v":{"$error":"#DIV/0!"}}]
[5,{"$f":"Invoerblad!B15","v":0},{"$f":"Invoerblad!C15","v":0},{"$f":"Invoerblad!Y32","v":0},{"$f":"Invoerblad!Y40","v":0},{"$f":"Invoerblad!F45","v":0},{"$f":"Invoerblad!G45","v":0},{"$f":"Invoerblad!H45","v":0},{"$f":"Invoerblad!J45","v":0},{"$f":"Invoerblad!I45","v":{"$error":"#DIV/0!"}}]
[6,{"$f":"Invoerblad!B16","v":0},{"$f":"Invoerblad!C16","v":0},{"$f":"Invoerblad!Y33","v":0},{"$f":"Invoerblad!Y41","v":0},{"$f":"Invoerblad!F46","v":0},{"$f":"Invoerblad!G46","v":0},{"$f":"Invoerblad!H46","v":0},{"$f":"Invoerblad!J46","v":0},{"$f":"Invoerblad!I46","v":{"$error":"#DIV/0!"}}]
[]
[null,null,null,"Naam vereniging",null,null,null,"Datum"]
[null,null,null,{"$f":"Invoerblad!J4","v":0},null,null,null,{"$f":"Invoerblad!J3","v":"00:00:00"}]
[]
["DIT FORMULIER DUIDELIJK INGEVULD EN VOORZIEN VAN DE HANDTEKENING "]
[]
["VAN EEN LID VAN DE ORGANISERENDE VERENIGING           BINNEN 3 DAGEN "]
[]
["NA AFLOOP VAN DE VOORWEDSTRIJDEN TOEZENDEN OF MAILEN AAN:  "]
["﻿ "]
["Met vriendelijke groet"]
["Wedstrijdleider PK  Libre en Bandstoten"]
["Johan Jansink",null,null,null,null,null,null,"handtekening:"]
["Veemarkt 11",null,null,null,null,null,null,{"$f":"Invoerblad!J5","v":0}]
["7121 AH  Aalten"]
["Tel: 0543-472292 / 06-40263789"]
["j.jansink2016@gmail.com"]
[]
[]
[]
[]
[]
[]
[]
[]
[]
[]
[]
[]
[]
[]
[]
[]
[]
[]
[]
[]
[]
[]
[]
[]
[]
[]
[]
[]
[]
[]
[]
[]
[]
[]
[]
[]
[]
[]
[]
[]
[]
[]
[]
[]
[]
[]
[]
[]
[]
[]
[]
[]
[]
[]
[]
[]
[]
[]
[]
[]
[]
[]
[]
[]
[]
[]
[]
[]
[null,"made bij Marco Ubbink"]