{"text_format":"1","workbook":"xlsx","n_sheets":2,"sheets":["Invoerblad","Uitslagformulier"],"not_rendered":{"charts":0,"images":1,"macros":0,"external_links":0,"defined_names":0,"comments":0,"pivot_tables":0},"unopened":[],"bounds":{"document_bytes":16777216,"sheet_cells":100000,"rows_first":2000,"rows_last":500,"rows_between":2000,"halvings":0,"cell_chars":16384,"cell_head_chars":4096},"cells_cut":0,"cells_raw":0,"read":"whole","date_system":"1900"}

{"sheet":"Invoerblad","index":0,"n_rows":43,"n_cols":47,"rows_kept":43,"cut":false,"hidden":false,"merged":[[0,7,0,11],[1,7,1,11],[6,7,6,13],[5,4,5,9],[2,4,2,6],[3,4,3,6],[2,7,2,11],[3,7,3,11],[31,8,31,9],[0,4,0,6],[1,4,1,6],[6,1,6,6],[23,18,23,20],[30,18,30,20],[30,8,30,9],[17,8,17,9],[18,8,18,9],[20,8,20,9],[21,8,21,9],[27,8,27,9],[28,8,28,9],[9,19,9,21],[16,18,16,20],[9,8,9,11]]}
[null,null,null,null,"Voorronde PK:",null,null,null,null,null,null,null,null,null,null,null,null,null,null,null,null,null,null,null,null,null,null,null,null,null,null,null,null,null,null,null,null,null,null,null,null,null,null,null,null,null," "]
[null,null,null,null,"Data:"]
[null,null,null,null,"Locatie:"]
[null,null,null,null,"Wedstrijdleider:",null,null,null,null,null,null,null,null,null,null,null,null,null,null,null,null,null,null,null," "]
[]
[]
[null,"NAMEN INVULLEN VOLGORDE UITNODIGING",null,null,null,null,null,"UITSLUITEND DE GELE VLAKKEN INVULLEN !"]
[]
[]
["Bondsnr","Naam","Vereniging",null,null,"Moy.","O/NO",null,"Partijlengte en moy. grens",null,null,null,null,null,null,null,null,null,null,"aantal partijen gespeeld"]
[null,null,null,null,null,null,null,null,"Te maken",null,null,null,null,null,null,null,1,{"$f":"IF(L21>0,1,FALSE)","v":1},{"$f":"IF(D25>0,1,FALSE)","v":1},{"$f":"IF(D28>0,1,FALSE)","v":1},{"$f":"IF(D31>0,1,FALSE)","v":1},{"$f":"SUM(R11:U11)","v":4},{"$f":"PRODUCT(J11,V11)","v":4}]
[null,null,null,null,null,null,null,null,null,null,null,null,null,null,null,null,2,{"$f":"IF(D18>0,1,FALSE)","v":1},{"$f":"IF(L22>0,1,FALSE)","v":1},{"$f":"IF(L28>0,1,FALSE)","v":1},{"$f":"IF(D34>0,1,FALSE)","v":1},{"$f":"SUM(R12:U12)","v":4},{"$f":"PRODUCT(J11,V12)","v":4}]
[null,null,null,null,null,null,null,null,"Moy. gr.",null,"tot",null,null,null,null,null,3,{"$f":"IF(D19>0,1,FALSE)","v":1},{"$f":"IF(D21>0,1,FALSE)","v":1},{"$f":"IF(D29>0,1,FALSE)","v":1},{"$f":"IF(L31>0,1,FALSE)","v":1},{"$f":"SUM(R13:U13)","v":4},{"$f":"PRODUCT(J11,V13)","v":4}]
[null,null,null,null,null,null,null,null,null,null,null,null,null,null,null,null,4,{"$f":"IF(L18>0,1,FALSE)","v":1},{"$f":"IF(D22>0,1,FALSE)","v":1},{"$f":"IF(D32>0,1,FALSE)","v":1},{"$f":"IF(D35>0,1,FALSE)","v":1},{"$f":"SUM(R14:U14)","v":4},{"$f":"PRODUCT(J11,V14)","v":4}]
[null,null,null,null,null,null,null,null,null,null,null,null,null,null,null,null,5,{"$f":"IF(L19>0,1,FALSE)","v":1},{"$f":"IF(D24>0,1,FALSE)","v":1},{"$f":"IF(L29>0,1,FALSE)","v":1},{"$f":"IF(L32>0,1,FALSE)","v":1},{"$f":"SUM(R15:U15)","v":4},{"$f":"PRODUCT(J11,V15)","v":4}]
[]
[null,"Partijen:","Car.","Brt.","HS","Moy.","Pnt.",null,null,null,"Car.","Brt.","HS","Moy.","Pnt.",null,null,null,"partij moyenne"]
[null,{"$f":"B12","v":0}," "," ",null,{"$f":"C18/D18","v":{"$error":"#VALUE!"}},{"$f":"Z18","v":0},null,{"$f":"B14","v":0},null," "," ",null,{"$f":"K18/L18","v":{"$error":"#VALUE!"}},{"$f":"AC18","v":0},null,1,{"$f":"IF(O21>0,N21,0)","v":0},{"$f":"IF(G25>0,F25,0)","v":0},{"$f":"IF(O28>0,N28,0)","v":0},{"$f":"IF(O31>0,N31,0)","v":0},{"$f":"MAX(R18:U18)","v":0},null,{"$f":"IF(C18=J11,1,0)","v":0},{"$f":"IF(C18>C19,1,0)","v":0},{"$f":"SUM(X18:Y18)","v":0},{"$f":"IF(K18=J11,1,0)","v":0},{"$f":"IF(K18>K19,1,0)","v":0},{"$f":"SUM(AA18:AB18)","v":0},null,2,"-",3]
[null,{"$f":"B13","v":0}," ",{"$f":"D18","v":" "},null,{"$f":"C19/D19","v":{"$error":"#VALUE!"}},{"$f":"Z19","v":0},null,{"$f":"B15","v":0},null," ",{"$f":"L18","v":" "},null,{"$f":"K19/L19","v":{"$error":"#VALUE!"}},{"$f":"AC19","v":0},null,2,{"$f":"IF(G18>0,F18,0)","v":0},{"$f":"IF(O22>0,N22,0)","v":0},{"$f":"IF(G28>0,F28,0)","v":0},{"$f":"IF(G31>0,F31,0)","v":0},{"$f":"MAX(R19:U19)","v":0},null,{"$f":"IF(C19=J11,1,0)","v":0},{"$f":"IF(C19>C18,1,0)","v":0},{"$f":"SUM(X19:Y19)","v":0},{"$f":"IF(K19=J11,1,0)","v":0},{"$f":"IF(K19>K18,1,0)","v":0},{"$f":"SUM(AA19:AB19)","v":0},null,4,"-",5]
[null,null,null,null,null,null,null,null,null,null," ",null,null,null,null,null,3,{"$f":"IF(G19>0,F19,0)","v":0},{"$f":"IF(G21>0,F21,0)","v":0},{"$f":"IF(O29>0,N29,0)","v":0},{"$f":"IF(G34>0,F34,0)","v":0},{"$f":"MAX(R20:U20)","v":0},null,null,null,null,null,null,null,null,1,"-",2]
[null,{"$f":"B13","v":0}," "," ",null,{"$f":"C21/D21","v":{"$error":"#VALUE!"}},{"$f":"Z21","v":0},null,{"$f":"B11","v":0},null," "," ",null,{"$f":"K21/L21","v":{"$error":"#VALUE!"}},{"$f":"AC21","v":0},null,4,{"$f":"IF(O18>0,N18,0)","v":0},{"$f":"IF(G22>0,F22,0)","v":0},{"$f":"IF(O32>0,N32,0)","v":0},{"$f":"IF(O32>0,N32,0)","v":0},{"$f":"MAX(R21:U21)","v":0},null,{"$f":"IF(C21=J11,1,0)","v":0},{"$f":"IF(C21>C22,1,0)","v":0},{"$f":"SUM(X21:Y21)","v":0},{"$f":"IF(K21=J11,1,0)","v":0},{"$f":"IF(K21>K22,1,0)","v":0},0,null,3,"-",4]
[null,{"$f":"B14","v":0}," ",{"$f":"D21","v":" "},null,{"$f":"C22/D22","v":{"$error":"#VALUE!"}},{"$f":"Z22","v":0},null,{"$f":"B12","v":0},null," ",{"$f":"L21","v":" "},null,{"$f":"K22/L22","v":{"$error":"#VALUE!"}},{"$f":"AC22","v":0},null,5,{"$f":"IF(O19>0,N19,0)","v":0},{"$f":"IF(G24>0,F24,0)","v":0},{"$f":"IF(G32>0,F32,0)","v":0},{"$f":"IF(G35>0,F35,0)","v":0},{"$f":"MAX(R22:U22)","v":0},null,{"$f":"IF(C22=J11,1,0)","v":0},{"$f":"IF(C22>C21,1,0)","v":0},0,{"$f":"IF(K22=J11,1,0)","v":0},{"$f":"IF(K22>K21,1,0)","v":0},0,null,1,"-",5]
[null,null,null,null,null,null,null,null,null,null,null,null,null,null,null,null,null,null,null,null,null,null,null,null,null,null,null,null,null,null,2,"-",4]
[null,{"$f":"B15","v":0}," "," ",null,{"$f":"C24/D24","v":{"$error":"#VALUE!"}},{"$f":"Z24","v":0},null,null,null," ",null,null,null,null,null,null,null,"gewonnen",null,null,null,null,{"$f":"IF(C24=J11,1,0)","v":0},{"$f":"IF(C24>C25,1,0)","v":0},0,null,null,null,null,1,"-",3]
[null,{"$f":"B11","v":0}," ",{"$f":"D24","v":" "},null,{"$f":"C25/D25","v":{"$error":"#VALUE!"}},{"$f":"Z25","v":0},null,null,null," ",null,null,null,null,null,1,{"$f":"IF(O21>1,1,0)","v":0},{"$f":"IF(G25>1,1,0)","v":0},{"$f":"IF(O28>1,1,0)","v":0},{"$f":"IF(O31>1,1,0)","v":0},{"$f":"SUM(R25:U25)","v":0},null,{"$f":"IF(C25=J11,1,0)","v":0},{"$f":"IF(C25>C24,1,0)","v":0},0,null,null,null,null,2,"-",5]
[null,null,null,null,null,null,null,null,null,null,null,null,null,null,null,null,2,{"$f":"IF(G18>1,1,0)","v":0},{"$f":"IF(O22>1,1,0)","v":0},{"$f":"IF(G28>1,1,0)","v":0},{"$f":"IF(G31>1,1,0)","v":0},{"$f":"SUM(R26:U26)","v":0},null,null,null,null,null,null,null,null,1,"-",4]
[null,null,"Car.","Brt.","HS","Moy.","Pnt.",null,null,null,"Car.","Brt.","HS","Moy.","Pnt.",null,3,{"$f":"IF(G19>1,1,0)","v":0},{"$f":"IF(G21>1,1,0)","v":0},{"$f":"IF(O29>1,1,0)","v":0},{"$f":"IF(G34>1,1,0)","v":0},{"$f":"SUM(R27:U27)","v":0},null,null,null,null,null,null,null,null,3,"-",5]
[null,{"$f":"B12","v":0}," "," ",null,{"$f":"C28/D28","v":{"$error":"#VALUE!"}},{"$f":"Z28","v":0},null,{"$f":"B11","v":0},null," "," ",null,{"$f":"K28/L28","v":{"$error":"#VALUE!"}},{"$f":"AC28","v":0},null,4,{"$f":"IF(O18>1,1,0)","v":0},{"$f":"IF(G22>1,1,0)","v":0},{"$f":"IF(G29>1,1,0)","v":0},{"$f":"IF(O32>1,1,0)","v":0},{"$f":"SUM(R28:U28)","v":0},null,{"$f":"IF(C28=J11,1,0)","v":0},{"$f":"IF(C28>C29,1,0)","v":0},{"$f":"SUM(X28:Y28)","v":0},{"$f":"IF(K28=J11,1,0)","v":0},{"$f":"IF(K28>K29,1,0)","v":0},0]
[null,{"$f":"B14","v":0}," ",{"$f":"D28","v":" "},null,{"$f":"C29/D29","v":{"$error":"#VALUE!"}},{"$f":"Z29","v":0},null,{"$f":"B13","v":0},null," ",{"$f":"L28","v":" "},null,{"$f":"K29/L29","v":{"$error":"#VALUE!"}},{"$f":"AC29","v":0},null,5,{"$f":"IF(O19>1,1,0)","v":0},{"$f":"IF(G24>1,1,0)","v":0},{"$f":"IF(G32>1,1,0)","v":0},{"$f":"IF(G35>1,1,0)","v":0},{"$f":"SUM(R29:U29)","v":0},null,{"$f":"IF(C29=J11,1,0)","v":0},{"$f":"IF(C29>C28,1,0)","v":0},0,{"$f":"IF(K29=J11,1,0)","v":0},{"$f":"IF(K29>K28,1,0)","v":0},0]
[]
[null,{"$f":"B12","v":0}," "," ",null,{"$f":"C31/D31","v":{"$error":"#VALUE!"}},{"$f":"Z31","v":0},null,{"$f":"B11","v":0},null," "," ",null,{"$f":"K31/L31","v":{"$error":"#VALUE!"}},{"$f":"AC31","v":0},null,null,null,"gelijk",null,null,null,null,{"$f":"IF(C31=J11,1,0)","v":0},{"$f":"IF(C31>C32,1,0)","v":0},0,{"$f":"IF(K31=J11,1,0)","v":0},{"$f":"IF(K31>K32,1,0)","v":0},0]
[null,{"$f":"B15","v":0}," ",{"$f":"D31","v":" "},null,{"$f":"C32/D32","v":{"$error":"#VALUE!"}},{"$f":"Z32","v":0},null,{"$f":"B14","v":0},null," ",{"$f":"L31","v":" "},null,{"$f":"K32/L32","v":{"$error":"#VALUE!"}},{"$f":"AC32","v":0},null,null,null,null,null,null,null,null,{"$f":"IF(C32=J11,1,0)","v":0},{"$f":"IF(C32>C31,1,0)","v":0},0,{"$f":"IF(K32=J11,1,0)","v":0},{"$f":"IF(K32>K31,1,0)","v":0},0]
[null,null,null,null,null,null,null,null,null,null,null,null,null,null,null,null,1,{"$f":"IF(O21=1,1,0)","v":0},{"$f":"IF(G25=1,1,0)","v":0},{"$f":"IF(O28=1,1,0)","v":0},{"$f":"IF(O31=1,1,0)","v":0},{"$f":"SUM(R33:U33)","v":0}]
[null,{"$f":"B13","v":0}," "," ",null,{"$f":"C34/D34","v":{"$error":"#VALUE!"}},{"$f":"Z34","v":0},null,null,null," ",null,null,null,null,null,2,{"$f":"IF(G18=1,1,0)","v":0},{"$f":"IF(O22=1,1,0)","v":0},{"$f":"IF(G28=1,1,0)","v":0},{"$f":"IF(G31=1,1,0)","v":0},{"$f":"SUM(R34:U34)","v":0},null,{"$f":"IF(C34=J11,1,0)","v":0},{"$f":"IF(C34>C35,1,0)","v":0},{"$f":"SUM(X34:Y34)","v":0}]
[null,{"$f":"B15","v":0}," ",{"$f":"D34","v":" "},null,{"$f":"C35/D35","v":{"$error":"#VALUE!"}},{"$f":"Z35","v":0},null,null,null," ",null,null,null,null,null,3,{"$f":"IF(G19=1,1,0)","v":0},{"$f":"IF(G21=1,1,0)","v":0},{"$f":"IF(O29=1,1,0)","v":0},{"$f":"IF(G34=1,1,0)","v":0},{"$f":"SUM(R35:U35)","v":0},null,{"$f":"IF(C35=J11,1,0)","v":0},{"$f":"IF(C35>C34,1,0)","v":0},0]
[null,null,null,null,null,null,null,null,null,null,null,null,null,null,null,null,4,{"$f":"IF(O18=1,1,0)","v":0},{"$f":"IF(G22=1,1,0)","v":0},{"$f":"IF(G29=1,1,0)","v":0},{"$f":"IF(O32=1,1,0)","v":0},{"$f":"SUM(R36:U36)","v":0}]
[null,"Stand","Car.","Brt.","HS","Moy.","Pnt.",null,null,null,null,null,null,null,null,null,5,{"$f":"IF(O19=1,1,0)","v":0},{"$f":"IF(G24=1,1,0)","v":0},{"$f":"IF(G32=1,1,0)","v":0},{"$f":"IF(G35=1,1,0)","v":0},{"$f":"SUM(R37:U37)","v":0}]
[null,{"$f":"B11","v":0},{"$f":"SUM(K21,C25,K28,K31)","v":0},{"$f":"SUM(L21,D25,L28,L31)","v":0},{"$f":"MAX(M21,E25,M28,M31)","v":0},{"$f":"C38/D38","v":{"$error":"#DIV/0!"}},{"$f":"SUM(O21,G25,O28,O31)","v":0}]
[null,{"$f":"B12","v":0},{"$f":"SUM(C18,K22,C28,C31)","v":0},{"$f":"SUM(D18,L22,D28,D31)","v":0},{"$f":"MAX(E18,M22,E28,E31)","v":0},{"$f":"C39/D39","v":{"$error":"#DIV/0!"}},{"$f":"SUM(G18,O22,G28,G31)","v":0}]
[null,{"$f":"B13","v":0},{"$f":"SUM(C19,C21,K29,C34)","v":0},{"$f":"SUM(D19,D21,L29,D34)","v":0},{"$f":"MAX(E19,E21,M29,E34)","v":0},{"$f":"C40/D40","v":{"$error":"#DIV/0!"}},{"$f":"SUM(G19,G21,O29,G34)","v":0}]
[null,{"$f":"B14","v":0},{"$f":"SUM(K18,C22,C29,K32)","v":0},{"$f":"SUM(L18,D22,D29,L32)","v":0},{"$f":"MAX(M18,E22,E29,M32)","v":0},{"$f":"C41/D41","v":{"$error":"#DIV/0!"}},{"$f":"SUM(O18,G22,G29,O32)","v":0}]
[null,{"$f":"B15","v":0},{"$f":"SUM(K19,C24,C32,C35)","v":0},{"$f":"SUM(L19,D24,D32,D35)","v":0},{"$f":"MAX(M19,E24,E32,E35)","v":0},{"$f":"C42/D42","v":{"$error":"#DIV/0!"}},{"$f":"SUM(O19,G24,G32,G35)","v":0}]
[null,null,null,null,null,null,null,null,null,null,null,null,null," "]

{"sheet":"Uitslagformulier","index":1,"n_rows":27,"n_cols":10,"rows_kept":27,"cut":false,"hidden":false,"merged":[[14,0,14,9],[15,0,15,8],[16,0,16,9],[17,0,17,9],[18,0,18,9],[11,6,11,8],[12,6,12,8],[1,0,1,3],[1,4,1,6],[1,7,1,9],[11,3,11,5],[12,3,12,5],[20,4,20,7],[21,4,21,7],[22,4,22,7],[23,0,23,3],[24,0,24,3],[20,0,20,3],[21,0,21,3],[22,0,22,3],[25,0,25,3],[26,0,26,3],[22,8,22,10],[23,8,26,10],[23,4,23,7],[24,4,24,7],[25,4,25,7],[26,4,26,7]]}
[]
["Uitslagformulier nationale voorwedstrijden ",null,null,null,{"$f":"Invoerblad!H1","v":0},null,null,{"$f":"Invoerblad!H2","v":0}]
[]
[null,"Bondsnr.","Naam","Gew.","Gelijk","Carb.","Brt.","HS.","Pnt.","Moyenne"]
[null,null,null," "," "]
[1,{"$f":"Invoerblad!A11","v":0},{"$f":"Invoerblad!B11","v":0},{"$f":"Invoerblad!V25","v":0},{"$f":"Invoerblad!V33","v":0},{"$f":"Invoerblad!C38","v":0},{"$f":"Invoerblad!D38","v":0},{"$f":"Invoerblad!E38","v":0},{"$f":"Invoerblad!G38","v":0},{"$f":"Invoerblad!F38","v":{"$error":"#DIV/0!"}}]
[2,{"$f":"Invoerblad!A12","v":0},{"$f":"Invoerblad!B12","v":0},{"$f":"Invoerblad!V26","v":0},{"$f":"Invoerblad!V34","v":0},{"$f":"Invoerblad!C39","v":0},{"$f":"Invoerblad!D39","v":0},{"$f":"Invoerblad!E39","v":0},{"$f":"Invoerblad!G39","v":0},{"$f":"Invoerblad!F39","v":{"$error":"#DIV/0!"}}]
[3,{"$f":"Invoerblad!A13","v":0},{"$f":"Invoerblad!B13","v":0},{"$f":"Invoerblad!V27","v":0},{"$f":"Invoerblad!V35","v":0},{"$f":"Invoerblad!C40","v":0},{"$f":"Invoerblad!D40","v":0},{"$f":"Invoerblad!E40","v":0},{"$f":"Invoerblad!G40","v":0},{"$f":"Invoerblad!F40","v":{"$error":"#DIV/0!"}}]
[4,{"$f":"Invoerblad!A14","v":0},{"$f":"Invoerblad!B14","v":0},{"$f":"Invoerblad!V28","v":0},{"$f":"Invoerblad!V36","v":0},{"$f":"Invoerblad!C41","v":0},{"$f":"Invoerblad!D41","v":0},{"$f":"Invoerblad!E41","v":0},{"$f":"Invoerblad!G41","v":0},{"$f":"Invoerblad!F41","v":{"$error":"#DIV/0!"}}]
[5,{"$f":"Invoerblad!A15","v":0},{"$f":"Invoerblad!B15","v":0},{"$f":"Invoerblad!V29","v":0},{"$f":"Invoerblad!V37","v":0},{"$f":"Invoerblad!C42","v":0},{"$f":"Invoerblad!D42","v":0},{"$f":"Invoerblad!E42","v":0},{"$f":"Invoerblad!G42","v":0},{"$f":"Invoerblad!F42","v":{"$error":"#DIV/0!"}}]
[]
[null,null,null,"Naam vereniging",null,null,"Datum"]
[null,null,null,{"$f":"Invoerblad!H3","v":0},null,null,{"$f":"Invoerblad!H2","v":0}]
[]
["DIT FORMULIER DUIDELIJK INGEVULD EN VOORZIEN VAN DE HANDTEKENING "]
[]
["VAN EEN LID VAN DE ORGANISERENDE VERENIGING           BINNEN 3 DAGEN "]
[]
["NA AFLOOP VAN DE VOORWEDSTRIJDEN TOEZENDEN OF MAILEN AAN:  "]
["﻿ "]
["Met vriendelijke groet"]
["Wedstrijdleider PK  Libre en Bandstoten"]
["Johan Jansink",null,null,null,null,null,null,null,"handtekening:"]
["Veemarkt 11",null,null,null,null,null,null,null,{"$f":"Invoerblad!H4","v":0}]
["7121 AH  Aalten"]
["06-40263789"]
["E-mail: j.jansink2016@gmail.com"]