{"text_format":"1","workbook":"xlsx","n_sheets":2,"sheets":["Invoerblad","Uitslagformulier"],"not_rendered":{"charts":0,"images":1,"macros":0,"external_links":0,"defined_names":0,"comments":0,"pivot_tables":0},"unopened":[],"bounds":{"document_bytes":16777216,"sheet_cells":100000,"rows_first":2000,"rows_last":500,"rows_between":2000,"halvings":0,"cell_chars":16384,"cell_head_chars":4096},"cells_cut":0,"cells_raw":0,"read":"whole","date_system":"1900"}

{"sheet":"Invoerblad","index":0,"n_rows":47,"n_cols":40,"rows_kept":47,"cut":false,"hidden":false,"merged":[[6,6,6,10],[6,1,6,5],[31,20,31,22],[1,6,1,9],[2,6,2,9],[3,6,3,9],[4,6,4,9],[31,9,31,10],[29,9,29,10],[24,20,24,22],[1,4,1,5],[2,4,2,5],[3,4,3,5],[4,4,4,5],[8,2,9,2],[8,1,9,1],[9,20,9,22],[17,20,17,22],[8,3,8,4],[9,3,9,4],[17,9,17,10],[32,9,32,10],[18,9,18,10],[19,9,19,10],[21,9,21,10],[22,9,22,10],[28,9,28,10],[27,9,27,10]]}
[null,null,null,null,null,null,null,null,null,null,null,null,null,null,null,null,null,null,null,null,null,null,null,null,null,null,null,null,null,null,null,null,null,null,null,null,null,null,null," "]
[null,null,null,null,"Voorronde PK:",null," "]
[null,null,null,null,"Data:",null," "]
[null,null,null,null,"Locatie:",null," "]
[null,null,null,null,"Wedstrijdleider:",null," ",null,null,null,null,null,null,null,null,null,null,null,null,null,null,null,null,null,null,null,null,null,null,null,null,null," "]
[]
[null,"NAMEN INVULLEN VOLGORDE UITNODIGING",null,null,null,null,"UITSLUITEND DE GELE VLAKKEN INVULLEN !"]
[]
[null,"Bondsnr","Naam","Vereniging",null,"te maken","aanvangs","Oficieel"]
[null,null,null,null,null,"car.","moy.","moyenne",null,null,null,null,null,null,null,null,null,null,null,null,"aantal partijen gespeeld"]
[null," ",null,null,null,null,null,null,null,null,null,null,null,null,null,null,null,null,1,{"$f":"IF(E22>0,1,FALSE)","v":1},{"$f":"IF(E26>0,1,FALSE)","v":1},{"$f":"IF(E29>0,1,FALSE)","v":1},{"$f":"IF(E32>0,1,FALSE)","v":1},{"$f":"SUM(T11:W11)","v":4},{"$f":"PRODUCT(F11,X11)","v":4}]
[null," ",null,null,null,null,null,null,null,null,null,null,null,null,null,null,null,null,2,{"$f":"IF(E19>0,1,FALSE)","v":1},{"$f":"IF(E23>0,1,FALSE)","v":1},{"$f":"IF(M29>0,1,FALSE)","v":1},{"$f":"IF(E35>0,1,FALSE)","v":1},{"$f":"SUM(T12:W12)","v":4},{"$f":"PRODUCT(F12,X12)","v":4}]
[null," ",null,null,null,null,null,null,null,null,null,null,null,null,null,null,null,null,3,{"$f":"IF(E20>0,1,FALSE)","v":1},{"$f":"IF(M22>0,1,FALSE)","v":1},{"$f":"IF(E30>0,1,FALSE)","v":1},{"$f":"IF(M32>0,1,FALSE)","v":1},4,4]
[null," ",null,null,null,null,null,null,null,null,null,null,null,null,null,null,null,null,4,{"$f":"IF(M19>0,1,FALSE)","v":1},{"$f":"IF(M23>0,1,FALSE)","v":1},{"$f":"IF(E33>0,1,FALSE)","v":1},{"$f":"IF(E36>0,1,FALSE)","v":1},4,4]
[null," ",null,null,null,null,null,null,null,null,null,null,null,null,null,null,null,null,5,{"$f":"IF(M20>0,1,FALSE)","v":1},{"$f":"IF(E25>0,1,FALSE)","v":1},{"$f":"IF(M30>0,1,FALSE)","v":1},{"$f":"IF(M33>0,1,FALSE)","v":1},4,4]
[null,null," ",null,null," "," "]
[null,"Partijen:"]
[null,null,"Naam","Car.","Brt.","HS","Moy.","Pnt.",null,"Naam",null,"Car.","Brt.","HS","Moy.","Pnt.",null,null,null,null,"partij moyenne"]
[null,null,{"$f":"C12","v":0}," "," ",null,{"$f":"ROUNDDOWN(D19/E19,3)","v":{"$error":"#VALUE!"}},{"$f":"AB19","v":0},null,{"$f":"C14","v":0},null," "," ",null,{"$f":"L19/M19","v":{"$error":"#VALUE!"}},{"$f":"AE19","v":0},null,null,1,{"$f":"IF(H22>0,G22,0)","v":0},{"$f":"IF(H26>0,G26,0)","v":0},{"$f":"IF(H29>0,G29,0)","v":0},{"$f":"IF(H32>0,G32,0)","v":0},{"$f":"MAX(T19:W19)","v":0},null,{"$f":"IF(D19=F12,1,0)","v":0},{"$f":"IF(D20<F13,1,0)","v":0},{"$f":"SUM(Z19:AA19)","v":0},{"$f":"IF(L19=F14,1,0)","v":0},{"$f":"IF(L20<F15,1,0)","v":0},{"$f":"SUM(AC19:AD19)","v":0}]
[null,null,{"$f":"C13","v":0}," ",{"$f":"E19","v":" "},null,{"$f":"ROUNDDOWN(D20/E20,3)","v":{"$error":"#VALUE!"}},{"$f":"AB20","v":0},null,{"$f":"C15","v":0},null," ",{"$f":"M19","v":" "},null,{"$f":"L20/M20","v":{"$error":"#VALUE!"}},{"$f":"AE20","v":0},null,null,2,{"$f":"IF(H19>0,G19)","v":false},{"$f":"IF(H23>0,G23,0)","v":0},{"$f":"IF(P29>0,O29,0)","v":0},{"$f":"IF(H35>0,G35,0)","v":0},{"$f":"MAX(T20:W20)","v":0},null,{"$f":"IF(D20=F13,1,0)","v":0},{"$f":"IF(D19<F12,1,0)","v":0},{"$f":"SUM(Z20:AA20)","v":0},{"$f":"IF(L20=F15,1,0)","v":0},{"$f":"IF(L19<F14,1,0)","v":0},{"$f":"SUM(AC20:AD20)","v":0}]
[null,null,null,null,null,null,null,null,null,null,null," ",null,null,null,null,null,null,3,{"$f":"IF(H20>0,G20,0)","v":0},{"$f":"IF(P22>0,O22,0)","v":0},{"$f":"IF(H30>0,G30,0)","v":0},{"$f":"IF(P32>0,O32,0)","v":0},0]
[null,null,{"$f":"C11","v":0}," "," ",null,{"$f":"ROUNDDOWN(D22/E22,3)","v":{"$error":"#VALUE!"}},{"$f":"AB22","v":0},null,{"$f":"C13","v":0},null," "," ",null,{"$f":"L22/M22","v":{"$error":"#VALUE!"}},{"$f":"AE22","v":0},null,null,4,{"$f":"IF(P19>0,O19,0)","v":0},{"$f":"IF(P23>0,O23,0)","v":0},{"$f":"IF(H33>0,G33,0)","v":0},{"$f":"IF(H36>0,G36,0)","v":0},0,null,{"$f":"IF(D22=F11,1,0)","v":0},{"$f":"IF(D23<F12,1,0)","v":0},{"$f":"SUM(Z22:AA22)","v":0},{"$f":"IF(L22=F13,1,0)","v":0},{"$f":"IF(L23<F14,1,0)","v":0},0]
[null,null,{"$f":"C12","v":0}," ",{"$f":"E22","v":" "},null,{"$error":"#VALUE!"},{"$f":"AB23","v":0},null,{"$f":"C14","v":0},null," ",{"$f":"M22","v":" "},null,{"$f":"L23/M23","v":{"$error":"#VALUE!"}},{"$f":"AE23","v":0},null,null,5,{"$f":"IF(P20>0,O20,0)","v":0},{"$f":"IF(H25>0,G25,0)","v":0},{"$f":"IF(P30>0,O30,0)","v":0},{"$f":"IF(P33>0,O33,0)","v":0},0,null,{"$f":"IF(D23=F12,1,0)","v":0},{"$f":"IF(D22<F11,1,0)","v":0},{"$f":"SUM(Z23:AA23)","v":0},{"$f":"IF(L23=F14,1,0)","v":0},{"$f":"IF(L22<F13,1,0)","v":0},0]
[]
[null,null,{"$f":"C15","v":0}," "," ",null,{"$f":"ROUNDDOWN(D25/E25,3)","v":{"$error":"#VALUE!"}},{"$f":"AB25","v":0},null,null,null,null,null,null,null,null,null,null,null,null,"gewonnen",null,null,null,null,{"$f":"IF(D25=F15,1,0)","v":0},{"$f":"IF(D26<F11,1,0)","v":0},0]
[null,null,{"$f":"C11","v":0}," ",{"$f":"E25","v":" "},null,{"$error":"#VALUE!"},{"$f":"AB26","v":0},null,null,null,null,null,null,null,null,null,null,1,{"$f":"IF(H22>1,1,0)","v":0},{"$f":"IF(H26>1,1,0)","v":0},{"$f":"IF(H29>1,1,0)","v":0},{"$f":"IF(H32>1,1,0)","v":0},{"$f":"SUM(T26:W26)","v":0},null,{"$f":"IF(D26=F11,1,0)","v":0},{"$f":"IF(D25<F15,1,0)","v":0},0]
[null,null,null,null,null,null,null,null,null,null,null,null,null,null,null,null,null,null,2,{"$f":"IF(H19>1,1,0)","v":0},{"$f":"IF(H23>1,1,0)","v":0},{"$f":"IF(P29>1,1,0)","v":0},{"$f":"IF(H35>1,1,0)","v":0},{"$f":"SUM(T27:W27)","v":0}]
[null,null,"Naam","Car.","Brt.","HS","Moy.","Pnt.",null,"Naam",null,"Car.","Brt.","HS","Moy.","Pnt.",null,null,3,{"$f":"IF(H20>1,1,0)","v":0},{"$f":"IF(P22>1,1,0)","v":0},{"$f":"IF(H30>1,1,0)","v":0},{"$f":"IF(P32>1,1,0)","v":0},{"$f":"SUM(T28:W28)","v":0}]
[null,null,{"$f":"C11","v":0}," "," ",null,{"$f":"ROUNDDOWN(D29/E29,3)","v":{"$error":"#VALUE!"}},{"$f":"AB29","v":0},null,{"$f":"C12","v":0},null," "," ",null,{"$f":"L29/M29","v":{"$error":"#VALUE!"}},{"$f":"AE29","v":0},null,null,4,{"$f":"IF(P19>1,1,0)","v":0},{"$f":"IF(P23>1,1,0)","v":0},{"$f":"IF(H33>1,1,0)","v":0},{"$f":"IF(H36>1,1,0)","v":0},{"$f":"SUM(T29:W29)","v":0},null,{"$f":"IF(D29=F11,1,0)","v":0},{"$f":"IF(D30<F13,1,0)","v":0},0,{"$f":"IF(L29=F12,1,0)","v":0},{"$f":"IF(L30<F15,1,0)","v":0},0]
[null,null,{"$f":"C13","v":0}," ",{"$f":"E29","v":" "},null,{"$error":"#VALUE!"},{"$f":"AB30","v":0},null,{"$f":"C15","v":0},null," ",{"$f":"M29","v":" "},null,{"$f":"L30/M30","v":{"$error":"#VALUE!"}},{"$f":"AE30","v":0},null,null,5,{"$f":"IF(P20>1,1,0)","v":0},{"$f":"IF(H25>1,1,0)","v":0},{"$f":"IF(P30>1,1,0)","v":0},{"$f":"IF(P33>1,1,0)","v":0},{"$f":"SUM(T30:W30)","v":0},null,{"$f":"IF(D30=F13,1,0)","v":0},{"$f":"IF(D29<F11,1,0)","v":0},0,{"$f":"IF(L30=F15,1,0)","v":0},{"$f":"IF(L29<F12,1,0)","v":0},0]
[]
[null,null,{"$f":"C11","v":0}," "," ",null,{"$f":"ROUNDDOWN(D32/E32,3)","v":{"$error":"#VALUE!"}},{"$f":"AB32","v":0},null,{"$f":"C13","v":0},null," "," ",null,{"$f":"L32/M32","v":{"$error":"#VALUE!"}},{"$f":"AE32","v":0},null,null,null,null,"gelijk",null,null,null,null,{"$f":"IF(D32=F11,1,0)","v":0},{"$f":"IF(D33<F14,1,0)","v":0},0,{"$f":"IF(L32=F13,1,0)","v":0},{"$f":"IF(L33<F15,1,0)","v":0},0]
[null,null,{"$f":"C14","v":0}," ",{"$f":"E32","v":" "},null,{"$error":"#VALUE!"},{"$f":"AB33","v":0},null,{"$f":"C15","v":0},null," ",{"$f":"M32","v":" "},null,{"$f":"L33/M33","v":{"$error":"#VALUE!"}},{"$f":"AE33","v":0},null,null,null,null,null,null,null,null,null,{"$f":"IF(D33=F14,1,0)","v":0},{"$f":"IF(D32<F11,1,0)","v":0},0,{"$f":"IF(L33=F15,1,0)","v":0},{"$f":"IF(L32<F13,1,0)","v":0},0]
[null,null,null,null,null,null,null,null,null,null,null,null,null,null,null,null,null,null,1,{"$f":"IF(H22=1,1,0)","v":0},{"$f":"IF(H26=1,1,0)","v":0},{"$f":"IF(H29=1,1,0)","v":0},{"$f":"IF(H32=1,1,0)","v":0},{"$f":"SUM(T34:W34)","v":0}]
[null,null,{"$f":"C12","v":0}," "," ",null,{"$f":"ROUNDDOWN(D35/E35,3)","v":{"$error":"#VALUE!"}},{"$f":"AB35","v":0},null,null,null,null,null,null,null,null,null,null,2,{"$f":"IF(H19=1,1,0)","v":0},{"$f":"IF(H23=1,1,0)","v":0},{"$f":"IF(P29=1,1,0)","v":0},{"$f":"IF(H35=1,1,0)","v":0},{"$f":"SUM(T35:W35)","v":0},null,{"$f":"IF(D35=F12,1,0)","v":0},{"$f":"IF(D36<F14,1,0)","v":0},0]
[null,null,{"$f":"C14","v":0}," ",{"$f":"E35","v":" "},null,{"$error":"#VALUE!"},{"$f":"AB36","v":0},null,null,null,null,null,null,null,null,null,null,3,{"$f":"IF(H20=1,1,0)","v":0},{"$f":"IF(P22=1,1,0)","v":0},{"$f":"IF(H30=1,1,0)","v":0},{"$f":"IF(P32=1,1,0)","v":0},{"$f":"SUM(T36:W36)","v":0},null,{"$f":"IF(D36=F14,1,0)","v":0},{"$f":"IF(D35<F12,1,0)","v":0},0]
[null,null,null,null,null,null,null,null,null,null,null,null,null,null,null,null,null,null,4,{"$f":"IF(P19=1,1,0)","v":0},{"$f":"IF(P23=1,1,0)","v":0},{"$f":"IF(H33=1,1,0)","v":0},{"$f":"IF(H36=1,1,0)","v":0},{"$f":"SUM(T37:W37)","v":0}]
[null,null,null,null,null,null,null,null,null,null,null,null,null,null,null,null,null,null,5,{"$f":"IF(P20=1,1,0)","v":0},{"$f":"IF(H25=1,1,0)","v":0},{"$f":"IF(P30=1,1,0)","v":0},{"$f":"IF(P33=1,1,0)","v":0},{"$f":"SUM(T38:W38)","v":0}]
[]
[]
[null,"Stand",null,null,null,null,null,null,null,null,"Plaatsing ",null,null,"Rangking"]
[null,null,null,"Car.","Brt.","HS","Moy.","Pnt.","% moy.","% carb.","Mp.","% moy.","% carb."]
[null,null,{"$f":"C11","v":0},{"$f":"SUM(D22,D26,D29,D32)","v":0},{"$f":"SUM(E22,E26,E29,E32)","v":0},{"$f":"MAX(F22,F26,F29,F32)","v":0},{"$f":"ROUNDDOWN(D43/E43,3)","v":{"$error":"#DIV/0!"}},{"$f":"SUM(H22,H26,H29,H32)","v":0},{"$f":"IF(OR(ISBLANK(D43),ISBLANK(E43)),\"-\",IF(AND(H11=\"NEE\",G43/G11>1),100,ROUNDDOWN(G43/G11%,1)))","v":{"$error":"#DIV/0!"}},{"$f":"D43/Y11","v":0}," "," "," ",{"$f":"SUM(K43:M43)","v":0}]
[null,null,{"$f":"C12","v":0},{"$f":"SUM(D19,D23,L29,D35)","v":0},{"$f":"SUM(E19,E23,M29,E35)","v":0},{"$f":"MAX(F19,F23,N29,F35)","v":0},{"$f":"ROUNDDOWN(D44/E44,3)","v":{"$error":"#DIV/0!"}},{"$f":"SUM(H19,H23,P29,H35)","v":0},{"$f":"IF(OR(ISBLANK(D44),ISBLANK(E44)),\"-\",IF(AND(H12=\"NEE\",G44/G12>1),100,ROUNDDOWN(G44/G12%,1)))","v":{"$error":"#DIV/0!"}},{"$f":"D44/Y12","v":0}," "," "," ",{"$f":"SUM(K44:M44)","v":0}]
[null,null,{"$f":"C13","v":0},{"$f":"SUM(D20,L22,D30,L32)","v":0},{"$f":"SUM(E20,M22,E30,M32)","v":0},{"$f":"MAX(F20,N22,F30,N32)","v":0},{"$error":"#DIV/0!"},{"$f":"SUM(H20,P22,H30,P32)","v":0},{"$f":"IF(OR(ISBLANK(D45),ISBLANK(E45)),\"-\",IF(AND(H13=\"NEE\",G45/G13>1),100,ROUNDDOWN(G45/G13%,1)))","v":{"$error":"#DIV/0!"}},{"$f":"D45/Y13","v":0}," "," "," ",0]
[null,null,{"$f":"C14","v":0},{"$f":"SUM(L19,L23,D33,D36)","v":0},{"$f":"SUM(M19,M23,E33,E36)","v":0},{"$f":"MAX(N19,N23,F33,F36)","v":0},{"$error":"#DIV/0!"},{"$f":"SUM(P19,P23,H33,H36)","v":0},{"$f":"IF(OR(ISBLANK(D46),ISBLANK(E46)),\"-\",IF(AND(H14=\"NEE\",G46/G14>1),100,ROUNDDOWN(G46/G14%,1)))","v":{"$error":"#DIV/0!"}},{"$f":"D46/Y14","v":0}," "," "," ",0]
[null,null,{"$f":"C15","v":0},{"$f":"SUM(L20,D25,L30,L33)","v":0},{"$f":"SUM(M20,E25,M30,M33)","v":0},{"$f":"MAX(N20,F25,N30,N33)","v":0},{"$error":"#DIV/0!"},{"$f":"SUM(P20,H25,P30,P33)","v":0},{"$f":"IF(OR(ISBLANK(D47),ISBLANK(E47)),\"-\",IF(AND(H15=\"NEE\",G47/G15>1),100,ROUNDDOWN(G47/G15%,1)))","v":{"$error":"#DIV/0!"}},{"$f":"D47/Y15","v":0}," "," "," ",0]

{"sheet":"Uitslagformulier","index":1,"n_rows":98,"n_cols":16,"rows_kept":98,"cut":false,"hidden":false,"merged":[[1,0,1,4],[1,5,1,9],[10,7,10,9],[11,7,11,9],[10,3,10,6],[11,3,11,6],[23,0,23,3],[24,0,24,3],[25,0,25,3],[26,0,26,3],[27,0,27,3],[25,4,25,7],[26,4,26,7],[27,4,27,7],[23,8,23,10],[23,4,23,7],[24,4,24,7],[24,8,27,11],[2,15,3,15],[2,12,2,14],[20,0,20,3],[21,0,21,3],[22,0,22,3],[20,4,20,7],[21,4,21,7],[22,4,22,7],[13,0,13,9],[14,0,14,9],[15,0,15,9],[16,0,16,9],[17,0,17,9]]}
[]
["uitslagformulier voorronden",null,null,null,null,{"$f":"Invoerblad!G2","v":" "}]
[null,null,null,null,null,null,null,null,null,null,null,null,"Plaatsing ",null,null,"Rangking"]
[null,"Bondsnr.","Naam","Gew.","Remise","Carb.","Brt.","HS.","Pnt.","Moyenne","% moy.","% carb.","Mp.","% moy.","% carb."]
[1,{"$f":"Invoerblad!B11","v":" "},{"$f":"Invoerblad!C11","v":0},{"$f":"Invoerblad!X26","v":0},{"$f":"Invoerblad!X34","v":0},{"$f":"Invoerblad!D43","v":0},{"$f":"Invoerblad!E43","v":0},{"$f":"Invoerblad!F43","v":0},{"$f":"Invoerblad!H43","v":0},{"$f":"Invoerblad!G43","v":{"$error":"#DIV/0!"}},{"$f":"Invoerblad!I43","v":{"$error":"#DIV/0!"}},{"$f":"Invoerblad!J43","v":0},{"$f":"Invoerblad!K43","v":" "},{"$f":"Invoerblad!L43","v":" "},{"$f":"Invoerblad!M43","v":" "},{"$f":"SUM(M5:O5)","v":0}]
[2,{"$f":"Invoerblad!B12","v":" "},{"$f":"Invoerblad!C12","v":0},{"$f":"Invoerblad!X27","v":0},{"$f":"Invoerblad!X35","v":0},{"$f":"Invoerblad!D44","v":0},{"$f":"Invoerblad!E44","v":0},{"$f":"Invoerblad!F44","v":0},{"$f":"Invoerblad!H44","v":0},{"$f":"Invoerblad!G44","v":{"$error":"#DIV/0!"}},{"$f":"Invoerblad!I44","v":{"$error":"#DIV/0!"}},{"$f":"Invoerblad!J44","v":0},{"$f":"Invoerblad!K44","v":" "},{"$f":"Invoerblad!L44","v":" "},{"$f":"Invoerblad!M44","v":" "},{"$f":"SUM(M6:O6)","v":0}]
[3,{"$f":"Invoerblad!B13","v":" "},{"$f":"Invoerblad!C13","v":0},{"$f":"Invoerblad!X28","v":0},{"$f":"Invoerblad!X36","v":0},{"$f":"Invoerblad!D45","v":0},{"$f":"Invoerblad!E45","v":0},{"$f":"Invoerblad!F45","v":0},{"$f":"Invoerblad!H45","v":0},{"$f":"Invoerblad!G45","v":{"$error":"#DIV/0!"}},{"$f":"Invoerblad!I45","v":{"$error":"#DIV/0!"}},{"$f":"Invoerblad!J45","v":0},{"$f":"Invoerblad!K45","v":" "},{"$f":"Invoerblad!L45","v":" "},{"$f":"Invoerblad!M45","v":" "},0]
[4,{"$f":"Invoerblad!B14","v":" "},{"$f":"Invoerblad!C14","v":0},{"$f":"Invoerblad!X29","v":0},{"$f":"Invoerblad!X37","v":0},{"$f":"Invoerblad!D46","v":0},{"$f":"Invoerblad!E46","v":0},{"$f":"Invoerblad!F46","v":0},{"$f":"Invoerblad!H46","v":0},{"$f":"Invoerblad!G46","v":{"$error":"#DIV/0!"}},{"$f":"Invoerblad!I46","v":{"$error":"#DIV/0!"}},{"$f":"Invoerblad!J46","v":0},{"$f":"Invoerblad!K46","v":" "},{"$f":"Invoerblad!L46","v":" "},{"$f":"Invoerblad!M46","v":" "},0]
[5,{"$f":"Invoerblad!B15","v":" "},{"$f":"Invoerblad!C15","v":0},{"$f":"Invoerblad!X30","v":0},{"$f":"Invoerblad!X38","v":0},{"$f":"Invoerblad!D47","v":0},{"$f":"Invoerblad!E47","v":0},{"$f":"Invoerblad!F47","v":0},{"$f":"Invoerblad!H47","v":0},{"$f":"Invoerblad!G47","v":{"$error":"#DIV/0!"}},{"$f":"Invoerblad!I47","v":{"$error":"#DIV/0!"}},{"$f":"Invoerblad!J47","v":0},{"$f":"Invoerblad!K47","v":" "},{"$f":"Invoerblad!L47","v":" "},{"$f":"Invoerblad!M47","v":" "},0]
[]
[null,null,null,"Naam vereniging",null,null,null,"Datum"]
[null,null,null,{"$f":"Invoerblad!G4","v":" "},null,null,null,{"$f":"Invoerblad!G3","v":" "}]
[]
["DIT FORMULIER DUIDELIJK INGEVULD EN VOORZIEN VAN DE HANDTEKENING "]
[]
["VAN EEN LID VAN DE ORGANISERENDE VERENIGING           BINNEN 3 DAGEN "]
[]
["NA AFLOOP VAN DE VOORWEDSTRIJDEN TOEZENDEN OF MAILEN AAN:  "]
[]
["﻿ "]
["Wedstrijdleider PK"]
["District Berkel en Slinge"]
[]
["Johan Jansink",null,null,null,null,null,null,null,"handtekening:"]
["Veemarkt 11",null,null,null,null,null,null,null,{"$f":"Invoerblad!G5","v":" "}]
["7121 AH  Aalten"]
["Tel: 0543-472292 / 06-40263789"]
["j.jansink2016@gmail.com"]
[]
[]
[]
[]
[]
[]
[]
[]
[]
[]
[]
[]
[]
[]
[]
[]
[]
[]
[]
[]
[]
[]
[]
[]
[]
[]
[]
[]
[]
[]
[]
[]
[]
[]
[]
[]
[]
[]
[]
[]
[]
[]
[]
[]
[]
[]
[]
[]
[]
[]
[]
[]
[]
[]
[]
[]
[]
[]
[]
[]
[]
[]
[]
[]
[]
[]
[]
[]
[]
[null,"made by Marco Ubbink"]