{"text_format":"1","workbook":"xlsx","n_sheets":2,"sheets":["Invoerblad","Uitslagformulier"],"not_rendered":{"charts":0,"images":1,"macros":0,"external_links":0,"defined_names":0,"comments":0,"pivot_tables":0},"unopened":[],"bounds":{"document_bytes":16777216,"sheet_cells":100000,"rows_first":2000,"rows_last":500,"rows_between":2000,"halvings":0,"cell_chars":16384,"cell_head_chars":4096},"cells_cut":0,"cells_raw":0,"read":"whole","date_system":"1900"}

{"sheet":"Invoerblad","index":0,"n_rows":47,"n_cols":43,"rows_kept":47,"cut":false,"hidden":false,"merged":[[1,5,1,8],[2,5,2,8],[3,5,3,8],[4,5,4,8],[1,2,1,4],[2,2,2,4],[3,2,3,4],[4,2,4,4],[6,1,6,4],[9,2,9,3],[17,15,17,17],[23,15,23,17],[29,15,29,17],[15,0,15,1],[7,0,7,2],[7,3,7,7],[10,13,10,16],[8,0,8,4]]}
[null,null,null,null,null,null,null,null,null,null,null,null,null,null,null,null,null,null,null,null,null,null,null,null,null,null,null,null,null,null,null,null,null,null,null,null,null,null,null,null,null,null," "]
[null,null,"Voorronde PK:"]
[null,null,"Data:"]
[null,null,"Locatie:"]
[null,null,"Wedstrijdleider:"]
[]
[]
[null,null,null,"UITSLUITEND DE GELE VLAKKEN INVULLEN !"]
[" "]
["Bondsnr","Naam","Vereniging",null,null,"Moy.","O/NO",null,"Partijlengte en moy. grens"]
[null,null,null,null,null,null,null,"Te maken",null,null,null,null,null,"aantal partijen gespeeld"]
[null,null,null,null,null,null,null,null,null,null,null,null,1,{"$f":"IF(D18>0,1,FALSE)","v":1},{"$f":"IF(D24>0,1,FALSE)","v":1},{"$f":"IF(D31>0,1,FALSE)","v":1},{"$f":"IF(D37>0,1,FALSE)","v":1},{"$f":"SUM(N12:Q12)","v":4},{"$f":"PRODUCT(I11,R12)","v":4}]
[null,null,null,null,null,null,null,"Moy. Gr."," ","tot"," ",null,2,{"$f":"IF(D19>0,1,FALSE)","v":1},{"$f":"IF(D27>0,1,FALSE)","v":1},{"$f":"IF(D34>0,1,FALSE)","v":1},{"$f":"IF(D38>0,1,FALSE)","v":1},{"$f":"SUM(N13:Q13)","v":4},{"$f":"PRODUCT(I11,R13)","v":4}]
[null," ",null,null,null,null,null,null,null,null,null,null,3,{"$f":"IF(D21>0,1,FALSE)","v":1},{"$f":"IF(D28>0,1,FALSE)","v":1},{"$f":"IF(D32>0,1,FALSE)","v":1},{"$f":"IF(D40>0,1,FALSE)","v":1},{"$f":"SUM(N14:Q14)","v":4},{"$f":"PRODUCT(I11,R14)","v":4}]
[null,null,null,null,null,null,null,null,null,null,null,null,4,{"$f":"IF(D22>0,1,FALSE)","v":1},{"$f":"IF(D25>0,1,FALSE)","v":1},{"$f":"IF(D35>0,1,FALSE)","v":1},{"$f":"IF(D41>0,1,FALSE)","v":1},{"$f":"SUM(N15:Q15)","v":4},{"$f":"PRODUCT(I11,R15)","v":4}]
["Wedstrijden",null,null,null,null,null,null,null,null,null,null,null,null,null,null,null,null,null,null,null,null,null,null,null,null,null,1,"-",2]
[null,null,"Car.","Brt.","HS","Moy.","Pnt.",null,null,null,null,null,null,null,null,null,null,null,null,null,null,null,null,null,null,null,3,"-",4]
[null,{"$f":"B11","v":0}," "," ",null,{"$f":"C18 /D18","v":{"$error":"#VALUE!"}},{"$f":"W19","v":0},null,null,null,null,null,null,null,null,"partij moyenne",null,null,null,null,null,null,null,null,null,null,1,"-",4]
[null,{"$f":"B12","v":0}," ",{"$f":"D18","v":" "},null,{"$f":"C19 /D19","v":{"$error":"#VALUE!"}},{"$f":"W20","v":0},null,null,null,null,null,null,1,{"$f":"IF(G18>0,F18,0)","v":0},{"$f":"IF(G24>0,F24,0)","v":0},{"$f":"IF(G31>0,F31,0)","v":0},{"$f":"IF(G37>0,F37,0)","v":0},{"$f":"MAX(O19:R19)","v":0},null,{"$f":"IF(C18=I11,1,0)","v":0},{"$f":"IF(C18>C19,1,0)","v":0},{"$f":"SUM(U19:V19)","v":0},null,null,null,2,"-",3]
[null,null,null,null,null,null,null,null,null,null,null,null,null,2,{"$f":"IF(G19>0,F19,0)","v":0},{"$f":"IF(G27>0,F27,0)","v":0},{"$f":"IF(G34>0,F34,0)","v":0},{"$f":"IF(G38>0,F38,0)","v":0},{"$f":"MAX(O20:R20)","v":0},null,{"$f":"IF(C19=I11,1,0)","v":0},{"$f":"IF(C19>C18,1,0)","v":0},{"$f":"SUM(U20:V20)","v":0},null,null,null,1,"-",3]
[null,{"$f":"B13","v":0}," "," ",null,{"$f":"C21/D21","v":{"$error":"#VALUE!"}},{"$f":"W22","v":0},null,null,null,null,null,null,3,{"$f":"IF(G21>0,F21,0)","v":0},{"$f":"IF(G28>0,F28,0)","v":0},{"$f":"IF(G32>0,F32,0)","v":0},{"$f":"IF(G40>0,F40,0)","v":0},{"$f":"MAX(O21:R21)","v":0},null,null,null,null,null,null,null,2,"-",4]
[null,{"$f":"B14","v":" "}," ",{"$f":"D21","v":" "},null,{"$f":"C22/D22","v":{"$error":"#VALUE!"}},{"$f":"W23","v":0},null,null,null,null,null,null,4,{"$f":"IF(G22>0,F22,0)","v":0},{"$f":"IF(G25>0,F25,0)","v":0},{"$f":"IF(G35>0,F35,0)","v":0},{"$f":"IF(G41>0,F41,0)","v":0},{"$f":"MAX(O22:R22)","v":0},null,{"$f":"IF(C21=I11,1,0)","v":0},{"$f":"IF(C21>C22,1,0)","v":0},{"$f":"SUM(U22:V22)","v":0},null,null,null,1,"-",2]
[null,null,null," ",null,null,null,null,null,null,null,null,null,null,null,null,null,null,null,null,{"$f":"IF(C22=I11,1,0)","v":0},{"$f":"IF(C22>C21,1,0)","v":0},0,null,null,null,3,"-",4]
[null,{"$f":"B11","v":0}," "," ",null,{"$f":"C24/D24","v":{"$error":"#VALUE!"}},{"$f":"W25","v":0},null,null,null,null,null,null,null,null,"gewonnen"]
[null,{"$f":"B14","v":" "}," ",{"$f":"D24","v":" "},null,{"$f":"C25/D25","v":{"$error":"#VALUE!"}},{"$f":"W26","v":0},null,null,null,null,null,null,1,{"$f":"IF(G18>1,1,0)","v":0},{"$f":"IF(G24>1,1,0)","v":0},{"$f":"IF(G31>1,1,0)","v":0},{"$f":"IF(G37>1,1,0)","v":0},{"$f":"SUM(O25:R25)","v":0},null,{"$f":"IF(C24=I11,1,0)","v":0},{"$f":"IF(C24>C25,1,0)","v":0},0]
[null,null,null,null,null,null,null,null,null,null,null,null,null,2,{"$f":"IF(G19>1,1,0)","v":0},{"$f":"IF(G27>1,1,0)","v":0},{"$f":"IF(G34>1,1,0)","v":0},{"$f":"IF(G38>1,1,0)","v":0},{"$f":"SUM(O26:R26)","v":0},null,{"$f":"IF(C25=I11,1,0)","v":0},{"$f":"IF(C25>C24,1,0)","v":0},0]
[null,{"$f":"B12","v":0}," "," ",null,{"$f":"C27/D27","v":{"$error":"#VALUE!"}},{"$f":"W28","v":0},null,null,null,null,null,null,3,{"$f":"IF(G21>1,1,0)","v":0},{"$f":"IF(G28>1,1,0)","v":0},{"$f":"IF(G32>1,1,0)","v":0},{"$f":"IF(G40>1,1,0)","v":0},{"$f":"SUM(O27:R27)","v":0}]
[null,{"$f":"B13","v":0}," ",{"$f":"D27","v":" "},null,{"$f":"C28/D28","v":{"$error":"#VALUE!"}},{"$f":"W29","v":0},null,null,null,null,null,null,4,{"$f":"IF(G22>1,1,0)","v":0},{"$f":"IF(G25>1,1,0)","v":0},{"$f":"IF(G35>1,1,0)","v":0},{"$f":"IF(G41>1,1,0)","v":0},{"$f":"SUM(O28:R28)","v":0},null,{"$f":"IF(C27=I11,1,0)","v":0},{"$f":"IF(C27>C28,1,0)","v":0},0]
[null,null,null,null,null,null,null,null,null,null,null,null,null,null,null,null,null,null,null,null,{"$f":"IF(C28=I11,1,0)","v":0},{"$f":"IF(C28>C27,1,0)","v":0},0]
[null,null,null,"Brt.",null,"Moy.","Pnt.",null,null,null,null,null,null,null,null,"gelijk"]
[null,{"$f":"B11","v":0}," "," ",null,{"$f":"C31/D31","v":{"$error":"#VALUE!"}},{"$f":"W32","v":0},null,null,null,null,null,null,1,{"$f":"IF(G18=1,1,0)","v":0},{"$f":"IF(G24=1,1,0)","v":0},{"$f":"IF(G31=1,1,0)","v":0},{"$f":"IF(G37=1,1,0)","v":0},{"$f":"SUM(O31:R31)","v":0}]
[null,{"$f":"B13","v":0}," ",{"$f":"D31","v":" "},null,{"$f":"C32/D32","v":{"$error":"#VALUE!"}},{"$f":"W33","v":0},null,null,null,null,null,null,2,{"$f":"IF(G19=1,1,0)","v":0},{"$f":"IF(G27=1,1,0)","v":0},{"$f":"IF(G34=1,1,0)","v":0},{"$f":"IF(G38=1,1,0)","v":0},{"$f":"SUM(O32:R32)","v":0},null,{"$f":"IF(C31=I11,1,0)","v":0},{"$f":"IF(C31>C32,1,0)","v":0},0]
[null,null,null,null,null,null,null,null,null,null,null,null,null,3,{"$f":"IF(G21=1,1,0)","v":0},{"$f":"IF(G28=1,1,0)","v":0},{"$f":"IF(G32=1,1,0)","v":0},{"$f":"IF(G40=1,1,0)","v":0},{"$f":"SUM(O33:R33)","v":0},null,{"$f":"IF(C32=I11,1,0)","v":0},{"$f":"IF(C32>C31,1,0)","v":0},0]
[null,{"$f":"B12","v":0}," "," ",null,{"$f":"C34/D34","v":{"$error":"#VALUE!"}},{"$f":"W35","v":0},null,null,null,null,null,null,4,{"$f":"IF(G22=1,1,0)","v":0},{"$f":"IF(G25=1,1,0)","v":0},{"$f":"IF(G35=1,1,0)","v":0},{"$f":"IF(G41=1,1,0)","v":0},{"$f":"SUM(O34:R34)","v":0}]
[null,{"$f":"B14","v":" "}," ",{"$f":"D34","v":" "},null,{"$f":"C35/D35","v":{"$error":"#VALUE!"}},{"$f":"W36","v":0},null,null,null,null,null,null,null,null,null,null,null,null,null,{"$f":"IF(C34=I11,1,0)","v":0},{"$f":"IF(C34>C35,1,0)","v":0},0]
[null,null,null,null,null,null,null,null,null,null,null,null,null,null,null,null,null,null,null,null,{"$f":"IF(C35=I11,1,0)","v":0},{"$f":"IF(C35>C34,1,0)","v":0},0]
[null,{"$f":"B11","v":0}," "," ",null,{"$f":"C37/D37","v":{"$error":"#VALUE!"}},{"$f":"W38","v":0}]
[null,{"$f":"B12","v":0}," ",{"$f":"D37","v":" "},null,{"$f":"C38/D38","v":{"$error":"#VALUE!"}},{"$f":"W39","v":0},null,null,null,null,null,null,null,null,null,null,null,null,null,{"$f":"IF(C37=I11,1,0)","v":0},{"$f":"IF(C37>C38,1,0)","v":0},0]
[null,null,null,null,null,null,null,null,null,null,null,null,null,null,null,null,null,null,null,null,{"$f":"IF(C38=I11,1,0)","v":0},{"$f":"IF(C38>C37,1,0)","v":0},0]
[null,{"$f":"B13","v":0}," "," ",null,{"$f":"C40/D40","v":{"$error":"#VALUE!"}},{"$f":"W41","v":0}]
[null,{"$f":"B14","v":" "}," ",{"$f":"D40","v":" "},null,{"$f":"C41/D41","v":{"$error":"#VALUE!"}},{"$f":"W42","v":0},null,null,null,null,null,null,null,null,null,null,null,null,null,{"$f":"IF(C40=I11,1,0)","v":0},{"$f":"IF(C40>C41,1,0)","v":0},0]
["Stand",null,null,null,null,null,null,null,null,null,null,null,null,null,null,null,null,null,null,null,{"$f":"IF(C41=I11,1,0)","v":0},{"$f":"IF(C41>C40,1,0)","v":0},0]
[null,null,"Car.","Brt.","HS","Moy.","Pnt."]
[null,{"$f":"B11","v":0},{"$f":"SUM(C18,C24,C31,C37)","v":0},{"$f":"SUM(D18,D24,D31,D37)","v":0},{"$f":"MAX(E18,E24,E31,E37)","v":0},{"$f":"C44/D44","v":{"$error":"#DIV/0!"}},{"$f":"SUM(G18,G24,G31,G37)","v":0}]
[null,{"$f":"B12","v":0},{"$f":"SUM(C19,C27,C34,C38)","v":0},{"$f":"SUM(D19,D27,D34,D38)","v":0},{"$f":"MAX(E19,E27,E34,E38)","v":0},{"$f":"C45/D45","v":{"$error":"#DIV/0!"}},{"$f":"SUM(G19,G27,G34,G38)","v":0}]
[null,{"$f":"B13","v":0},{"$f":"SUM(C21,C28,C32,C40)","v":0},{"$f":"SUM(D21,D28,D32,D40)","v":0},{"$f":"MAX(E21,E28,E32,E40)","v":0},{"$f":"C46/D46","v":{"$error":"#DIV/0!"}},{"$f":"SUM(G21,G28,G32,G40)","v":0}]
[null,{"$f":"B14","v":" "},{"$f":"SUM(C22,C25,C35,C41)","v":0},{"$f":"SUM(D22,D25,D35,D41)","v":0},{"$f":"MAX(E22,E25,E35,E41)","v":0},{"$f":"C47/D47","v":{"$error":"#DIV/0!"}},{"$f":"SUM(G22,G25,G35,G41)","v":0}]

{"sheet":"Uitslagformulier","index":1,"n_rows":93,"n_cols":10,"rows_kept":93,"cut":false,"hidden":false,"merged":[[13,0,13,9],[15,0,15,9],[16,0,16,9],[17,0,17,9],[14,0,14,8],[10,7,10,9],[11,7,11,9],[1,1,1,4],[1,5,1,9],[10,3,10,6],[11,3,11,6],[19,0,19,3],[19,4,19,6],[20,0,20,3],[20,4,20,6],[21,0,21,3],[21,4,21,6],[21,7,21,9],[22,0,22,3],[22,4,22,6],[22,7,25,9],[23,0,23,3],[23,4,23,6],[24,0,24,3],[24,4,24,6],[25,0,25,3],[25,4,25,6]]}
[]
[null,"Uitslagformulier nationale voorwedstrijden ",null,null,null,{"$f":"Invoerblad!E2","v":0}]
[]
[null,"Bondsnr.","Naam","Gew.","Remise","Car.","Brt.","HS.","Pnt.","Moyenne"]
[null,null,null," "," "]
[1,{"$f":"Invoerblad!A11","v":0},{"$f":"Invoerblad!B11","v":0},{"$f":"Invoerblad!S25","v":0},{"$f":"Invoerblad!S31","v":0},{"$f":"Invoerblad!C44","v":0},{"$f":"Invoerblad!D44","v":0},{"$f":"Invoerblad!E44","v":0},{"$f":"Invoerblad!G44","v":0},{"$f":"Invoerblad!F44","v":{"$error":"#DIV/0!"}}]
[2,{"$f":"Invoerblad!A12","v":0},{"$f":"Invoerblad!B12","v":0},{"$f":"Invoerblad!S26","v":0},{"$f":"Invoerblad!S32","v":0},{"$f":"Invoerblad!C45","v":0},{"$f":"Invoerblad!D45","v":0},{"$f":"Invoerblad!E45","v":0},{"$f":"Invoerblad!G45","v":0},{"$f":"Invoerblad!F45","v":{"$error":"#DIV/0!"}}]
[3,{"$f":"Invoerblad!A13","v":0},{"$f":"Invoerblad!B13","v":0},{"$f":"Invoerblad!S27","v":0},{"$f":"Invoerblad!S33","v":0},{"$f":"Invoerblad!C46","v":0},{"$f":"Invoerblad!D46","v":0},{"$f":"Invoerblad!E46","v":0},{"$f":"Invoerblad!G46","v":0},{"$f":"Invoerblad!F46","v":{"$error":"#DIV/0!"}}]
[4,{"$f":"Invoerblad!A14","v":0},{"$f":"Invoerblad!B14","v":" "},{"$f":"Invoerblad!S28","v":0},{"$f":"Invoerblad!S34","v":0},{"$f":"Invoerblad!C47","v":0},{"$f":"Invoerblad!D47","v":0},{"$f":"Invoerblad!E47","v":0},{"$f":"Invoerblad!G47","v":0},{"$f":"Invoerblad!F47","v":{"$error":"#DIV/0!"}}]
[]
[null,null,null,"Naam vereniging",null,null,null,"Datum"]
[null,null,null,{"$f":"Invoerblad!E4","v":0},null,null,null,{"$f":"TODAY()","v":"2023-11-14"}]
[]
["DIT FORMULIER DUIDELIJK INGEVULD EN VOORZIEN VAN DE HANDTEKENING "]
[]
["VAN EEN LID VAN DE ORGANISERENDE VERENIGING           BINNEN 3 DAGEN "]
[]
["NA AFLOOP VAN DE VOORWEDSTRIJDEN TOEZENDEN OF MAILEN AAN:  "]
["﻿ "]
["Met vriendelijke groet"]
["Wedstrijdleider PK  Libre en Bandstoten"]
["Johan Jansink",null,null,null,null,null,null,"handtekening:"]
["Veemarkt 11",null,null,null,null,null,null,0]
["7121 AH  Aalten"]
["Tel: 0543-472292 / 06-40263789"]
["j.jansink2016@gmail.com"]
[]
[]
[]
[]
[]
[]
[]
[]
[]
[]
[]
[]
[]
[]
[]
[]
[]
[]
[]
[]
[]
[]
[]
[]
[]
[]
[]
[]
[]
[]
[]
[]
[]
[]
[]
[]
[]
[]
[]
[]
[]
[]
[]
[]
[]
[]
[]
[]
[]
[]
[]
[]
[]
[]
[]
[]
[]
[]
[]
[]
[]
[]
[]
[]
[]
[]
[null,"made by Marco Ubbink"]